{"text_format":"3","workbook":"xlsx","n_sheets":17,"sheets":["СХЕМА","Исходные","Приложение 1 (На печать 1)","Приложение 2 (На печать 2)","4.4. Реклама","4.5. Цена","4.6. План сбыта","5.4.1. Сырье и материалы","5.1. График","5.2. Помещения","5.3. Оборудование","5.3. Кап.вложения","5.4.2. Накладные  затраты","6.1. Персонал","Поквартально","Вставить таблицы по тексту","Лист1"],"not_rendered":{"charts":2,"macros":1,"defined_names":30,"comments":5},"read":"whole","date_system":"1900"}

{"sheet":"СХЕМА","index":0,"n_rows":1,"n_cols":2,"rows_kept":1,"merged":[[0,1,0,17]]}
[null,"ОБЩАЯ СХЕМА БИЗНЕС-ПЛАНА"]

{"sheet":"Исходные","index":1,"n_rows":23,"n_cols":6,"rows_kept":23,"merged":[[2,0,2,1],[10,7,13,7]]}
["Программа расчета финансовой части бизнес-плана для начинающих предпринимателей (версия 3.0)"]
["Разработчик: Мурманское региональное агентство поддержки малого и среднего бизнеса"]
["Все права защищены. Никакая часть данной программы не может быть воспроизведена в какой бы то ни было форме без письменного разрешения владельцев авторских прав. "]
["© Мурманское региональное агентство поддержки малого и среднего бизнеса, 2011"]
["www.murbiz.ru"]
["ВНИМАНИЕ!!! "]
["Ячейки, выделенные желтым цветом предназначены для внесения информации по проекту"]
["Редактирование ячеек без выделения не рекомендуется."]
["Расчет действителен при применении УСН, ЕНВД, ЕСХН. Период планирования 1 год."]
["ИСХОДНЫЕ ДАННЫЕ ДЛЯ БИЗНЕС-ПЛАНА ПРОЕКТА"]
["Инициатор проекта (ФИО):",{"$nulls":3},"янв",2011]
["Наименование проекта:",{"$nulls":3},"фев",2012]
["Город",{"$nulls":3},"мар",2013]
["Вид деятельности:",{"$nulls":3},"апр",2014]
["Продукция (услуги) проекта:",{"$nulls":3},"май",2015]
["Система налогообложения:",null,9,null,"июн",2016]
["Дата начала проекта:",{"$f":"DATE(C18,C17,1)","v":"2019-01-01"},1,null,"июл",2017]
["Валюта проекта:","руб.",{"$f":"INDEX(F11:F22,C16,1)","v":2019},null,"авг",2018]
["Горизонт планирования:","12 месяцев",null,null,"сен",2019]
[{"$nulls":4},"окт",2020]
["НАЧАТЬ ВВОД  ДАННЫХ ПО ПРОЕКТУ",{"$nulls":3},"ноя",2021]
[{"$nulls":4},"дек",2022]
["Социальные выплаты",{"v":0.3,"d":"30%"}]

{"sheet":"Приложение 1 (На печать 1)","index":2,"n_rows":95,"n_cols":15,"rows_kept":95,"merged":[[0,1,0,13],[1,1,1,13],[14,0,14,14],[15,0,15,14],[22,0,22,14],[23,0,23,14],[28,0,28,14],[34,0,34,14],[46,0,46,14],[52,0,52,14],[57,0,57,14],[63,0,63,14]]}
["Ф.И.О. инициатора проекта: ",{"$f":"Исходные!B11","v":0}]
["Местонахождение проекта:",{"$f":"Исходные!B13","v":0}]
["Краткое название проекта:",{"$f":"Исходные!B12","v":0}]
[]
["ПРОГНОЗ ФИНАНСОВЫХ РЕЗУЛЬТАТОВ ПРОИЗВОДСТВЕННОЙ И СБЫТОВОЙ ДЕЯТЕЛЬНОСТИ НА ПЕРВЫЙ ГОД РЕАЛИЗАЦИИ ПРОЕКТА",{"$nulls":13},"Приложение"]
[{"$nulls":14},{"$f":"Исходные!B18","v":"руб."}]
["Период ( месяц)","до начала реализации проекта",1,2,3,4,5,6,7,8,9,10,11,12,"ИТОГО"]
[null,{"$f":"Исходные!B17","v":"2019-01-01"},{"$f":"B8+31","v":"2019-02-01"},"2019-03-04","2019-04-04","2019-05-05","2019-06-05","2019-07-06","2019-08-06","2019-09-06","2019-10-07","2019-11-07","2019-12-08","2020-01-08","за год"]
["I.  ДОХОДЫ ПО ПРОЕКТУ"]
["Выручка от продажи товаров, работ, оказания услуг",0,{"$f":"'4.6. План сбыта'!D6","v":0},{"$f":"'4.6. План сбыта'!E6","v":0},{"$f":"'4.6. План сбыта'!F6","v":0},{"$f":"'4.6. План сбыта'!G6","v":0},{"$f":"'4.6. План сбыта'!H6","v":0},{"$f":"'4.6. План сбыта'!I6","v":0},{"$f":"'4.6. План сбыта'!J6","v":0},{"$f":"'4.6. План сбыта'!K6","v":0},{"$f":"'4.6. План сбыта'!L6","v":0},{"$f":"'4.6. План сбыта'!M6","v":0},{"$f":"'4.6. План сбыта'!N6","v":0},{"$f":"'4.6. План сбыта'!O6","v":0},{"$f":"SUM(B10:N10)","v":0}]
["Государственные субсидии (МРПиП МО)",0,0,0,0,0,0,0,0,0,0,0,0,0,{"$f":"SUM(B11:N11)","v":0}]
["Единовременная выплата ГСЗН (включая субсидию на создание рабочего места)",null,0,0,0,0,0,0,0,0,0,0,0,0,{"$f":"SUM(B12:N12)","v":0}]
["Субвенция ГСЗН (на гос.регистрацию)",0,0,0,0,0,0,0,0,0,0,0,0,0,{"$f":"SUM(B13:N13)","v":0}]
["ВСЕГО ДОХОДОВ (А):",{"$f":"SUM(B10:B13)","v":0},0,0,0,0,0,0,0,0,0,0,0,0,0]
[]
["ИНЫЕ ПОСТУПЛЕНИЯ"]
["Собственные средства",0,0,0,0,0,0,0,0,0,0,0,0,0,{"$f":"SUM(B17:N17)","v":0}]
["Кредит (ссуда)",0,0,0,0,0,0,0,0,0,0,0,0,0,{"$f":"SUM(B18:N18)","v":0}]
["Средства из других источников",0,0,0,0,0,0,0,0,0,0,0,0,0,{"$f":"SUM(B19:N19)","v":0}]
["ВСЕГО ИНЫХ ПОСТУПЛЕНИЙ (Б):",{"$f":"SUM(B17:B19)","v":0},0,0,0,0,0,0,0,0,0,0,0,0,{"$f":"SUM(B20:N20)","v":0}]
[]
["II.  РАСХОДЫ ПО ПРОЕКТУ"]
[]
["1. ПРЯМЫЕ ЗАТРАТЫ"]
["1.1.Сырье, материалы",{"$f":"'5.4.1. Сырье и материалы'!D5","v":0},{"$f":"'5.4.1. Сырье и материалы'!E5","v":0},{"$f":"'5.4.1. Сырье и материалы'!F5","v":0},{"$f":"'5.4.1. Сырье и материалы'!G5","v":0},{"$f":"'5.4.1. Сырье и материалы'!H5","v":0},{"$f":"'5.4.1. Сырье и материалы'!I5","v":0},{"$f":"'5.4.1. Сырье и материалы'!J5","v":0},{"$f":"'5.4.1. Сырье и материалы'!K5","v":0},{"$f":"'5.4.1. Сырье и материалы'!L5","v":0},{"$f":"'5.4.1. Сырье и материалы'!M5","v":0},{"$f":"'5.4.1. Сырье и материалы'!N5","v":0},{"$f":"'5.4.1. Сырье и материалы'!O5","v":0},{"$f":"'5.4.1. Сырье и материалы'!P5","v":0},{"$f":"SUM(B25:N25)","v":0}]
["1.2.Комплектующие",{"$f":"'5.4.1. Сырье и материалы'!D55","v":0},{"$f":"'5.4.1. Сырье и материалы'!E55","v":0},{"$f":"'5.4.1. Сырье и материалы'!F55","v":0},{"$f":"'5.4.1. Сырье и материалы'!G55","v":0},{"$f":"'5.4.1. Сырье и материалы'!H55","v":0},{"$f":"'5.4.1. Сырье и материалы'!I55","v":0},{"$f":"'5.4.1. Сырье и материалы'!J55","v":0},{"$f":"'5.4.1. Сырье и материалы'!K55","v":0},{"$f":"'5.4.1. Сырье и материалы'!L55","v":0},{"$f":"'5.4.1. Сырье и материалы'!M55","v":0},{"$f":"'5.4.1. Сырье и материалы'!N55","v":0},{"$f":"'5.4.1. Сырье и материалы'!O55","v":0},{"$f":"'5.4.1. Сырье и материалы'!P55","v":0},{"$f":"SUM(B26:N26)","v":0}]
["1.3.Оплата труда производственного персонала ","Х",{"$f":"'6.1. Персонал'!D6","v":0},{"$f":"'6.1. Персонал'!E6","v":0},{"$f":"'6.1. Персонал'!F6","v":0},{"$f":"'6.1. Персонал'!G6","v":0},{"$f":"'6.1. Персонал'!H6","v":0},{"$f":"'6.1. Персонал'!I6","v":0},{"$f":"'6.1. Персонал'!J6","v":0},{"$f":"'6.1. Персонал'!K6","v":0},{"$f":"'6.1. Персонал'!L6","v":0},{"$f":"'6.1. Персонал'!M6","v":0},{"$f":"'6.1. Персонал'!N6","v":0},{"$f":"'6.1. Персонал'!O6","v":0},{"$f":"SUM(B27:N27)","v":0}]
["Итого прямые затраты:",{"$f":"SUM(B25:B27)","v":0},0,0,0,0,0,0,0,0,0,0,0,0,{"$f":"SUM(B28:N28)","v":0}]
["2. ПРОИЗВОДСТВЕННЫЕ ЗАТРАТЫ"]
["2.1.Обучение производственного персонала",{"$f":"'5.4.2. Накладные  затраты'!C7","v":0},{"$f":"'5.4.2. Накладные  затраты'!D7","v":0},{"$f":"'5.4.2. Накладные  затраты'!E7","v":0},{"$f":"'5.4.2. Накладные  затраты'!F7","v":0},{"$f":"'5.4.2. Накладные  затраты'!G7","v":0},{"$f":"'5.4.2. Накладные  затраты'!H7","v":0},{"$f":"'5.4.2. Накладные  затраты'!I7","v":0},{"$f":"'5.4.2. Накладные  затраты'!J7","v":0},{"$f":"'5.4.2. Накладные  затраты'!K7","v":0},{"$f":"'5.4.2. Накладные  затраты'!L7","v":0},{"$f":"'5.4.2. Накладные  затраты'!M7","v":0},{"$f":"'5.4.2. Накладные  затраты'!N7","v":0},{"$f":"'5.4.2. Накладные  затраты'!O7","v":0},{"$f":"SUM(B30:N30)","v":0}]
["2.2.Аренда производственных площадей",{"$f":"'5.4.2. Накладные  затраты'!C9","v":0},{"$f":"'5.4.2. Накладные  затраты'!D9","v":0},{"$f":"'5.4.2. Накладные  затраты'!E9","v":0},{"$f":"'5.4.2. Накладные  затраты'!F9","v":0},{"$f":"'5.4.2. Накладные  затраты'!G9","v":0},{"$f":"'5.4.2. Накладные  затраты'!H9","v":0},{"$f":"'5.4.2. Накладные  затраты'!I9","v":0},{"$f":"'5.4.2. Накладные  затраты'!J9","v":0},{"$f":"'5.4.2. Накладные  затраты'!K9","v":0},{"$f":"'5.4.2. Накладные  затраты'!L9","v":0},{"$f":"'5.4.2. Накладные  затраты'!M9","v":0},{"$f":"'5.4.2. Накладные  затраты'!N9","v":0},{"$f":"'5.2. Помещения'!O7","v":0},{"$f":"SUM(B31:N31)","v":0}]
["2.3.Коммунальные платежи по производственным помещениям ",{"$f":"'5.4.2. Накладные  затраты'!C10","v":0},{"$f":"'5.4.2. Накладные  затраты'!D10","v":0},{"$f":"'5.4.2. Накладные  затраты'!E10","v":0},{"$f":"'5.4.2. Накладные  затраты'!F10","v":0},{"$f":"'5.4.2. Накладные  затраты'!G10","v":0},{"$f":"'5.4.2. Накладные  затраты'!H10","v":0},{"$f":"'5.4.2. Накладные  затраты'!I10","v":0},{"$f":"'5.4.2. Накладные  затраты'!J10","v":0},{"$f":"'5.4.2. Накладные  затраты'!K10","v":0},{"$f":"'5.4.2. Накладные  затраты'!L10","v":0},{"$f":"'5.4.2. Накладные  затраты'!M10","v":0},{"$f":"'5.4.2. Накладные  затраты'!N10","v":0},{"$f":"'5.4.2. Накладные  затраты'!O10","v":0},{"$f":"SUM(B32:N32)","v":0}]
["2.4.Транспортные расходы для производства",{"$f":"'5.4.2. Накладные  затраты'!C8","v":0},{"$f":"'5.4.2. Накладные  затраты'!D8","v":0},{"$f":"'5.4.2. Накладные  затраты'!E8","v":0},{"$f":"'5.4.2. Накладные  затраты'!F8","v":0},{"$f":"'5.4.2. Накладные  затраты'!G8","v":0},{"$f":"'5.4.2. Накладные  затраты'!H8","v":0},{"$f":"'5.4.2. Накладные  затраты'!I8","v":0},{"$f":"'5.4.2. Накладные  затраты'!J8","v":0},{"$f":"'5.4.2. Накладные  затраты'!K8","v":0},{"$f":"'5.4.2. Накладные  затраты'!L8","v":0},{"$f":"'5.4.2. Накладные  затраты'!M8","v":0},{"$f":"'5.4.2. Накладные  затраты'!N8","v":0},{"$f":"'5.4.2. Накладные  затраты'!O8","v":0},{"$f":"SUM(B33:N33)","v":0}]
["Итого производственные затраты:",{"$f":"SUM(B30:B33)","v":0},{"$f":"SUM(C30:C33)","v":0},0,0,0,0,0,0,0,0,0,0,0,{"$f":"SUM(B34:N34)","v":0}]
["3. АДМИНИСТРАТИВНЫЕ ЗАТРАТЫ"]
["3.1.Оплата труда административного персонала ",{"$f":"'5.4.2. Накладные  затраты'!C16","v":"Х"},{"$f":"'6.1. Персонал'!D5","v":0},{"$f":"'6.1. Персонал'!E5","v":0},{"$f":"'6.1. Персонал'!F5","v":0},{"$f":"'6.1. Персонал'!G5","v":0},{"$f":"'6.1. Персонал'!H5","v":0},{"$f":"'6.1. Персонал'!I5","v":0},{"$f":"'6.1. Персонал'!J5","v":0},{"$f":"'6.1. Персонал'!K5","v":0},{"$f":"'6.1. Персонал'!L5","v":0},{"$f":"'6.1. Персонал'!M5","v":0},{"$f":"'6.1. Персонал'!N5","v":0},{"$f":"'6.1. Персонал'!O5","v":0},{"$f":"SUM(B36:N36)","v":0}]
["3.2.Аренда офисных помещений",{"$f":"'5.4.2. Накладные  затраты'!C17","v":0},{"$f":"'5.4.2. Накладные  затраты'!D17","v":0},{"$f":"'5.4.2. Накладные  затраты'!E17","v":0},{"$f":"'5.4.2. Накладные  затраты'!F17","v":0},{"$f":"'5.4.2. Накладные  затраты'!G17","v":0},{"$f":"'5.4.2. Накладные  затраты'!H17","v":0},{"$f":"'5.4.2. Накладные  затраты'!I17","v":0},{"$f":"'5.4.2. Накладные  затраты'!J17","v":0},{"$f":"'5.4.2. Накладные  затраты'!K17","v":0},{"$f":"'5.4.2. Накладные  затраты'!L17","v":0},{"$f":"'5.4.2. Накладные  затраты'!M17","v":0},{"$f":"'5.4.2. Накладные  затраты'!N17","v":0},{"$f":"'5.4.2. Накладные  затраты'!O17","v":0},0]
["3.3.Коммунальные платежи по офисным помещениям ",{"$f":"'5.4.2. Накладные  затраты'!C18","v":0},{"$f":"'5.4.2. Накладные  затраты'!D18","v":0},{"$f":"'5.4.2. Накладные  затраты'!E18","v":0},{"$f":"'5.4.2. Накладные  затраты'!F18","v":0},{"$f":"'5.4.2. Накладные  затраты'!G18","v":0},{"$f":"'5.4.2. Накладные  затраты'!H18","v":0},{"$f":"'5.4.2. Накладные  затраты'!I18","v":0},{"$f":"'5.4.2. Накладные  затраты'!J18","v":0},{"$f":"'5.4.2. Накладные  затраты'!K18","v":0},{"$f":"'5.4.2. Накладные  затраты'!L18","v":0},{"$f":"'5.4.2. Накладные  затраты'!M18","v":0},{"$f":"'5.4.2. Накладные  затраты'!N18","v":0},{"$f":"'5.4.2. Накладные  затраты'!O18","v":0},0]
["3.4.Связь, коммуникации (в т.ч. Интернет)",{"$f":"'5.4.2. Накладные  затраты'!C19","v":0},{"$f":"'5.4.2. Накладные  затраты'!D19","v":0},{"$f":"'5.4.2. Накладные  затраты'!E19","v":0},{"$f":"'5.4.2. Накладные  затраты'!F19","v":0},{"$f":"'5.4.2. Накладные  затраты'!G19","v":0},{"$f":"'5.4.2. Накладные  затраты'!H19","v":0},{"$f":"'5.4.2. Накладные  затраты'!I19","v":0},{"$f":"'5.4.2. Накладные  затраты'!J19","v":0},{"$f":"'5.4.2. Накладные  затраты'!K19","v":0},{"$f":"'5.4.2. Накладные  затраты'!L19","v":0},{"$f":"'5.4.2. Накладные  затраты'!M19","v":0},{"$f":"'5.4.2. Накладные  затраты'!N19","v":0},{"$f":"'5.4.2. Накладные  затраты'!O19","v":0},0]
["3.5.Канцелярские товары",{"$f":"'5.4.2. Накладные  затраты'!C20","v":"Х"},{"$f":"'5.4.2. Накладные  затраты'!D20","v":0},{"$f":"'5.4.2. Накладные  затраты'!E20","v":0},{"$f":"'5.4.2. Накладные  затраты'!F20","v":0},{"$f":"'5.4.2. Накладные  затраты'!G20","v":0},{"$f":"'5.4.2. Накладные  затраты'!H20","v":0},{"$f":"'5.4.2. Накладные  затраты'!I20","v":0},{"$f":"'5.4.2. Накладные  затраты'!J20","v":0},{"$f":"'5.4.2. Накладные  затраты'!K20","v":0},{"$f":"'5.4.2. Накладные  затраты'!L20","v":0},{"$f":"'5.4.2. Накладные  затраты'!M20","v":0},{"$f":"'5.4.2. Накладные  затраты'!N20","v":0},{"$f":"'5.4.2. Накладные  затраты'!O20","v":0},0]
["3.6.Услуги бухгалтерии (по договору)",{"$f":"'5.4.2. Накладные  затраты'!C21","v":0},{"$f":"'5.4.2. Накладные  затраты'!D21","v":0},{"$f":"'5.4.2. Накладные  затраты'!E21","v":0},{"$f":"'5.4.2. Накладные  затраты'!F21","v":0},{"$f":"'5.4.2. Накладные  затраты'!G21","v":0},{"$f":"'5.4.2. Накладные  затраты'!H21","v":0},{"$f":"'5.4.2. Накладные  затраты'!I21","v":0},{"$f":"'5.4.2. Накладные  затраты'!J21","v":0},{"$f":"'5.4.2. Накладные  затраты'!K21","v":0},{"$f":"'5.4.2. Накладные  затраты'!L21","v":0},{"$f":"'5.4.2. Накладные  затраты'!M21","v":0},{"$f":"'5.4.2. Накладные  затраты'!N21","v":0},{"$f":"'5.4.2. Накладные  затраты'!O21","v":0},0]
["3.6.Услуги банка (по договору)",{"$f":"'5.4.2. Накладные  затраты'!C22","v":0},{"$f":"'5.4.2. Накладные  затраты'!D22","v":0},{"$f":"'5.4.2. Накладные  затраты'!E22","v":0},{"$f":"'5.4.2. Накладные  затраты'!F22","v":0},{"$f":"'5.4.2. Накладные  затраты'!G22","v":0},{"$f":"'5.4.2. Накладные  затраты'!H22","v":0},{"$f":"'5.4.2. Накладные  затраты'!I22","v":0},{"$f":"'5.4.2. Накладные  затраты'!J22","v":0},{"$f":"'5.4.2. Накладные  затраты'!K22","v":0},{"$f":"'5.4.2. Накладные  затраты'!L22","v":0},{"$f":"'5.4.2. Накладные  затраты'!M22","v":0},{"$f":"'5.4.2. Накладные  затраты'!N22","v":0},{"$f":"'5.4.2. Накладные  затраты'!O22","v":0},0]
["3.8.Услуги прочих сторонних организаций",{"$f":"'5.4.2. Накладные  затраты'!C23","v":0},{"$f":"'5.4.2. Накладные  затраты'!D23","v":0},{"$f":"'5.4.2. Накладные  затраты'!E23","v":0},{"$f":"'5.4.2. Накладные  затраты'!F23","v":0},{"$f":"'5.4.2. Накладные  затраты'!G23","v":0},{"$f":"'5.4.2. Накладные  затраты'!H23","v":0},{"$f":"'5.4.2. Накладные  затраты'!I23","v":0},{"$f":"'5.4.2. Накладные  затраты'!J23","v":0},{"$f":"'5.4.2. Накладные  затраты'!K23","v":0},{"$f":"'5.4.2. Накладные  затраты'!L23","v":0},{"$f":"'5.4.2. Накладные  затраты'!M23","v":0},{"$f":"'5.4.2. Накладные  затраты'!N23","v":0},{"$f":"'5.4.2. Накладные  затраты'!O23","v":0},0]
["3.9.Прочие административные расходы",{"$f":"'5.4.2. Накладные  затраты'!C24","v":0},{"$f":"'5.4.2. Накладные  затраты'!D24","v":0},{"$f":"'5.4.2. Накладные  затраты'!E24","v":0},{"$f":"'5.4.2. Накладные  затраты'!F24","v":0},{"$f":"'5.4.2. Накладные  затраты'!G24","v":0},{"$f":"'5.4.2. Накладные  затраты'!H24","v":0},{"$f":"'5.4.2. Накладные  затраты'!I24","v":0},{"$f":"'5.4.2. Накладные  затраты'!J24","v":0},{"$f":"'5.4.2. Накладные  затраты'!K24","v":0},{"$f":"'5.4.2. Накладные  затраты'!L24","v":0},{"$f":"'5.4.2. Накладные  затраты'!M24","v":0},{"$f":"'5.4.2. Накладные  затраты'!N24","v":0},{"$f":"'5.4.2. Накладные  затраты'!O24","v":0},0]
["Итого административные затраты:",{"$f":"SUM(B36:B44)","v":0},0,0,0,0,0,0,0,0,0,0,0,0,0]
[]
["4.ЗАТРАТЫ НАЧАЛЬНОГО ЭТАПА"]
["4.1.Регистрация предприятия или ИП",0,{"$nulls":12},{"$f":"SUM(B48:N48)","v":0}]
["4.2.Патентование продукции",null,0,0,0,0,0,0,0,0,0,0,0,0,{"$f":"SUM(B49:N49)","v":0}]
["4.3.Сертификация продукции / услуги",null,0,0,0,0,0,0,0,0,0,0,0,0,{"$f":"SUM(B50:N50)","v":0}]
["4.4.Прочие первоначальные затраты",0,0,0,0,0,0,0,0,0,0,0,0,0,{"$f":"SUM(B51:N51)","v":0}]
["Итого затраты начального периода:",{"$f":"SUM(B48:B51)","v":0},0,0,0,0,0,0,0,0,0,0,0,0,{"$f":"SUM(B52:N52)","v":0}]
["5.МАРКЕТИНГОВЫЕ ЗАТРАТЫ"]
["5.1.Затраты на рекламу",{"$f":"'4.4. Реклама'!C17","v":0},{"$f":"'4.4. Реклама'!D17","v":0},{"$f":"'4.4. Реклама'!E17","v":0},{"$f":"'4.4. Реклама'!F17","v":0},{"$f":"'4.4. Реклама'!G17","v":0},{"$f":"'4.4. Реклама'!H17","v":0},{"$f":"'4.4. Реклама'!I17","v":0},{"$f":"'4.4. Реклама'!J17","v":0},{"$f":"'4.4. Реклама'!K17","v":0},{"$f":"'4.4. Реклама'!L17","v":0},{"$f":"'4.4. Реклама'!M17","v":0},{"$f":"'4.4. Реклама'!N17","v":0},{"$f":"'4.4. Реклама'!O17","v":0},{"$f":"SUM(B54:N54)","v":0}]
["5.2.Затраты на продвижение продукции ",{"$f":"'4.4. Реклама'!C18","v":0},{"$f":"'4.4. Реклама'!D18","v":0},{"$f":"'4.4. Реклама'!E18","v":0},{"$f":"'4.4. Реклама'!F18","v":0},{"$f":"'4.4. Реклама'!G18","v":0},{"$f":"'4.4. Реклама'!H18","v":0},{"$f":"'4.4. Реклама'!I18","v":0},{"$f":"'4.4. Реклама'!J18","v":0},{"$f":"'4.4. Реклама'!K18","v":0},{"$f":"'4.4. Реклама'!L18","v":0},{"$f":"'4.4. Реклама'!M18","v":0},{"$f":"'4.4. Реклама'!N18","v":0},{"$f":"'4.4. Реклама'!O18","v":0},{"$f":"SUM(B55:N55)","v":0}]
["5.3.Прочие маркетинговые затраты",{"$f":"'4.4. Реклама'!C19","v":0},{"$f":"'4.4. Реклама'!D19","v":0},{"$f":"'4.4. Реклама'!E19","v":0},{"$f":"'4.4. Реклама'!F19","v":0},{"$f":"'4.4. Реклама'!G19","v":0},{"$f":"'4.4. Реклама'!H19","v":0},{"$f":"'4.4. Реклама'!I19","v":0},{"$f":"'4.4. Реклама'!J19","v":0},{"$f":"'4.4. Реклама'!K19","v":0},{"$f":"'4.4. Реклама'!L19","v":0},{"$f":"'4.4. Реклама'!M19","v":0},{"$f":"'4.4. Реклама'!N19","v":0},{"$f":"'4.4. Реклама'!O19","v":0},{"$f":"SUM(B56:N56)","v":0}]
["Итого маркетинговые затраты:",{"$f":"SUM(B54:B56)","v":0},0,0,0,0,0,0,0,0,0,0,0,0,{"$f":"SUM(B57:N57)","v":0}]
["6. НАЛОГИ, УЧИТЫВАЕМЫЕ В РАСХОДАХ"]
["6.1.Страховые взносы (за работников)","Х",{"$f":"'6.1. Персонал'!D27","v":0},{"$f":"'6.1. Персонал'!E27","v":0},{"$f":"'6.1. Персонал'!F27","v":0},{"$f":"'6.1. Персонал'!G27","v":0},{"$f":"'6.1. Персонал'!H27","v":0},{"$f":"'6.1. Персонал'!I27","v":0},{"$f":"'6.1. Персонал'!J27","v":0},{"$f":"'6.1. Персонал'!K27","v":0},{"$f":"'6.1. Персонал'!L27","v":0},{"$f":"'6.1. Персонал'!M27","v":0},{"$f":"'6.1. Персонал'!N27","v":0},{"$f":"'6.1. Персонал'!O27","v":0},{"$f":"SUM(B59:N59)","v":0}]
["6.2.Страховые взносы (за ИП)","Х",0,0,0,0,0,0,0,0,0,0,0,0,{"$f":"SUM(B60:N60)","v":0}]
["6.3.Прочие налоги и сборы",0,0,0,0,0,0,0,0,0,0,0,0,0,{"$f":"SUM(B61:N61)","v":0}]
["Итого налоги, учитываемые в расходах",{"$f":"SUM(B59:B61)","v":0},{"$f":"C59+C60+C61","v":0},0,0,0,0,0,0,0,0,0,0,0,{"$f":"SUM(B62:N62)","v":0}]
["7.ПРОЧИЕ ВЫПЛАТЫ (В Т.Ч. ПРОЦЕНТЫ)",0,0,0,0,0,0,0,0,0,0,0,0,0,{"$f":"SUM(B63:N63)","v":0}]
["8.КАПИТАЛЬНЫЕ ВЛОЖЕНИЯ ПО ПРОЕКТУ"]
["8.1.Приобретение оборудования",{"$f":"'5.3. Кап.вложения'!C7","v":0},{"$f":"'5.3. Кап.вложения'!D7","v":0},{"$f":"'5.3. Кап.вложения'!E7","v":0},{"$f":"'5.3. Кап.вложения'!F7","v":0},{"$f":"'5.3. Кап.вложения'!G7","v":0},{"$f":"'5.3. Кап.вложения'!H7","v":0},{"$f":"'5.3. Кап.вложения'!I7","v":0},{"$f":"'5.3. Кап.вложения'!J7","v":0},{"$f":"'5.3. Кап.вложения'!K7","v":0},{"$f":"'5.3. Кап.вложения'!L7","v":0},{"$f":"'5.3. Кап.вложения'!M7","v":0},{"$f":"'5.3. Кап.вложения'!N7","v":0},{"$f":"'5.3. Кап.вложения'!O7","v":0},{"$f":"SUM(B65:N65)","v":0}]
["8.2.Приобретение транспортных средств",{"$f":"'5.3. Кап.вложения'!C8","v":0},{"$f":"'5.3. Кап.вложения'!D8","v":0},{"$f":"'5.3. Кап.вложения'!E8","v":0},{"$f":"'5.3. Кап.вложения'!F8","v":0},{"$f":"'5.3. Кап.вложения'!G8","v":0},{"$f":"'5.3. Кап.вложения'!H8","v":0},{"$f":"'5.3. Кап.вложения'!I8","v":0},{"$f":"'5.3. Кап.вложения'!J8","v":0},{"$f":"'5.3. Кап.вложения'!K8","v":0},{"$f":"'5.3. Кап.вложения'!L8","v":0},{"$f":"'5.3. Кап.вложения'!M8","v":0},{"$f":"'5.3. Кап.вложения'!N8","v":0},{"$f":"'5.3. Кап.вложения'!O8","v":0},0]
["8.3.Проведение строительных, ремонтных, монтажных работ",{"$f":"'5.3. Кап.вложения'!C9","v":0},{"$f":"'5.3. Кап.вложения'!D9","v":0},{"$f":"'5.3. Кап.вложения'!E9","v":0},{"$f":"'5.3. Кап.вложения'!F9","v":0},{"$f":"'5.3. Кап.вложения'!G9","v":0},{"$f":"'5.3. Кап.вложения'!H9","v":0},{"$f":"'5.3. Кап.вложения'!I9","v":0},{"$f":"'5.3. Кап.вложения'!J9","v":0},{"$f":"'5.3. Кап.вложения'!K9","v":0},{"$f":"'5.3. Кап.вложения'!L9","v":0},{"$f":"'5.3. Кап.вложения'!M9","v":0},{"$f":"'5.3. Кап.вложения'!N9","v":0},{"$f":"'5.3. Кап.вложения'!O9","v":0},0]
["8.4.Телефонная линия / Интернет",{"$f":"'5.3. Кап.вложения'!C10","v":0},{"$f":"'5.3. Кап.вложения'!D10","v":0},{"$f":"'5.3. Кап.вложения'!E10","v":0},{"$f":"'5.3. Кап.вложения'!F10","v":0},{"$f":"'5.3. Кап.вложения'!G10","v":0},{"$f":"'5.3. Кап.вложения'!H10","v":0},{"$f":"'5.3. Кап.вложения'!I10","v":0},{"$f":"'5.3. Кап.вложения'!J10","v":0},{"$f":"'5.3. Кап.вложения'!K10","v":0},{"$f":"'5.3. Кап.вложения'!L10","v":0},{"$f":"'5.3. Кап.вложения'!M10","v":0},{"$f":"'5.3. Кап.вложения'!N10","v":0},{"$f":"'5.3. Кап.вложения'!O10","v":0},0]
["ИТОГО КАПИТАЛЬНЫЕ ВЛОЖЕНИЯ:",{"$f":"SUM(B65:B68)","v":0},0,0,0,0,0,0,0,0,0,0,0,0,0]
["ВСЕГО РАСХОДОВ (В): ",{"$f":"B28+B34+B45+B52+B57+B62+B63+B69","v":0},0,0,0,0,0,0,0,0,0,0,0,0,0]
["ВАЛОВАЯ ПРИБЫЛЬ (Г):",{"$f":"B14-B70","v":0},0,0,0,0,0,0,0,0,0,0,0,0,0]
[]
["9.НАЛОГИ, НЕ УЧИТЫВАЕМЫЕ В РАСХОДАХ"]
["9.1.Единый налог (УСНО), 6% (за вычетом внебюджетных выплат за работников)","Х",{"$nulls":12},{"$f":"SUM(B74:N74)","v":0}]
["9.2.Единый налог (УСНО), 15%","Х",{"$nulls":12},0]
["9.3.ЕНВД","Х",{"$nulls":12},0]
["9.4.НДФЛ","Х",{"$nulls":12},0]
["9.4.УСНО на основании патента"]
["9.5.Прочие налоги и сборы","Х",{"$nulls":12},0]
["Итого налоги, не учитываемые в расходах",{"$f":"SUM(B74:B79)","v":0},0,0,0,0,0,0,0,0,0,0,0,0,0]
["10. Погашение кредита (ссуды)",null,{"$f":"B18/12","v":0},{"$f":"C81","v":0},{"$f":"D81","v":0},0,0,0,0,0,0,0,0,0,0]
[]
["ЧИСТАЯ ПРИБЫЛЬ",{"$f":"B71-B80","v":0},0,0,0,0,0,0,0,0,0,0,0,0,{"$f":"SUM(B83:N83)","v":0}]
["ЧИСТАЯ ПРИБЫЛЬ (УБЫТКИ) НАРАСТАЮЩИМ ИТОГОМ ",{"$f":"B83","v":0},{"$f":"C83+B83","v":0},{"$f":"D83+C84","v":0},0,0,0,0,0,0,0,0,0,0]
["ВСЕГО ПРИХОД СРЕДСТВ",{"$f":"B14+B20","v":0},0,0,0,0,0,0,0,0,0,0,0,0,{"$f":"SUM(B85:N85)","v":0}]
["ВСЕГО РАСХОД СРЕДСТВ",{"$f":"B70+B80+B81","v":0},0,0,0,0,0,0,0,0,0,0,0,0,{"$f":"SUM(B86:N86)","v":0}]
["ИЗМЕНЕНИЕ В БАЛАНСЕ ДЕНЕЖНЫХ СРЕДСТВ (ДЕНЕЖНЫЙ ПОТОК)",{"$f":"B85-B86","v":0},0,0,0,0,0,0,0,0,0,0,0,0,0]
["ИЗМЕНЕНИЕ В БАЛАНСЕ ДЕНЕЖНЫХ СРЕДСТВ (НАКОПЛЕННЫЙ ДЕНЕЖНЫЙ ПОТОК)",{"$f":"B87","v":0},{"$f":"B87+C87","v":0},{"$f":"C88+D87","v":0},{"$f":"D88+E87","v":0},{"$f":"E88+F87","v":0},0,0,0,0,0,0,0,0]
["Период окупаемости вложений",{"$f":"IF(B88>'Приложение 2 (На печать 2)'!B6,B7,0)","v":0},{"$f":"IF(B89>0,B89,IF(C88>'Приложение 2 (На печать 2)'!$C$6,C7,0))","v":0},{"$f":"IF(C89>0,C89,IF(D88>'Приложение 2 (На печать 2)'!$C$6,D7,0))","v":0},{"$f":"IF(D89>0,D89,IF(E88>'Приложение 2 (На печать 2)'!$C$6,E7,0))","v":0},{"$f":"IF(E89>0,E89,IF(F88>'Приложение 2 (На печать 2)'!$C$6,F7,0))","v":0},{"$f":"IF(F89>0,F89,IF(G88>'Приложение 2 (На печать 2)'!$C$6,G7,0))","v":0},{"$f":"IF(G89>0,G89,IF(H88>'Приложение 2 (На печать 2)'!$C$6,H7,0))","v":0},{"$f":"IF(H89>0,H89,IF(I88>'Приложение 2 (На печать 2)'!$C$6,I7,0))","v":0},{"$f":"IF(I89>0,I89,IF(J88>'Приложение 2 (На печать 2)'!$C$6,J7,0))","v":0},{"$f":"IF(J89>0,J89,IF(K88>'Приложение 2 (На печать 2)'!$C$6,K7,0))","v":0},{"$f":"IF(K89>0,K89,IF(L88>'Приложение 2 (На печать 2)'!$C$6,L7,0))","v":0},{"$f":"IF(L89>0,L89,IF(M88>'Приложение 2 (На печать 2)'!$C$6,M7,0))","v":0},{"$f":"IF(M89>0,M89,IF(N88>'Приложение 2 (На печать 2)'!$C$6,N7,0))","v":0}]
[]
[{"$nulls":10},"Инициатор проекта"]
[]
[{"$nulls":10},"ФИО:",{"$f":"B1","v":0}]
[]
[{"$nulls":10},"Подпись:"]

{"sheet":"Приложение 2 (На печать 2)","index":3,"n_rows":21,"n_cols":5,"rows_kept":21,"merged":[[0,1,0,13],[1,1,1,13],[2,1,2,13]]}
["ПОКАЗАТЕЛИ ПРОЕКТА:",{"$f":"Исходные!B12","v":0}]
[null,{"$f":"Исходные!B13","v":0}]
[null,{"$f":"Исходные!B11","v":0}]
[]
["Наименование","Ед.изм.","Значение",null,"Справочно:"]
["ОБЩАЯ СТОИМОСТЬ ПРОЕКТА:",{"$f":"Исходные!B18","v":"руб."},{"$f":"SUM(C7:C12)","v":0},null,{"$f":"IF($C$6=0,0,C6/$C$6)","v":{"v":0,"d":"0.0%"}}]
["  Собственные средства",{"$f":"B6","v":"руб."},{"$f":"'Приложение 1 (На печать 1)'!O17","v":0},null,{"$f":"IF($C$6=0,0,C7/$C$6)","v":{"v":0,"d":"0.0%"}}]
["  Заемные средства (кредиты)",{"$f":"B7","v":"руб."},{"$f":"'Приложение 1 (На печать 1)'!O18","v":0},null,{"v":0,"d":"0.0%"}]
["  Государственные субсидии (МРПиП МО)",{"$f":"B8","v":"руб."},{"$f":"'Приложение 1 (На печать 1)'!O11","v":0},null,{"v":0,"d":"0.0%"}]
["  Государственные субсидии (ГСЗН)",{"$f":"B9","v":"руб."},{"$f":"'Приложение 1 (На печать 1)'!O12","v":0},null,{"v":0,"d":"0.0%"}]
["  Субвенция (ГСЗН)",{"$f":"B10","v":"руб."},{"$f":"'Приложение 1 (На печать 1)'!O13","v":0},null,{"v":0,"d":"0.0%"}]
["  Прочие источники финансирования",{"$f":"B9","v":"руб."},{"$f":"'Приложение 1 (На печать 1)'!O19","v":0},null,{"v":0,"d":"0.0%"}]
[]
["Чистая прибыль (за первый год проекта)",{"$f":"B12","v":"руб."},{"$f":"'Приложение 1 (На печать 1)'!N84","v":0}]
["Суммарный денежный поток (за первый год проекта)",{"$f":"B14","v":"руб."},{"$f":"'Приложение 1 (На печать 1)'!N88","v":0}]
[]
["Рентабельность продаж","%",{"$f":"IF('Приложение 1 (На печать 1)'!O10=0,\"-\",'Приложение 1 (На печать 1)'!N84/'Приложение 1 (На печать 1)'!O10)","v":"-"}]
[]
["Рентабельность инвестиций (ROI)","%",{"$f":"IF(C6=0,\"-\",C14/C6)","v":"-"}]
[]
["Период окупаемости общих вложений","мес.",{"$f":"'Приложение 1 (На печать 1)'!N89","v":0}]

{"sheet":"4.4. Реклама","index":4,"n_rows":19,"n_cols":16,"rows_kept":19,"merged":[[2,0,3,0],[2,1,3,1],[2,2,2,14],[2,15,3,15],[13,0,14,0],[13,1,14,1],[13,2,13,14],[13,15,14,15]]}
[null,"ВОЗВРАТ К СХЕМЕ"]
[null,"План рекламных мероприятий:"]
["№ п/п","Наименование","Первый год (по месяцам) руб.",{"$nulls":12},"Итого:"]
[null,null,0,{"$f":"'Приложение 1 (На печать 1)'!C8","v":"2019-02-01"},{"$f":"'Приложение 1 (На печать 1)'!D8","v":"2019-03-04"},{"$f":"'Приложение 1 (На печать 1)'!E8","v":"2019-04-04"},{"$f":"'Приложение 1 (На печать 1)'!F8","v":"2019-05-05"},{"$f":"'Приложение 1 (На печать 1)'!G8","v":"2019-06-05"},{"$f":"'Приложение 1 (На печать 1)'!H8","v":"2019-07-06"},{"$f":"'Приложение 1 (На печать 1)'!I8","v":"2019-08-06"},{"$f":"'Приложение 1 (На печать 1)'!J8","v":"2019-09-06"},{"$f":"'Приложение 1 (На печать 1)'!K8","v":"2019-10-07"},{"$f":"'Приложение 1 (На печать 1)'!L8","v":"2019-11-07"},{"$f":"'Приложение 1 (На печать 1)'!M8","v":"2019-12-08"},{"$f":"'Приложение 1 (На печать 1)'!N8","v":"2020-01-08"}]
[null,"Всего:",{"$f":"SUM(C6:C11)","v":0},0,0,0,0,0,0,0,0,0,0,0,0,{"$f":"SUM(C5:O5)","v":0}]
[1,"Пресса",0,0,0,0,0,0,0,0,0,0,0,0,0,{"$f":"SUM(C6:O6)","v":0}]
[2,"Печатная продукция",0,0,0,0,0,0,0,0,0,0,0,0,0,0]
[3,"ТВ",0,0,0,0,0,0,0,0,0,0,0,0,0,0]
[4,"Радио",0,0,0,0,0,0,0,0,0,0,0,0,0,0]
[5,"Создание интернет-сайта",0,0,0,0,0,0,0,0,0,0,0,0,0,0]
[6,null,0,0,0,0,0,0,0,0,0,0,0,0,0,0]
[]
[null,"Затраты на маркетинг:"]
["№ п/п","Наименование","Первый год (по месяцам) руб.",{"$nulls":12},"Итого:"]
[null,null,0,{"$f":"'Приложение 1 (На печать 1)'!C8","v":"2019-02-01"},{"$f":"'Приложение 1 (На печать 1)'!D8","v":"2019-03-04"},{"$f":"'Приложение 1 (На печать 1)'!E8","v":"2019-04-04"},{"$f":"'Приложение 1 (На печать 1)'!F8","v":"2019-05-05"},{"$f":"'Приложение 1 (На печать 1)'!G8","v":"2019-06-05"},{"$f":"'Приложение 1 (На печать 1)'!H8","v":"2019-07-06"},{"$f":"'Приложение 1 (На печать 1)'!I8","v":"2019-08-06"},{"$f":"'Приложение 1 (На печать 1)'!J8","v":"2019-09-06"},{"$f":"'Приложение 1 (На печать 1)'!K8","v":"2019-10-07"},{"$f":"'Приложение 1 (На печать 1)'!L8","v":"2019-11-07"},{"$f":"'Приложение 1 (На печать 1)'!M8","v":"2019-12-08"},{"$f":"'Приложение 1 (На печать 1)'!N8","v":"2020-01-08"}]
[null,"Всего:",{"$f":"SUM(C17:C19)","v":0},0,0,0,0,0,0,0,0,0,0,0,0,{"$f":"SUM(C16:O16)","v":0}]
[1,"Затраты на рекламу",{"$f":"C5","v":0},0,0,0,0,0,0,0,0,0,0,0,0,{"$f":"SUM(C17:O17)","v":0}]
[2,"Затраты на продвижение продукции",0,0,0,0,0,0,0,0,0,0,0,0,0,{"$f":"SUM(C18:O18)","v":0}]
[3,"Прочие маркетинговые затраты",0,0,0,0,0,0,0,0,0,0,0,0,0,{"$f":"SUM(C19:O19)","v":0}]

{"sheet":"4.5. Цена","index":5,"n_rows":25,"n_cols":5,"rows_kept":25,"merged":[[2,0,4,0],[2,1,4,1],[2,2,2,3],[2,4,4,4],[3,2,3,3]]}
[null,"ВОЗВРАТ К СХЕМЕ"]
[null,"Ценообразование:"]
["№ п/п","Продукт (услуга)","Планируемая цена (руб.)",null,"Средняя цена, руб."]
[null,null,"Диапазон цен"]
[null,null,"Мин.","Макс."]
[1,{"$nulls":3},{"$f":"IF(SUM(C6:D6)=0,0,AVERAGE(C6:D6))","v":0}]
[2,{"$nulls":3},{"$f":"IF(SUM(C7:D7)=0,0,AVERAGE(C7:D7))","v":0}]
[3,{"$nulls":3},0]
[4,{"$nulls":3},0]
[5,{"$nulls":3},0]
[6,{"$nulls":3},0]
[7,{"$nulls":3},0]
[8,{"$nulls":3},0]
[9,{"$nulls":3},0]
[10,{"$nulls":3},0]
[11,{"$nulls":3},0]
[12,{"$nulls":3},0]
[13,{"$nulls":3},0]
[14,{"$nulls":3},0]
[15,{"$nulls":3},0]
[16,{"$nulls":3},0]
[17,{"$nulls":3},0]
[18,{"$nulls":3},0]
[19,{"$nulls":3},0]
[20,{"$nulls":3},0]

{"sheet":"4.6. План сбыта","index":6,"n_rows":66,"n_cols":17,"rows_kept":66,"merged":[[3,0,4,0],[3,1,4,1],[3,2,4,2],[3,3,3,14],[3,15,4,15],[5,0,5,2],[6,0,8,0],[6,1,8,1],[9,0,11,0],[9,1,11,1],[12,0,14,0],[12,1,14,1],[15,0,17,0],[15,1,17,1],[18,0,20,0],[18,1,20,1],[21,0,23,0],[21,1,23,1],[24,0,26,0],[24,1,26,1],[27,0,29,0],[27,1,29,1],[30,0,32,0],[30,1,32,1],[33,0,35,0],[33,1,35,1],[36,0,38,0],[36,1,38,1],[39,0,41,0],[39,1,41,1],[42,0,44,0],[42,1,44,1],[45,0,47,0],[45,1,47,1],[48,0,50,0],[48,1,50,1],[51,0,53,0],[51,1,53,1],[54,0,56,0],[54,1,56,1],[57,0,59,0],[57,1,59,1],[60,0,62,0],[60,1,62,1],[63,0,65,0],[63,1,65,1]]}
[null,"ВОЗВРАТ К СХЕМЕ"]
[null,"План сбыта:","дней"]
[null,"Количество в день",25,{"$f":"SUM(D7,D10,D13,D16,D19,D22,D25,D28,D31,D34,D37,D40,D43,D46,D49,D52,D55,D58,D61,D64)/$C$3","v":{"v":0,"d":"0.0"}},{"$f":"SUM(E7,E10,E13,E16,E19,E22,E25,E28,E31,E34,E37,E40,E43,E46,E49,E52,E55,E58,E61,E64)/$C$3","v":{"v":0,"d":"0.0"}},{"v":0,"d":"0.0"},{"v":0,"d":"0.0"},{"v":0,"d":"0.0"},{"v":0,"d":"0.0"},{"v":0,"d":"0.0"},{"v":0,"d":"0.0"},{"v":0,"d":"0.0"},{"v":0,"d":"0.0"},{"v":0,"d":"0.0"},{"v":0,"d":"0.0"}]
["№ п/п","Наименование","Показа-тель","Первый год (по месяцам) руб.",{"$nulls":11},"Итого:"]
[{"$nulls":3},{"$f":"'Приложение 1 (На печать 1)'!C8","v":"2019-02-01"},{"$f":"'Приложение 1 (На печать 1)'!D8","v":"2019-03-04"},{"$f":"'Приложение 1 (На печать 1)'!E8","v":"2019-04-04"},{"$f":"'Приложение 1 (На печать 1)'!F8","v":"2019-05-05"},{"$f":"'Приложение 1 (На печать 1)'!G8","v":"2019-06-05"},{"$f":"'Приложение 1 (На печать 1)'!H8","v":"2019-07-06"},{"$f":"'Приложение 1 (На печать 1)'!I8","v":"2019-08-06"},{"$f":"'Приложение 1 (На печать 1)'!J8","v":"2019-09-06"},{"$f":"'Приложение 1 (На печать 1)'!K8","v":"2019-10-07"},{"$f":"'Приложение 1 (На печать 1)'!L8","v":"2019-11-07"},{"$f":"'Приложение 1 (На печать 1)'!M8","v":"2019-12-08"},{"$f":"'Приложение 1 (На печать 1)'!N8","v":"2020-01-08"}]
["Всего:",null,null,{"$f":"SUMIF($C$7:$C$66,\"Сумма\",D7:D66)","v":0},{"$f":"SUMIF($C$7:$C$66,\"Сумма\",E7:E66)","v":0},0,0,0,0,0,0,0,0,0,0,0]
[1,{"$f":"'4.5. Цена'!B6","v":0},"Кол-во",0,0,0,0,0,0,0,0,0,0,0,0,{"$f":"SUM(D7:O7)","v":0}]
[null,null,"Цена",{"$f":"'4.5. Цена'!$E$6","v":0},{"$f":"'4.5. Цена'!$E$6","v":0},{"$f":"'4.5. Цена'!$E$6","v":0},{"$f":"'4.5. Цена'!$E$6","v":0},{"$f":"'4.5. Цена'!$E$6","v":0},{"$f":"'4.5. Цена'!$E$6","v":0},{"$f":"'4.5. Цена'!$E$6","v":0},{"$f":"'4.5. Цена'!$E$6","v":0},{"$f":"'4.5. Цена'!$E$6","v":0},{"$f":"'4.5. Цена'!$E$6","v":0},{"$f":"'4.5. Цена'!$E$6","v":0},{"$f":"'4.5. Цена'!$E$6","v":0},{"$f":"O8","v":0}]
[null,null,"Сумма",{"$f":"D7*D8","v":0},0,0,0,0,0,0,0,0,0,0,0,{"$f":"SUM(D9:O9)","v":0}]
[2,{"$f":"'4.5. Цена'!B7","v":0},"Кол-во",0,0,0,0,0,0,0,0,0,0,0,0,{"$f":"SUM(D10:O10)","v":0}]
[null,null,"Цена",{"$f":"'4.5. Цена'!$E$7","v":0},{"$f":"'4.5. Цена'!$E$7","v":0},{"$f":"'4.5. Цена'!$E$7","v":0},{"$f":"'4.5. Цена'!$E$7","v":0},{"$f":"'4.5. Цена'!$E$7","v":0},{"$f":"'4.5. Цена'!$E$7","v":0},{"$f":"'4.5. Цена'!$E$7","v":0},{"$f":"'4.5. Цена'!$E$7","v":0},{"$f":"'4.5. Цена'!$E$7","v":0},{"$f":"'4.5. Цена'!$E$7","v":0},{"$f":"'4.5. Цена'!$E$7","v":0},{"$f":"'4.5. Цена'!$E$7","v":0},{"$f":"O11","v":0}]
[null,null,"Сумма",{"$f":"D10*D11","v":0},0,0,0,0,0,0,0,0,0,0,0,{"$f":"SUM(D12:O12)","v":0}]
[3,{"$f":"'4.5. Цена'!B8","v":0},"Кол-во",0,0,0,0,0,0,0,0,0,0,0,0,{"$f":"SUM(D13:O13)","v":0}]
[null,null,"Цена",{"$f":"'4.5. Цена'!$E$8","v":0},{"$f":"'4.5. Цена'!$E$8","v":0},{"$f":"'4.5. Цена'!$E$8","v":0},{"$f":"'4.5. Цена'!$E$8","v":0},{"$f":"'4.5. Цена'!$E$8","v":0},{"$f":"'4.5. Цена'!$E$8","v":0},{"$f":"'4.5. Цена'!$E$8","v":0},{"$f":"'4.5. Цена'!$E$8","v":0},{"$f":"'4.5. Цена'!$E$8","v":0},{"$f":"'4.5. Цена'!$E$8","v":0},{"$f":"'4.5. Цена'!$E$8","v":0},{"$f":"'4.5. Цена'!$E$8","v":0},{"$f":"O14","v":0}]
[null,null,"Сумма",{"$f":"D13*D14","v":0},0,0,0,0,0,0,0,0,0,0,0,{"$f":"SUM(D15:O15)","v":0}]
[4,{"$f":"'4.5. Цена'!B9","v":0},"Кол-во",0,0,0,0,0,0,0,0,0,0,0,0,{"$f":"SUM(D16:O16)","v":0}]
[null,null,"Цена",{"$f":"'4.5. Цена'!$E$9","v":0},{"$f":"'4.5. Цена'!$E$9","v":0},{"$f":"'4.5. Цена'!$E$9","v":0},{"$f":"'4.5. Цена'!$E$9","v":0},{"$f":"'4.5. Цена'!$E$9","v":0},{"$f":"'4.5. Цена'!$E$9","v":0},{"$f":"'4.5. Цена'!$E$9","v":0},{"$f":"'4.5. Цена'!$E$9","v":0},{"$f":"'4.5. Цена'!$E$9","v":0},{"$f":"'4.5. Цена'!$E$9","v":0},{"$f":"'4.5. Цена'!$E$9","v":0},{"$f":"'4.5. Цена'!$E$9","v":0},{"$f":"O17","v":0}]
[null,null,"Сумма",{"$f":"D16*D17","v":0},0,0,0,0,0,0,0,0,0,0,0,{"$f":"SUM(D18:O18)","v":0}]
[5,{"$f":"'4.5. Цена'!B10","v":0},"Кол-во",0,0,0,0,0,0,0,0,0,0,0,0,{"$f":"SUM(D19:O19)","v":0}]
[null,null,"Цена",{"$f":"'4.5. Цена'!$E$10","v":0},{"$f":"'4.5. Цена'!$E$10","v":0},{"$f":"'4.5. Цена'!$E$10","v":0},{"$f":"'4.5. Цена'!$E$10","v":0},{"$f":"'4.5. Цена'!$E$10","v":0},{"$f":"'4.5. Цена'!$E$10","v":0},{"$f":"'4.5. Цена'!$E$10","v":0},{"$f":"'4.5. Цена'!$E$10","v":0},{"$f":"'4.5. Цена'!$E$10","v":0},{"$f":"'4.5. Цена'!$E$10","v":0},{"$f":"'4.5. Цена'!$E$10","v":0},{"$f":"'4.5. Цена'!$E$10","v":0},{"$f":"O20","v":0}]
[null,null,"Сумма",{"$f":"D19*D20","v":0},0,0,0,0,0,0,0,0,0,0,0,{"$f":"SUM(D21:O21)","v":0}]
[6,{"$f":"'4.5. Цена'!B11","v":0},"Кол-во",0,0,0,0,0,0,0,0,0,0,0,0,{"$f":"SUM(D22:O22)","v":0}]
[null,null,"Цена",{"$f":"'4.5. Цена'!$E$11","v":0},{"$f":"'4.5. Цена'!$E$11","v":0},{"$f":"'4.5. Цена'!$E$11","v":0},{"$f":"'4.5. Цена'!$E$11","v":0},{"$f":"'4.5. Цена'!$E$11","v":0},{"$f":"'4.5. Цена'!$E$11","v":0},{"$f":"'4.5. Цена'!$E$11","v":0},{"$f":"'4.5. Цена'!$E$11","v":0},{"$f":"'4.5. Цена'!$E$11","v":0},{"$f":"'4.5. Цена'!$E$11","v":0},{"$f":"'4.5. Цена'!$E$11","v":0},{"$f":"'4.5. Цена'!$E$11","v":0},{"$f":"O23","v":0}]
[null,null,"Сумма",{"$f":"D22*D23","v":0},0,0,0,0,0,0,0,0,0,0,0,{"$f":"SUM(D24:O24)","v":0}]
[7,{"$f":"'4.5. Цена'!B12","v":0},"Кол-во",0,0,0,0,0,0,0,0,0,0,0,0,{"$f":"SUM(D25:O25)","v":0}]
[null,null,"Цена",{"$f":"'4.5. Цена'!$E$12","v":0},{"$f":"'4.5. Цена'!$E$12","v":0},{"$f":"'4.5. Цена'!$E$12","v":0},{"$f":"'4.5. Цена'!$E$12","v":0},{"$f":"'4.5. Цена'!$E$12","v":0},{"$f":"'4.5. Цена'!$E$12","v":0},{"$f":"'4.5. Цена'!$E$12","v":0},{"$f":"'4.5. Цена'!$E$12","v":0},{"$f":"'4.5. Цена'!$E$12","v":0},{"$f":"'4.5. Цена'!$E$12","v":0},{"$f":"'4.5. Цена'!$E$12","v":0},{"$f":"'4.5. Цена'!$E$12","v":0},{"$f":"O26","v":0}]
[null,null,"Сумма",{"$f":"D25*D26","v":0},0,0,0,0,0,0,0,0,0,0,0,{"$f":"SUM(D27:O27)","v":0}]
[8,{"$f":"'4.5. Цена'!B13","v":0},"Кол-во",0,0,0,0,0,0,0,0,0,0,0,0,{"$f":"SUM(D28:O28)","v":0}]
[null,null,"Цена",{"$f":"'4.5. Цена'!$E$13","v":0},{"$f":"'4.5. Цена'!$E$13","v":0},{"$f":"'4.5. Цена'!$E$13","v":0},{"$f":"'4.5. Цена'!$E$13","v":0},{"$f":"'4.5. Цена'!$E$13","v":0},{"$f":"'4.5. Цена'!$E$13","v":0},{"$f":"'4.5. Цена'!$E$13","v":0},{"$f":"'4.5. Цена'!$E$13","v":0},{"$f":"'4.5. Цена'!$E$13","v":0},{"$f":"'4.5. Цена'!$E$13","v":0},{"$f":"'4.5. Цена'!$E$13","v":0},{"$f":"'4.5. Цена'!$E$13","v":0},{"$f":"O29","v":0}]
[null,null,"Сумма",{"$f":"D28*D29","v":0},0,0,0,0,0,0,0,0,0,0,0,{"$f":"SUM(D30:O30)","v":0}]
[9,{"$f":"'4.5. Цена'!B14","v":0},"Кол-во",0,0,0,0,0,0,0,0,0,0,0,0,{"$f":"SUM(D31:O31)","v":0}]
[null,null,"Цена",{"$f":"'4.5. Цена'!$E$14","v":0},{"$f":"'4.5. Цена'!$E$14","v":0},{"$f":"'4.5. Цена'!$E$14","v":0},{"$f":"'4.5. Цена'!$E$14","v":0},{"$f":"'4.5. Цена'!$E$14","v":0},{"$f":"'4.5. Цена'!$E$14","v":0},{"$f":"'4.5. Цена'!$E$14","v":0},{"$f":"'4.5. Цена'!$E$14","v":0},{"$f":"'4.5. Цена'!$E$14","v":0},{"$f":"'4.5. Цена'!$E$14","v":0},{"$f":"'4.5. Цена'!$E$14","v":0},{"$f":"'4.5. Цена'!$E$14","v":0},{"$f":"O32","v":0}]
[null,null,"Сумма",{"$f":"D31*D32","v":0},0,0,0,0,0,0,0,0,0,0,0,{"$f":"SUM(D33:O33)","v":0}]
[10,{"$f":"'4.5. Цена'!B15","v":0},"Кол-во",0,0,0,0,0,0,0,0,0,0,0,0,{"$f":"SUM(D34:O34)","v":0}]
[null,null,"Цена",{"$f":"'4.5. Цена'!$E$15","v":0},{"$f":"'4.5. Цена'!$E$15","v":0},{"$f":"'4.5. Цена'!$E$15","v":0},{"$f":"'4.5. Цена'!$E$15","v":0},{"$f":"'4.5. Цена'!$E$15","v":0},{"$f":"'4.5. Цена'!$E$15","v":0},{"$f":"'4.5. Цена'!$E$15","v":0},{"$f":"'4.5. Цена'!$E$15","v":0},{"$f":"'4.5. Цена'!$E$15","v":0},{"$f":"'4.5. Цена'!$E$15","v":0},{"$f":"'4.5. Цена'!$E$15","v":0},{"$f":"'4.5. Цена'!$E$15","v":0},{"$f":"O35","v":0}]
[null,null,"Сумма",{"$f":"D34*D35","v":0},0,0,0,0,0,0,0,0,0,0,0,{"$f":"SUM(D36:O36)","v":0}]
[11,{"$f":"'4.5. Цена'!B16","v":0},"Кол-во",0,0,0,0,0,0,0,0,0,0,0,0,{"$f":"SUM(D37:O37)","v":0}]
[null,null,"Цена",{"$f":"'4.5. Цена'!$E$16","v":0},{"$f":"'4.5. Цена'!$E$16","v":0},{"$f":"'4.5. Цена'!$E$16","v":0},{"$f":"'4.5. Цена'!$E$16","v":0},{"$f":"'4.5. Цена'!$E$16","v":0},{"$f":"'4.5. Цена'!$E$16","v":0},{"$f":"'4.5. Цена'!$E$16","v":0},{"$f":"'4.5. Цена'!$E$16","v":0},{"$f":"'4.5. Цена'!$E$16","v":0},{"$f":"'4.5. Цена'!$E$16","v":0},{"$f":"'4.5. Цена'!$E$16","v":0},{"$f":"'4.5. Цена'!$E$16","v":0},{"$f":"O38","v":0}]
[null,null,"Сумма",{"$f":"D37*D38","v":0},0,0,0,0,0,0,0,0,0,0,0,{"$f":"SUM(D39:O39)","v":0}]
[12,{"$f":"'4.5. Цена'!B17","v":0},"Кол-во",0,0,0,0,0,0,0,0,0,0,0,0,{"$f":"SUM(D40:O40)","v":0}]
[null,null,"Цена",{"$f":"'4.5. Цена'!$E$17","v":0},{"$f":"'4.5. Цена'!$E$17","v":0},{"$f":"'4.5. Цена'!$E$17","v":0},{"$f":"'4.5. Цена'!$E$17","v":0},{"$f":"'4.5. Цена'!$E$17","v":0},{"$f":"'4.5. Цена'!$E$17","v":0},{"$f":"'4.5. Цена'!$E$17","v":0},{"$f":"'4.5. Цена'!$E$17","v":0},{"$f":"'4.5. Цена'!$E$17","v":0},{"$f":"'4.5. Цена'!$E$17","v":0},{"$f":"'4.5. Цена'!$E$17","v":0},{"$f":"'4.5. Цена'!$E$17","v":0},{"$f":"O41","v":0}]
[null,null,"Сумма",{"$f":"D40*D41","v":0},0,0,0,0,0,0,0,0,0,0,0,{"$f":"SUM(D42:O42)","v":0}]
[13,{"$f":"'4.5. Цена'!B18","v":0},"Кол-во",0,0,0,0,0,0,0,0,0,0,0,0,{"$f":"SUM(D43:O43)","v":0}]
[null,null,"Цена",{"$f":"'4.5. Цена'!$E$18","v":0},{"$f":"'4.5. Цена'!$E$18","v":0},{"$f":"'4.5. Цена'!$E$18","v":0},{"$f":"'4.5. Цена'!$E$18","v":0},{"$f":"'4.5. Цена'!$E$18","v":0},{"$f":"'4.5. Цена'!$E$18","v":0},{"$f":"'4.5. Цена'!$E$18","v":0},{"$f":"'4.5. Цена'!$E$18","v":0},{"$f":"'4.5. Цена'!$E$18","v":0},{"$f":"'4.5. Цена'!$E$18","v":0},{"$f":"'4.5. Цена'!$E$18","v":0},{"$f":"'4.5. Цена'!$E$18","v":0},{"$f":"O44","v":0}]
[null,null,"Сумма",{"$f":"D43*D44","v":0},0,0,0,0,0,0,0,0,0,0,0,{"$f":"SUM(D45:O45)","v":0}]
[14,{"$f":"'4.5. Цена'!B19","v":0},"Кол-во",0,0,0,0,0,0,0,0,0,0,0,0,{"$f":"SUM(D46:O46)","v":0}]
[null,null,"Цена",{"$f":"'4.5. Цена'!$E$19","v":0},{"$f":"'4.5. Цена'!$E$19","v":0},{"$f":"'4.5. Цена'!$E$19","v":0},{"$f":"'4.5. Цена'!$E$19","v":0},{"$f":"'4.5. Цена'!$E$19","v":0},{"$f":"'4.5. Цена'!$E$19","v":0},{"$f":"'4.5. Цена'!$E$19","v":0},{"$f":"'4.5. Цена'!$E$19","v":0},{"$f":"'4.5. Цена'!$E$19","v":0},{"$f":"'4.5. Цена'!$E$19","v":0},{"$f":"'4.5. Цена'!$E$19","v":0},{"$f":"'4.5. Цена'!$E$19","v":0},{"$f":"O47","v":0}]
[null,null,"Сумма",{"$f":"D46*D47","v":0},0,0,0,0,0,0,0,0,0,0,0,{"$f":"SUM(D48:O48)","v":0}]
[15,{"$f":"'4.5. Цена'!B20","v":0},"Кол-во",0,0,0,0,0,0,0,0,0,0,0,0,{"$f":"SUM(D49:O49)","v":0},"ё"]
[null,null,"Цена",{"$f":"'4.5. Цена'!$E$20","v":0},{"$f":"'4.5. Цена'!$E$20","v":0},{"$f":"'4.5. Цена'!$E$20","v":0},{"$f":"'4.5. Цена'!$E$20","v":0},{"$f":"'4.5. Цена'!$E$20","v":0},{"$f":"'4.5. Цена'!$E$20","v":0},{"$f":"'4.5. Цена'!$E$20","v":0},{"$f":"'4.5. Цена'!$E$20","v":0},{"$f":"'4.5. Цена'!$E$20","v":0},{"$f":"'4.5. Цена'!$E$20","v":0},{"$f":"'4.5. Цена'!$E$20","v":0},{"$f":"'4.5. Цена'!$E$20","v":0},{"$f":"O50","v":0}]
[null,null,"Сумма",{"$f":"D49*D50","v":0},0,0,0,0,0,0,0,0,0,0,0,{"$f":"SUM(D51:O51)","v":0}]
[16,{"$f":"'4.5. Цена'!B21","v":0},"Кол-во",0,0,0,0,0,0,0,0,0,0,0,0,{"$f":"SUM(D52:O52)","v":0}]
[null,null,"Цена",{"$f":"'4.5. Цена'!$E$21","v":0},{"$f":"'4.5. Цена'!$E$21","v":0},{"$f":"'4.5. Цена'!$E$21","v":0},{"$f":"'4.5. Цена'!$E$21","v":0},{"$f":"'4.5. Цена'!$E$21","v":0},{"$f":"'4.5. Цена'!$E$21","v":0},{"$f":"'4.5. Цена'!$E$21","v":0},{"$f":"'4.5. Цена'!$E$21","v":0},{"$f":"'4.5. Цена'!$E$21","v":0},{"$f":"'4.5. Цена'!$E$21","v":0},{"$f":"'4.5. Цена'!$E$21","v":0},{"$f":"'4.5. Цена'!$E$21","v":0},{"$f":"O53","v":0}]
[null,null,"Сумма",{"$f":"D52*D53","v":0},0,0,0,0,0,0,0,0,0,0,0,{"$f":"SUM(D54:O54)","v":0}]
[17,{"$f":"'4.5. Цена'!B22","v":0},"Кол-во",0,0,0,0,0,0,0,0,0,0,0,0,{"$f":"SUM(D55:O55)","v":0}]
[null,null,"Цена",{"$f":"'4.5. Цена'!$E$22","v":0},{"$f":"'4.5. Цена'!$E$22","v":0},{"$f":"'4.5. Цена'!$E$22","v":0},{"$f":"'4.5. Цена'!$E$22","v":0},{"$f":"'4.5. Цена'!$E$22","v":0},{"$f":"'4.5. Цена'!$E$22","v":0},{"$f":"'4.5. Цена'!$E$22","v":0},{"$f":"'4.5. Цена'!$E$22","v":0},{"$f":"'4.5. Цена'!$E$22","v":0},{"$f":"'4.5. Цена'!$E$22","v":0},{"$f":"'4.5. Цена'!$E$22","v":0},{"$f":"'4.5. Цена'!$E$22","v":0},{"$f":"O56","v":0}]
[null,null,"Сумма",{"$f":"D55*D56","v":0},0,0,0,0,0,0,0,0,0,0,0,{"$f":"SUM(D57:O57)","v":0}]
[18,{"$f":"'4.5. Цена'!B23","v":0},"Кол-во",0,0,0,0,0,0,0,0,0,0,0,0,{"$f":"SUM(D58:O58)","v":0}]
[null,null,"Цена",{"$f":"'4.5. Цена'!$E$23","v":0},{"$f":"'4.5. Цена'!$E$23","v":0},{"$f":"'4.5. Цена'!$E$23","v":0},{"$f":"'4.5. Цена'!$E$23","v":0},{"$f":"'4.5. Цена'!$E$23","v":0},{"$f":"'4.5. Цена'!$E$23","v":0},{"$f":"'4.5. Цена'!$E$23","v":0},{"$f":"'4.5. Цена'!$E$23","v":0},{"$f":"'4.5. Цена'!$E$23","v":0},{"$f":"'4.5. Цена'!$E$23","v":0},{"$f":"'4.5. Цена'!$E$23","v":0},{"$f":"'4.5. Цена'!$E$23","v":0},{"$f":"O59","v":0}]
[null,null,"Сумма",{"$f":"D58*D59","v":0},0,0,0,0,0,0,0,0,0,0,0,{"$f":"SUM(D60:O60)","v":0}]
[19,{"$f":"'4.5. Цена'!B24","v":0},"Кол-во",0,0,0,0,0,0,0,0,0,0,0,0,{"$f":"SUM(D61:O61)","v":0}]
[null,null,"Цена",{"$f":"'4.5. Цена'!$E$24","v":0},{"$f":"'4.5. Цена'!$E$24","v":0},{"$f":"'4.5. Цена'!$E$24","v":0},{"$f":"'4.5. Цена'!$E$24","v":0},{"$f":"'4.5. Цена'!$E$24","v":0},{"$f":"'4.5. Цена'!$E$24","v":0},{"$f":"'4.5. Цена'!$E$24","v":0},{"$f":"'4.5. Цена'!$E$24","v":0},{"$f":"'4.5. Цена'!$E$24","v":0},{"$f":"'4.5. Цена'!$E$24","v":0},{"$f":"'4.5. Цена'!$E$24","v":0},{"$f":"'4.5. Цена'!$E$24","v":0},{"$f":"O62","v":0}]
[null,null,"Сумма",{"$f":"D61*D62","v":0},0,0,0,0,0,0,0,0,0,0,0,{"$f":"SUM(D63:O63)","v":0}]
[20,{"$f":"'4.5. Цена'!B25","v":0},"Кол-во",0,0,0,0,0,0,0,0,0,0,0,0,{"$f":"SUM(D64:O64)","v":0}]
[null,null,"Цена",{"$f":"'4.5. Цена'!$E$25","v":0},{"$f":"'4.5. Цена'!$E$25","v":0},{"$f":"'4.5. Цена'!$E$25","v":0},{"$f":"'4.5. Цена'!$E$25","v":0},{"$f":"'4.5. Цена'!$E$25","v":0},{"$f":"'4.5. Цена'!$E$25","v":0},{"$f":"'4.5. Цена'!$E$25","v":0},{"$f":"'4.5. Цена'!$E$25","v":0},{"$f":"'4.5. Цена'!$E$25","v":0},{"$f":"'4.5. Цена'!$E$25","v":0},{"$f":"'4.5. Цена'!$E$25","v":0},{"$f":"'4.5. Цена'!$E$25","v":0},{"$f":"O65","v":0}]
[null,null,"Сумма",{"$f":"D64*D65","v":0},0,0,0,0,0,0,0,0,0,0,0,{"$f":"SUM(D66:O66)","v":0}]

{"sheet":"5.4.1. Сырье и материалы","index":7,"n_rows":60,"n_cols":17,"rows_kept":60,"merged":[[2,0,3,0],[2,1,3,1],[2,16,3,16],[5,0,7,0],[5,1,7,1],[8,0,10,0],[8,1,10,1],[11,0,13,0],[11,1,13,1],[14,0,16,0],[14,1,16,1],[17,0,19,0],[17,1,19,1],[20,0,22,0],[20,1,22,1],[23,0,25,0],[23,1,25,1],[26,0,28,0],[26,1,28,1],[29,0,31,0],[29,1,31,1],[32,0,34,0],[32,1,34,1],[35,0,37,0],[35,1,37,1],[38,0,40,0],[38,1,40,1],[41,0,43,0],[41,1,43,1],[44,0,46,0],[44,1,46,1],[47,0,49,0],[47,1,49,1],[51,4,51,5],[52,0,53,0],[52,1,53,2],[52,16,53,16],[54,1,54,2],[55,1,55,2],[56,1,56,2],[57,1,57,2],[58,1,58,2],[59,1,59,2]]}
[null,"ВОЗВРАТ К СХЕМЕ"]
[null,"Затраты на сырье и материалы:"]
["№ п/п","Наименование","Первый год (по месяцам) руб.",{"$nulls":13},"Итого:"]
[{"$nulls":3},0,{"$f":"'Приложение 1 (На печать 1)'!C8","v":"2019-02-01"},{"$f":"'Приложение 1 (На печать 1)'!D8","v":"2019-03-04"},{"$f":"'Приложение 1 (На печать 1)'!E8","v":"2019-04-04"},{"$f":"'Приложение 1 (На печать 1)'!F8","v":"2019-05-05"},{"$f":"'Приложение 1 (На печать 1)'!G8","v":"2019-06-05"},{"$f":"'Приложение 1 (На печать 1)'!H8","v":"2019-07-06"},{"$f":"'Приложение 1 (На печать 1)'!I8","v":"2019-08-06"},{"$f":"'Приложение 1 (На печать 1)'!J8","v":"2019-09-06"},{"$f":"'Приложение 1 (На печать 1)'!K8","v":"2019-10-07"},{"$f":"'Приложение 1 (На печать 1)'!L8","v":"2019-11-07"},{"$f":"'Приложение 1 (На печать 1)'!M8","v":"2019-12-08"},{"$f":"'Приложение 1 (На печать 1)'!N8","v":"2020-01-08"}]
[null,"Всего:",null,{"$f":"SUMIF($C$6:$C$50,$C$8,D6:D50)","v":0},{"$f":"SUMIF($C$6:$C$50,$C$8,E6:E50)","v":0},0,0,0,0,0,0,0,0,0,0,0,0]
[1,null,"Кол-во",{"$nulls":13},{"$f":"SUM(D6:P6)","v":0}]
[null,null,"Цена, руб.",{"$nulls":13},{"$f":"P7","v":0}]
[null,null,"Сумма,руб.",{"$f":"D6*D7","v":0},{"$f":"E6*E7","v":0},{"$f":"F6*F7","v":0},0,0,0,0,0,0,0,0,0,0,{"$f":"SUM(D8:P8)","v":0}]
[2,null,"Кол-во",{"$nulls":13},{"$f":"SUM(D9:P9)","v":0}]
[null,null,"Цена, руб.",{"$nulls":13},{"$f":"P10","v":0}]
[null,null,"Сумма,руб.",{"$f":"D9*D10","v":0},0,0,0,0,0,0,0,0,0,0,0,0,{"$f":"SUM(D11:P11)","v":0}]
[3,null,"Кол-во",{"$nulls":13},{"$f":"SUM(D12:P12)","v":0}]
[null,null,"Цена, руб.",{"$nulls":13},{"$f":"P13","v":0}]
[null,null,"Сумма,руб.",{"$f":"D12*D13","v":0},0,0,0,0,0,0,0,0,0,0,0,0,{"$f":"SUM(D14:P14)","v":0}]
[4,null,"Кол-во",{"$nulls":13},{"$f":"SUM(D15:P15)","v":0}]
[null,null,"Цена, руб.",{"$nulls":13},{"$f":"P16","v":0}]
[null,null,"Сумма,руб.",{"$f":"D15*D16","v":0},0,0,0,0,0,0,0,0,0,0,0,0,{"$f":"SUM(D17:P17)","v":0}]
[5,null,"Кол-во",{"$nulls":13},{"$f":"SUM(D18:P18)","v":0}]
[null,null,"Цена, руб.",{"$nulls":13},{"$f":"P19","v":0}]
[null,null,"Сумма,руб.",{"$f":"D18*D19","v":0},0,0,0,0,0,0,0,0,0,0,0,0,{"$f":"SUM(D20:P20)","v":0}]
[6,null,"Кол-во",{"$nulls":13},{"$f":"SUM(D21:P21)","v":0}]
[null,null,"Цена, руб.",{"$nulls":13},{"$f":"P22","v":0}]
[null,null,"Сумма,руб.",{"$f":"D21*D22","v":0},0,0,0,0,0,0,0,0,0,0,0,0,{"$f":"SUM(D23:P23)","v":0}]
[7,null,"Кол-во",{"$nulls":13},{"$f":"SUM(D24:P24)","v":0}]
[null,null,"Цена, руб.",{"$nulls":13},{"$f":"P25","v":0}]
[null,null,"Сумма,руб.",{"$f":"D24*D25","v":0},0,0,0,0,0,0,0,0,0,0,0,0,{"$f":"SUM(D26:P26)","v":0}]
[8,null,"Кол-во",{"$nulls":13},{"$f":"SUM(D27:P27)","v":0}]
[null,null,"Цена, руб.",{"$nulls":13},{"$f":"P28","v":0}]
[null,null,"Сумма,руб.",{"$f":"D27*D28","v":0},0,0,0,0,0,0,0,0,0,0,0,0,{"$f":"SUM(D29:P29)","v":0}]
[9,null,"Кол-во",{"$nulls":13},{"$f":"SUM(D30:P30)","v":0}]
[null,null,"Цена, руб.",{"$nulls":13},{"$f":"P31","v":0}]
[null,null,"Сумма,руб.",{"$f":"D30*D31","v":0},0,0,0,0,0,0,0,0,0,0,0,0,{"$f":"SUM(D32:P32)","v":0}]
[10,null,"Кол-во",{"$nulls":13},{"$f":"SUM(D33:P33)","v":0}]
[null,null,"Цена, руб.",{"$nulls":13},{"$f":"P34","v":0}]
[null,null,"Сумма,руб.",{"$f":"D33*D34","v":0},0,0,0,0,0,0,0,0,0,0,0,0,{"$f":"SUM(D35:P35)","v":0}]
[11,null,"Кол-во",{"$nulls":13},{"$f":"SUM(D36:P36)","v":0}]
[null,null,"Цена, руб.",{"$nulls":13},{"$f":"P37","v":0}]
[null,null,"Сумма,руб.",{"$f":"D36*D37","v":0},0,0,0,0,0,0,0,0,0,0,0,0,{"$f":"SUM(D38:P38)","v":0}]
[12,null,"Кол-во",{"$nulls":13},{"$f":"SUM(D39:P39)","v":0}]
[null,null,"Цена, руб.",{"$nulls":13},{"$f":"P40","v":0}]
[null,null,"Сумма,руб.",{"$f":"D39*D40","v":0},0,0,0,0,0,0,0,0,0,0,0,0,{"$f":"SUM(D41:P41)","v":0}]
[13,null,"Кол-во",{"$nulls":13},{"$f":"SUM(D42:P42)","v":0}]
[null,null,"Цена, руб.",{"$nulls":13},{"$f":"P43","v":0}]
[null,null,"Сумма,руб.",{"$f":"D42*D43","v":0},0,0,0,0,0,0,0,0,0,0,0,0,{"$f":"SUM(D44:P44)","v":0}]
[14,null,"Кол-во",{"$nulls":13},{"$f":"SUM(D45:P45)","v":0}]
[null,null,"Цена, руб.",{"$nulls":13},{"$f":"P46","v":0}]
[null,null,"Сумма,руб.",{"$f":"D45*D46","v":0},0,0,0,0,0,0,0,0,0,0,0,0,{"$f":"SUM(D47:P47)","v":0}]
[15,null,"Кол-во",{"$nulls":13},{"$f":"SUM(D48:P48)","v":0}]
[null,null,"Цена, руб.",{"$nulls":13},{"$f":"P49","v":0}]
[null,null,"Сумма,руб.",{"$f":"D48*D49","v":0},0,0,0,0,0,0,0,0,0,0,0,0,{"$f":"SUM(D50:P50)","v":0}]
[]
[null,"Затраты на комплектующие:",null,null,"ВОЗВРАТ К СХЕМЕ"]
["№ п/п","Наименование",null,"                            Первый год (по месяцам) руб.",{"$nulls":12},"Итого:"]
[{"$nulls":3},{"$f":"C4","v":0},{"$f":"'Приложение 1 (На печать 1)'!C8","v":"2019-02-01"},{"$f":"'Приложение 1 (На печать 1)'!D8","v":"2019-03-04"},{"$f":"'Приложение 1 (На печать 1)'!E8","v":"2019-04-04"},{"$f":"'Приложение 1 (На печать 1)'!F8","v":"2019-05-05"},{"$f":"'Приложение 1 (На печать 1)'!G8","v":"2019-06-05"},{"$f":"'Приложение 1 (На печать 1)'!H8","v":"2019-07-06"},{"$f":"'Приложение 1 (На печать 1)'!I8","v":"2019-08-06"},{"$f":"'Приложение 1 (На печать 1)'!J8","v":"2019-09-06"},{"$f":"'Приложение 1 (На печать 1)'!K8","v":"2019-10-07"},{"$f":"'Приложение 1 (На печать 1)'!L8","v":"2019-11-07"},{"$f":"'Приложение 1 (На печать 1)'!M8","v":"2019-12-08"},{"$f":"'Приложение 1 (На печать 1)'!N8","v":"2020-01-08"}]
[null,"Всего:",null,{"$f":"SUM(D56:D60)","v":0},0,0,0,0,0,0,0,0,0,0,0,0,{"$f":"SUM(D55:P55)","v":0}]
[1,null,null,0,{"$f":"$D$56*10%","v":0},{"$f":"$D$56*10%","v":0},{"$f":"$D$56*10%","v":0},0,0,0,0,0,0,0,0,0,0]
[2,null,null,0,0,0,0,0,0,0,0,0,0,0,0,0,0]
[3,null,null,0,0,0,0,0,0,0,0,0,0,0,0,0,0]
[4,null,null,0,0,0,0,0,0,0,0,0,0,0,0,0,0]
[5,null,null,0,0,0,0,0,0,0,0,0,0,0,0,0,0]

{"sheet":"5.1. График","index":8,"n_rows":9,"n_cols":10,"rows_kept":9,"merged":[[2,0,3,0],[2,1,3,1],[2,2,3,2]]}
["Форма представления сводного графика реализации проекта",{"$nulls":8},"ВОЗВРАТ К СХЕМЕ"]
[]
["№","Наименование этапа","Ответственный (исполнитель)","Время (недели)"]
[{"$nulls":3},1,2,3,4,5]
[1,null,{"$f":"Исходные!B11","v":0}]
[2,null,{"$f":"C5","v":0}]
[3,null,{"$f":"C6","v":0}]
[4,null,{"$f":"C7","v":0}]
[6,null,{"$f":"C8","v":0}]

{"sheet":"5.2. Помещения","index":9,"n_rows":13,"n_cols":16,"rows_kept":13,"merged":[[2,0,3,0],[2,1,3,1],[2,2,2,14],[2,15,3,15]]}
[null,"ВОЗВРАТ К СХЕМЕ"]
[null,"Площади и помещения:"]
["№ п/п","Наименование","Первый год (по месяцам) руб.",{"$nulls":12},"Итого"]
[null,null,0,{"$f":"'Приложение 1 (На печать 1)'!C8","v":"2019-02-01"},{"$f":"'Приложение 1 (На печать 1)'!D8","v":"2019-03-04"},{"$f":"'Приложение 1 (На печать 1)'!E8","v":"2019-04-04"},{"$f":"'Приложение 1 (На печать 1)'!F8","v":"2019-05-05"},{"$f":"'Приложение 1 (На печать 1)'!G8","v":"2019-06-05"},{"$f":"'Приложение 1 (На печать 1)'!H8","v":"2019-07-06"},{"$f":"'Приложение 1 (На печать 1)'!I8","v":"2019-08-06"},{"$f":"'Приложение 1 (На печать 1)'!J8","v":"2019-09-06"},{"$f":"'Приложение 1 (На печать 1)'!K8","v":"2019-10-07"},{"$f":"'Приложение 1 (На печать 1)'!L8","v":"2019-11-07"},{"$f":"'Приложение 1 (На печать 1)'!M8","v":"2019-12-08"},{"$f":"'Приложение 1 (На печать 1)'!N8","v":"2020-01-08"}]
[null,"Всего:",{"$f":"C7+C8+C9+C11+C12+C13","v":0},0,0,0,0,0,0,0,0,0,0,0,0,0]
["Производственные (в т.ч. торговые)  помещения"]
[1,"Арендная плата",0,0,0,0,0,0,0,0,0,0,0,0,0,{"$f":"SUM(C7:O7)","v":0}]
[2,"Ремонтные работы",0,0,0,0,0,0,0,0,0,0,0,0,0,{"$f":"SUM(C8:O8)","v":0}]
[3,"Коммунальные платежи",0,0,0,0,0,0,0,0,0,0,0,0,0,{"$f":"SUM(C9:O9)","v":0}]
["Офисные помещения",null,null," "]
[4,"Арендная плата",0,0,{"$f":"D11","v":0},{"$f":"E11","v":0},0,0,0,0,0,0,0,0,0,{"$f":"SUM(C11:O11)","v":0}]
[5,"Ремонтные работы",0,0,{"$f":"D12","v":0},0,0,0,0,0,0,0,0,0,0,{"$f":"SUM(C12:O12)","v":0}]
[6,"Коммунальные платежи",0,0,{"$f":"D13","v":0},{"$f":"E13","v":0},0,0,0,0,0,0,0,0,0,{"$f":"SUM(C13:O13)","v":0}]

{"sheet":"5.3. Оборудование","index":10,"n_rows":30,"n_cols":6,"rows_kept":30,"merged":[[0,3,0,6],[2,0,3,0],[2,1,3,1],[2,2,3,2],[2,3,2,4],[2,5,3,5],[4,1,4,4]]}
[null,"ВОЗВРАТ К СХЕМЕ",null,"ПЕРЕЙТИ К КАПИТАЛЬНЫМ ВЛОЖЕНИЯМ"]
[null,"Оборудование:"]
["№ п/п","Наименование, характеристика","Цена,  руб.","Количество (ед.)",null,"Стоимость, руб. "]
[{"$nulls":3},"имеется","требуется дополнительно"]
[null,"Всего:",{"$nulls":3},{"$f":"SUM(F6:F30)","v":0}]
[1,{"$nulls":4},{"$f":"C6*E6","v":0}]
[2,{"$nulls":4},0]
[3,{"$nulls":4},0]
[4,{"$nulls":4},0]
[5,{"$nulls":4},0]
[6,{"$nulls":4},0]
[7,{"$nulls":4},0]
[8,{"$nulls":4},0]
[9,{"$nulls":4},0]
[10,{"$nulls":4},0]
[11,{"$nulls":4},0]
[12,{"$nulls":4},0]
[13,{"$nulls":4},{"$f":"C18*E18","v":0}]
[14,{"$nulls":4},0]
[15,{"$nulls":4},0]
[16,{"$nulls":4},0]
[17,{"$nulls":4},0]
[18,{"$nulls":4},{"$f":"C23*E23","v":0}]
[19,{"$nulls":4},0]
[20,{"$nulls":4},0]
[21,{"$nulls":4},0]
[22,{"$nulls":4},0]
[23,{"$nulls":4},0]
[24,{"$nulls":4},0]
[25,{"$nulls":4},0]

{"sheet":"5.3. Кап.вложения","index":11,"n_rows":10,"n_cols":16,"rows_kept":10,"merged":[[0,4,0,7],[2,0,3,0],[2,1,3,1],[2,2,2,14],[2,15,3,15]]}
[null,"ВОЗВРАТ К СХЕМЕ",null,null,"ПЕРЕЙТИ К ПЕРЕЧНЮ ОБОРУДОВАНИЯ"]
[null,"Капитальные вложения:",null,{"$f":"IF(ABS(P7-C6)>1,\"Внимание: СТОИМОСТЬ ОБОРУДОВАНИЯ НЕ СОВПАДАЕТ!!!\",0)","v":0}]
["№ п/п","Наименование","Первый год (по месяцам) руб.",{"$nulls":12},"Итого"]
[null,null,0,{"$f":"'Приложение 1 (На печать 1)'!C8","v":"2019-02-01"},{"$f":"'Приложение 1 (На печать 1)'!D8","v":"2019-03-04"},{"$f":"'Приложение 1 (На печать 1)'!E8","v":"2019-04-04"},{"$f":"'Приложение 1 (На печать 1)'!F8","v":"2019-05-05"},{"$f":"'Приложение 1 (На печать 1)'!G8","v":"2019-06-05"},{"$f":"'Приложение 1 (На печать 1)'!H8","v":"2019-07-06"},{"$f":"'Приложение 1 (На печать 1)'!I8","v":"2019-08-06"},{"$f":"'Приложение 1 (На печать 1)'!J8","v":"2019-09-06"},{"$f":"'Приложение 1 (На печать 1)'!K8","v":"2019-10-07"},{"$f":"'Приложение 1 (На печать 1)'!L8","v":"2019-11-07"},{"$f":"'Приложение 1 (На печать 1)'!M8","v":"2019-12-08"},{"$f":"'Приложение 1 (На печать 1)'!N8","v":"2020-01-08"}]
[null,"Всего:",{"$f":"SUM(C7:C10)","v":0},0,0,0,0,0,0,0,0,0,0,0,0,0]
[null,"Всего стоимость оборудования",{"$f":"'5.3. Оборудование'!F5","v":0}]
[1,"Приобретение оборудования",{"$f":"'5.3. Оборудование'!F5","v":0},0,0,0,0,0,0,0,0,0,0,0,0,{"$f":"SUM(C7:O7)","v":0}]
[2,"Приобретение транспортных средств",0,0,0,0,0,0,0,0,0,0,0,0,0,{"$f":"SUM(C8:O8)","v":0}]
[3,"Проведение строительных, ремонтных, монтажных работ",{"$f":"'5.2. Помещения'!C8+'5.2. Помещения'!C12","v":0},{"$f":"'5.2. Помещения'!D8+'5.2. Помещения'!D12","v":0},{"$f":"'5.2. Помещения'!E8+'5.2. Помещения'!E12","v":0},{"$f":"'5.2. Помещения'!F8+'5.2. Помещения'!F12","v":0},{"$f":"'5.2. Помещения'!G8+'5.2. Помещения'!G12","v":0},{"$f":"'5.2. Помещения'!H8+'5.2. Помещения'!H12","v":0},{"$f":"'5.2. Помещения'!I8+'5.2. Помещения'!I12","v":0},{"$f":"'5.2. Помещения'!J8+'5.2. Помещения'!J12","v":0},{"$f":"'5.2. Помещения'!K8+'5.2. Помещения'!K12","v":0},{"$f":"'5.2. Помещения'!L8+'5.2. Помещения'!L12","v":0},{"$f":"'5.2. Помещения'!M8+'5.2. Помещения'!M12","v":0},{"$f":"'5.2. Помещения'!N8+'5.2. Помещения'!N12","v":0},{"$f":"'5.2. Помещения'!O8+'5.2. Помещения'!O12","v":0},{"$f":"SUM(C9:O9)","v":0}]
[4,"Телефонная линия / Интернет",0,0,0,0,0,0,0,0,0,0,0,0,0,{"$f":"SUM(C10:O10)","v":0}]

{"sheet":"5.4.2. Накладные  затраты","index":12,"n_rows":24,"n_cols":16,"rows_kept":24,"merged":[[3,0,4,0],[3,1,4,1],[3,2,3,14],[3,15,4,15],[12,0,13,0],[12,1,13,1],[12,2,12,14],[12,15,13,15]]}
[null,"ВОЗВРАТ К СХЕМЕ"]
[]
[null,"Производственные затраты:"]
["№ п/п","Наименование","Первый год (по месяцам) руб.",{"$nulls":12},"Итого:"]
[null,null,0,{"$f":"'Приложение 1 (На печать 1)'!C8","v":"2019-02-01"},{"$f":"'Приложение 1 (На печать 1)'!D8","v":"2019-03-04"},{"$f":"'Приложение 1 (На печать 1)'!E8","v":"2019-04-04"},{"$f":"'Приложение 1 (На печать 1)'!F8","v":"2019-05-05"},{"$f":"'Приложение 1 (На печать 1)'!G8","v":"2019-06-05"},{"$f":"'Приложение 1 (На печать 1)'!H8","v":"2019-07-06"},{"$f":"'Приложение 1 (На печать 1)'!I8","v":"2019-08-06"},{"$f":"'Приложение 1 (На печать 1)'!J8","v":"2019-09-06"},{"$f":"'Приложение 1 (На печать 1)'!K8","v":"2019-10-07"},{"$f":"'Приложение 1 (На печать 1)'!L8","v":"2019-11-07"},{"$f":"'Приложение 1 (На печать 1)'!M8","v":"2019-12-08"},{"$f":"'Приложение 1 (На печать 1)'!N8","v":"2020-01-08"}]
[null,"Всего:",{"$f":"SUM(C7:C10)","v":0},0,0,0,0,0,0,0,0,0,0,0,0,0]
[1,"Обучение производственного персонала",0,0,0,0,0,0,0,0,0,0,0,0,0,{"$f":"SUM(C7:O7)","v":0}]
[2,"Транспортные расходы для производства",0,0,0,0,0,0,0,0,0,0,0,0,0,{"$f":"SUM(C8:O8)","v":0}]
[3,"Аренда производственных площадей",{"$f":"'5.2. Помещения'!C7","v":0},{"$f":"'5.2. Помещения'!D7","v":0},{"$f":"'5.2. Помещения'!E7","v":0},{"$f":"'5.2. Помещения'!F7","v":0},{"$f":"'5.2. Помещения'!G7","v":0},{"$f":"'5.2. Помещения'!H7","v":0},{"$f":"'5.2. Помещения'!I7","v":0},{"$f":"'5.2. Помещения'!J7","v":0},{"$f":"'5.2. Помещения'!K7","v":0},{"$f":"'5.2. Помещения'!L7","v":0},{"$f":"'5.2. Помещения'!M7","v":0},{"$f":"'5.2. Помещения'!N7","v":0},{"$f":"'5.2. Помещения'!O7","v":0},{"$f":"SUM(C9:O9)","v":0}]
[4,"Коммунальные платежи по производственным помещениям ",{"$f":"'5.2. Помещения'!C9","v":0},{"$f":"'5.2. Помещения'!D9","v":0},{"$f":"'5.2. Помещения'!E9","v":0},{"$f":"'5.2. Помещения'!F9","v":0},{"$f":"'5.2. Помещения'!G9","v":0},{"$f":"'5.2. Помещения'!H9","v":0},{"$f":"'5.2. Помещения'!I9","v":0},{"$f":"'5.2. Помещения'!J9","v":0},{"$f":"'5.2. Помещения'!K9","v":0},{"$f":"'5.2. Помещения'!L9","v":0},{"$f":"'5.2. Помещения'!M9","v":0},{"$f":"'5.2. Помещения'!N9","v":0},{"$f":"'5.2. Помещения'!O9","v":0},{"$f":"SUM(C10:O10)","v":0}]
[]
[null,"Административные затраты:"]
["№ п/п","Наименование","Первый год (по месяцам) руб.",{"$nulls":12},"Итого"]
[null,null,0,{"$f":"'Приложение 1 (На печать 1)'!C8","v":"2019-02-01"},{"$f":"'Приложение 1 (На печать 1)'!D8","v":"2019-03-04"},{"$f":"'Приложение 1 (На печать 1)'!E8","v":"2019-04-04"},{"$f":"'Приложение 1 (На печать 1)'!F8","v":"2019-05-05"},{"$f":"'Приложение 1 (На печать 1)'!G8","v":"2019-06-05"},{"$f":"'Приложение 1 (На печать 1)'!H8","v":"2019-07-06"},{"$f":"'Приложение 1 (На печать 1)'!I8","v":"2019-08-06"},{"$f":"'Приложение 1 (На печать 1)'!J8","v":"2019-09-06"},{"$f":"'Приложение 1 (На печать 1)'!K8","v":"2019-10-07"},{"$f":"'Приложение 1 (На печать 1)'!L8","v":"2019-11-07"},{"$f":"'Приложение 1 (На печать 1)'!M8","v":"2019-12-08"},{"$f":"'Приложение 1 (На печать 1)'!N8","v":"2020-01-08"}]
[null,"Всего:",{"$f":"SUM(C16:C24)","v":0},0,0,0,0,0,0,0,0,0,0,0,0,0]
[1,"З/п административного персонала","Х",{"$f":"'6.1. Персонал'!D5","v":0},{"$f":"'6.1. Персонал'!E5","v":0},{"$f":"'6.1. Персонал'!F5","v":0},{"$f":"'6.1. Персонал'!G5","v":0},{"$f":"'6.1. Персонал'!H5","v":0},{"$f":"'6.1. Персонал'!I5","v":0},{"$f":"'6.1. Персонал'!J5","v":0},{"$f":"'6.1. Персонал'!K5","v":0},{"$f":"'6.1. Персонал'!L5","v":0},{"$f":"'6.1. Персонал'!M5","v":0},{"$f":"'6.1. Персонал'!N5","v":0},{"$f":"'6.1. Персонал'!O5","v":0},{"$f":"SUM(C16:O16)","v":0}]
[2,"Аренда офисных помещений",{"$f":"'5.2. Помещения'!C11","v":0},{"$f":"'5.2. Помещения'!D11","v":0},{"$f":"'5.2. Помещения'!E11","v":0},{"$f":"'5.2. Помещения'!F11","v":0},{"$f":"'5.2. Помещения'!G11","v":0},{"$f":"'5.2. Помещения'!H11","v":0},{"$f":"'5.2. Помещения'!I11","v":0},{"$f":"'5.2. Помещения'!J11","v":0},{"$f":"'5.2. Помещения'!K11","v":0},{"$f":"'5.2. Помещения'!L11","v":0},{"$f":"'5.2. Помещения'!M11","v":0},{"$f":"'5.2. Помещения'!N11","v":0},{"$f":"'5.2. Помещения'!O11","v":0},0]
[3,"Коммунальные платежи по офисным помещениям",{"$f":"'5.2. Помещения'!C13","v":0},{"$f":"'5.2. Помещения'!D13","v":0},{"$f":"'5.2. Помещения'!E13","v":0},{"$f":"'5.2. Помещения'!F13","v":0},{"$f":"'5.2. Помещения'!G13","v":0},{"$f":"'5.2. Помещения'!H13","v":0},{"$f":"'5.2. Помещения'!I13","v":0},{"$f":"'5.2. Помещения'!J13","v":0},{"$f":"'5.2. Помещения'!K13","v":0},{"$f":"'5.2. Помещения'!L13","v":0},{"$f":"'5.2. Помещения'!M13","v":0},{"$f":"'5.2. Помещения'!N13","v":0},{"$f":"'5.2. Помещения'!O13","v":0},0]
[4,"Связь и коммуникации",0,0,0,0,0,0,0,0,0,0,0,0,0,0]
[5,"Канцелярские товары","Х",0,{"$f":"D20","v":0},0,0,0,0,0,0,0,0,0,0,0]
[6,"Услуги бухгалтерии",0,0,{"$f":"D21","v":0},{"$f":"E21","v":0},0,0,0,0,0,0,0,0,0,0]
[7,"Услуги банка",0,0,0,0,0,0,0,0,0,0,0,0,0,0]
[8,"Услуги прочих сторонних организаций",0,0,0,0,0,0,0,0,0,0,0,0,0,0]
[9,"Прочие административные расходы",0,0,{"$f":"D24","v":0},0,0,0,0,0,0,0,0,0,0,0]

{"sheet":"6.1. Персонал","index":13,"n_rows":28,"n_cols":16,"rows_kept":28,"merged":[[2,0,3,0],[2,1,3,1],[2,2,3,2],[2,3,2,14],[2,15,3,15],[7,1,7,14],[8,0,9,0],[8,1,9,1],[10,0,11,0],[10,1,11,1],[12,0,13,0],[12,1,13,1],[14,0,15,0],[14,1,15,1],[17,1,17,14],[18,0,19,0],[18,1,19,1],[20,0,21,0],[20,1,21,1],[22,0,23,0],[22,1,23,1],[24,0,25,0],[24,1,25,1]]}
[null,"ВОЗВРАТ К СХЕМЕ"]
[null,"Персонал проекта:"]
["№ п/п","Наименование должности","Показатели","Затраты на оплату труда по месяцам, руб. ",{"$nulls":11},"Итого:"]
[{"$nulls":3},{"$f":"'Приложение 1 (На печать 1)'!C8","v":"2019-02-01"},{"$f":"'Приложение 1 (На печать 1)'!D8","v":"2019-03-04"},{"$f":"'Приложение 1 (На печать 1)'!E8","v":"2019-04-04"},{"$f":"'Приложение 1 (На печать 1)'!F8","v":"2019-05-05"},{"$f":"'Приложение 1 (На печать 1)'!G8","v":"2019-06-05"},{"$f":"'Приложение 1 (На печать 1)'!H8","v":"2019-07-06"},{"$f":"'Приложение 1 (На печать 1)'!I8","v":"2019-08-06"},{"$f":"'Приложение 1 (На печать 1)'!J8","v":"2019-09-06"},{"$f":"'Приложение 1 (На печать 1)'!K8","v":"2019-10-07"},{"$f":"'Приложение 1 (На печать 1)'!L8","v":"2019-11-07"},{"$f":"'Приложение 1 (На печать 1)'!M8","v":"2019-12-08"},{"$f":"'Приложение 1 (На печать 1)'!N8","v":"2020-01-08"}]
["Всего по административному персоналу:",null,null,{"$f":"D9*D10+D11*D12+D13*D14+D15*D16","v":0},0,0,0,0,0,0,0,0,0,0,0,{"$f":"SUM(D5:O5)","v":0}]
["Всего по производственному персоналу:",null,null,{"$f":"D19*D20+D21*D22+D23*D24+D25*D26","v":0},0,0,0,0,0,0,0,0,0,0,0,{"$f":"SUM(D6:O6)","v":0}]
["Всего по персоналу (п. 1 + п.2):",null,null,{"$f":"D5+D6","v":0},0,0,0,0,0,0,0,0,0,0,0,0]
[1,"Административный персонал"]
["1.1.",null,"Количество",0,0,0,0,0,0,0,0,0,0,0,0]
[null,null,"Размер з/п",0,{"$f":"D10","v":0},{"$f":"E10","v":0},0,0,0,0,0,0,0,0,0]
["1.2.",null,"Количество",0,0,0,0,0,0,0,0,0,0,0,0]
[null,null,"Размер з/п",{"$f":"D10","v":0},{"$f":"E10","v":0},0,0,0,0,0,0,0,0,0,0]
["1.3.",null,"Количество",0,{"$f":"D13","v":0},0,0,0,0,0,0,0,0,0,0]
[null,null,"Размер з/п",null,{"$f":"D14","v":0},0,0,0,0,0,0,0,0,0,0]
["1.4.",null,"Количество",0,{"$f":"D15","v":0},0,0,0,0,0,0,0,0,0,0]
[null,null,"Размер з/п",null,{"$f":"D16","v":0},0,0,0,0,0,0,0,0,0,0]
[]
[2,"Производственный (в т.ч. торговый) персонал"]
["2.1.",null,"Количество",0,0,0,0,0,0,0,0,0,0,0,0]
[null,null,"Размер з/п",{"$f":"D12","v":0},{"$f":"D20","v":0},{"$f":"E20","v":0},0,0,0,0,0,0,0,0,0]
["2.2.",null,"Количество",0,{"$f":"D21","v":0},{"$f":"E21","v":0},{"$f":"F21","v":0},0,0,0,0,0,0,0,0]
[null,null,"Размер з/п",{"$f":"D20","v":0},{"$f":"D22","v":0},{"$f":"E22","v":0},0,0,0,0,0,0,0,0,0]
["2.3.",null,"Количество",0,{"$f":"D23","v":0},0,0,0,0,0,0,0,0,0,0]
[null,null,"Размер з/п",{"$f":"D22","v":0},{"$f":"D24","v":0},0,0,0,0,0,0,0,0,{"$f":"M24","v":0},{"$f":"N24","v":0}]
["2.4.",null,"Количество",0,{"$f":"D25","v":0},0,0,0,0,0,0,0,0,0,0]
[null,null,"Размер з/п",0,{"$f":"D26","v":0},0,0,0,0,0,0,0,0,0,0]
["Социальные взносы                                                                                                                              (п. 3. * ставку соц.выплат)",null,null,{"$f":"D7*Исходные!$B$23","v":0},{"$f":"E7*Исходные!$B$23","v":0},{"$f":"F7*Исходные!$B$23","v":0},{"$f":"G7*Исходные!$B$23","v":0},{"$f":"H7*Исходные!$B$23","v":0},{"$f":"I7*Исходные!$B$23","v":0},{"$f":"J7*Исходные!$B$23","v":0},{"$f":"K7*Исходные!$B$23","v":0},{"$f":"L7*Исходные!$B$23","v":0},{"$f":"M7*Исходные!$B$23","v":0},{"$f":"N7*Исходные!$B$23","v":0},{"$f":"O7*Исходные!$B$23","v":0},{"$f":"SUM(D27:O27)","v":0}]
["Всего (п.3 + п.4.)",null,null,{"$f":"D7+D27","v":0},0,0,0,0,0,0,0,0,0,0,0,{"$f":"SUM(D28:O28)","v":0}]

{"sheet":"Поквартально","index":14,"n_rows":78,"n_cols":30,"rows_kept":78}
["Прогноз финансовых результатов производственной и сбытовой деятельности на первый год реализации проекта",{"$nulls":28},"Приложение"]
["Период ( квартал)","до начала реализации проекта",1,2,3,4,"ИТОГО",{"$nulls":9},"до начала реализации проекта",1,2,3,4,5,6,7,8,9,10,11,12,"ИТОГО"]
["1.ДОХОДЫ ПО ПРОЕКТУ"]
["1.1.Выручка от продажи товаров, работ, оказания услуг",500,{"$f":"SUM(R4:T4)","v":0},{"$f":"SUM(U4:W4)","v":0},{"$f":"SUM(X4:Z4)","v":0},{"$f":"SUM(AA4:AC4)","v":0},{"$f":"SUM(B4:F4)","v":500},{"$nulls":9},{"$f":"'Приложение 1 (На печать 1)'!B10","v":0},{"$f":"'Приложение 1 (На печать 1)'!C10","v":0},{"$f":"'Приложение 1 (На печать 1)'!D10","v":0},{"$f":"'Приложение 1 (На печать 1)'!E10","v":0},{"$f":"'Приложение 1 (На печать 1)'!F10","v":0},{"$f":"'Приложение 1 (На печать 1)'!G10","v":0},{"$f":"'Приложение 1 (На печать 1)'!H10","v":0},{"$f":"'Приложение 1 (На печать 1)'!I10","v":0},{"$f":"'Приложение 1 (На печать 1)'!J10","v":0},{"$f":"'Приложение 1 (На печать 1)'!K10","v":0},{"$f":"'Приложение 1 (На печать 1)'!L10","v":0},{"$f":"'Приложение 1 (На печать 1)'!M10","v":0},{"$f":"'Приложение 1 (На печать 1)'!N10","v":0},{"$f":"SUM(Q4:AC4)","v":0}]
["1.2.Государственные субсидии (МРПиП МО)",{"$f":"Q5","v":0},{"$f":"SUM(R5:T5)","v":0},{"$f":"SUM(U5:W5)","v":0},{"$f":"SUM(X5:Z5)","v":0},{"$f":"SUM(AA5:AC5)","v":0},{"$f":"SUM(B5:F5)","v":0},{"$nulls":9},{"$f":"'Приложение 1 (На печать 1)'!B11","v":0},{"$f":"'Приложение 1 (На печать 1)'!C11","v":0},{"$f":"'Приложение 1 (На печать 1)'!D11","v":0},{"$f":"'Приложение 1 (На печать 1)'!E11","v":0},{"$f":"'Приложение 1 (На печать 1)'!F11","v":0},{"$f":"'Приложение 1 (На печать 1)'!G11","v":0},{"$f":"'Приложение 1 (На печать 1)'!H11","v":0},{"$f":"'Приложение 1 (На печать 1)'!I11","v":0},{"$f":"'Приложение 1 (На печать 1)'!J11","v":0},{"$f":"'Приложение 1 (На печать 1)'!K11","v":0},{"$f":"'Приложение 1 (На печать 1)'!L11","v":0},{"$f":"'Приложение 1 (На печать 1)'!M11","v":0},{"$f":"'Приложение 1 (На печать 1)'!N11","v":0},{"$f":"SUM(Q5:AC5)","v":0}]
["1.3.Единовременная выплата ГСЗН (включая субсидию на создание рабочего места)",0,{"$f":"SUM(R6:T6)","v":0},{"$f":"SUM(U6:W6)","v":0},{"$f":"SUM(X6:Z6)","v":0},{"$f":"SUM(AA6:AC6)","v":0},{"$f":"SUM(B6:F6)","v":0},{"$nulls":9},{"$f":"'Приложение 1 (На печать 1)'!B12","v":0},{"$f":"'Приложение 1 (На печать 1)'!C12","v":0},{"$f":"'Приложение 1 (На печать 1)'!D12","v":0},{"$f":"'Приложение 1 (На печать 1)'!E12","v":0},{"$f":"'Приложение 1 (На печать 1)'!F12","v":0},{"$f":"'Приложение 1 (На печать 1)'!G12","v":0},{"$f":"'Приложение 1 (На печать 1)'!H12","v":0},{"$f":"'Приложение 1 (На печать 1)'!I12","v":0},{"$f":"'Приложение 1 (На печать 1)'!J12","v":0},{"$f":"'Приложение 1 (На печать 1)'!K12","v":0},{"$f":"'Приложение 1 (На печать 1)'!L12","v":0},{"$f":"'Приложение 1 (На печать 1)'!M12","v":0},{"$f":"'Приложение 1 (На печать 1)'!N12","v":0},0]
["1.4.Субвенция ГСЗН (на гос.регистрацию)",0,{"$f":"SUM(R7:T7)","v":0},{"$f":"SUM(U7:W7)","v":0},{"$f":"SUM(X7:Z7)","v":0},{"$f":"SUM(AA7:AC7)","v":0},{"$f":"SUM(B7:F7)","v":0},{"$nulls":9},{"$f":"'Приложение 1 (На печать 1)'!B13","v":0},{"$f":"'Приложение 1 (На печать 1)'!C13","v":0},{"$f":"'Приложение 1 (На печать 1)'!D13","v":0},{"$f":"'Приложение 1 (На печать 1)'!E13","v":0},{"$f":"'Приложение 1 (На печать 1)'!F13","v":0},{"$f":"'Приложение 1 (На печать 1)'!G13","v":0},{"$f":"'Приложение 1 (На печать 1)'!H13","v":0},{"$f":"'Приложение 1 (На печать 1)'!I13","v":0},{"$f":"'Приложение 1 (На печать 1)'!J13","v":0},{"$f":"'Приложение 1 (На печать 1)'!K13","v":0},{"$f":"'Приложение 1 (На печать 1)'!L13","v":0},{"$f":"'Приложение 1 (На печать 1)'!M13","v":0},{"$f":"'Приложение 1 (На печать 1)'!N13","v":0},0]
["Всего доходов (А):",{"$f":"SUM(B4:B7)","v":500},0,0,0,0,500,{"$nulls":9},{"$f":"SUM(Q4:Q7)","v":0},{"$f":"SUM(R4:R7)","v":0},0,0,0,0,0,0,0,0,0,0,0,0]
["2. ИНЫЕ ПОСТУПЛЕНИЯ",{"$nulls":28},0]
["2.1.Собственные средства",0,{"$f":"SUM(R10:T10)","v":0},{"$f":"SUM(U10:W10)","v":0},{"$f":"SUM(X10:Z10)","v":0},{"$f":"SUM(AA10:AC10)","v":0},{"$f":"SUM(B10:F10)","v":0},{"$nulls":9},{"$f":"'Приложение 1 (На печать 1)'!B17","v":0},{"$f":"'Приложение 1 (На печать 1)'!C17","v":0},{"$f":"'Приложение 1 (На печать 1)'!D17","v":0},{"$f":"'Приложение 1 (На печать 1)'!E17","v":0},{"$f":"'Приложение 1 (На печать 1)'!F17","v":0},{"$f":"'Приложение 1 (На печать 1)'!G17","v":0},{"$f":"'Приложение 1 (На печать 1)'!H17","v":0},{"$f":"'Приложение 1 (На печать 1)'!I17","v":0},{"$f":"'Приложение 1 (На печать 1)'!J17","v":0},{"$f":"'Приложение 1 (На печать 1)'!K17","v":0},{"$f":"'Приложение 1 (На печать 1)'!L17","v":0},{"$f":"'Приложение 1 (На печать 1)'!M17","v":0},{"$f":"'Приложение 1 (На печать 1)'!N17","v":0},0]
["2.2.Кредит (ссуда)",0,{"$f":"SUM(R11:T11)","v":0},{"$f":"SUM(U11:W11)","v":0},{"$f":"SUM(X11:Z11)","v":0},{"$f":"SUM(AA11:AC11)","v":0},{"$f":"SUM(B11:F11)","v":0},{"$nulls":9},{"$f":"'Приложение 1 (На печать 1)'!B18","v":0},{"$f":"'Приложение 1 (На печать 1)'!C18","v":0},{"$f":"'Приложение 1 (На печать 1)'!D18","v":0},{"$f":"'Приложение 1 (На печать 1)'!E18","v":0},{"$f":"'Приложение 1 (На печать 1)'!F18","v":0},{"$f":"'Приложение 1 (На печать 1)'!G18","v":0},{"$f":"'Приложение 1 (На печать 1)'!H18","v":0},{"$f":"'Приложение 1 (На печать 1)'!I18","v":0},{"$f":"'Приложение 1 (На печать 1)'!J18","v":0},{"$f":"'Приложение 1 (На печать 1)'!K18","v":0},{"$f":"'Приложение 1 (На печать 1)'!L18","v":0},{"$f":"'Приложение 1 (На печать 1)'!M18","v":0},{"$f":"'Приложение 1 (На печать 1)'!N18","v":0},0]
["2.3.Средства из других источников",0,{"$f":"SUM(R12:T12)","v":0},{"$f":"SUM(U12:W12)","v":0},{"$f":"SUM(X12:Z12)","v":0},{"$f":"SUM(AA12:AC12)","v":0},{"$f":"SUM(B12:F12)","v":0},{"$nulls":9},{"$f":"'Приложение 1 (На печать 1)'!B19","v":0},{"$f":"'Приложение 1 (На печать 1)'!C19","v":0},{"$f":"'Приложение 1 (На печать 1)'!D19","v":0},{"$f":"'Приложение 1 (На печать 1)'!E19","v":0},{"$f":"'Приложение 1 (На печать 1)'!F19","v":0},{"$f":"'Приложение 1 (На печать 1)'!G19","v":0},{"$f":"'Приложение 1 (На печать 1)'!H19","v":0},{"$f":"'Приложение 1 (На печать 1)'!I19","v":0},{"$f":"'Приложение 1 (На печать 1)'!J19","v":0},{"$f":"'Приложение 1 (На печать 1)'!K19","v":0},{"$f":"'Приложение 1 (На печать 1)'!L19","v":0},{"$f":"'Приложение 1 (На печать 1)'!M19","v":0},{"$f":"'Приложение 1 (На печать 1)'!N19","v":0},0]
["Всего иных поступлений (Б):",{"$f":"SUM(B10:B12)","v":0},0,0,0,0,0,{"$nulls":9},{"$f":"SUM(Q10:Q12)","v":0},{"$f":"SUM(R10:R12)","v":0},0,0,0,0,0,0,0,0,0,0,0,0]
["3.РАСХОДЫ ПО ПРОЕКТУ",{"$nulls":28},0]
["1. ПРЯМЫЕ ЗАТРАТЫ",{"$nulls":28},0]
["1.1.Сырье, материалы",0,{"$f":"SUM('Приложение 1 (На печать 1)'!C25:E25)","v":0},{"$f":"SUM(U16:W16)","v":0},{"$f":"SUM(X16:Z16)","v":0},{"$f":"SUM(AA16:AC16)","v":0},{"$f":"SUM(B16:F16)","v":0},{"$nulls":9},{"$f":"'Приложение 1 (На печать 1)'!B25","v":0},{"$f":"'Приложение 1 (На печать 1)'!C25","v":0},{"$f":"'Приложение 1 (На печать 1)'!D25","v":0},{"$f":"'Приложение 1 (На печать 1)'!E25","v":0},{"$f":"'Приложение 1 (На печать 1)'!F25","v":0},{"$f":"'Приложение 1 (На печать 1)'!G25","v":0},{"$f":"'Приложение 1 (На печать 1)'!H25","v":0},{"$f":"'Приложение 1 (На печать 1)'!I25","v":0},{"$f":"'Приложение 1 (На печать 1)'!J25","v":0},{"$f":"'Приложение 1 (На печать 1)'!K25","v":0},{"$f":"'Приложение 1 (На печать 1)'!L25","v":0},{"$f":"'Приложение 1 (На печать 1)'!M25","v":0},{"$f":"'Приложение 1 (На печать 1)'!N25","v":0},0]
["1.2.Комплектующие",0,{"$f":"SUM(R17:T17)","v":0},{"$f":"SUM(U17:W17)","v":0},{"$f":"SUM(X17:Z17)","v":0},{"$f":"SUM(AA17:AC17)","v":0},{"$f":"SUM(B17:F17)","v":0},{"$nulls":9},{"$f":"'Приложение 1 (На печать 1)'!B26","v":0},{"$f":"'Приложение 1 (На печать 1)'!C26","v":0},{"$f":"'Приложение 1 (На печать 1)'!D26","v":0},{"$f":"'Приложение 1 (На печать 1)'!E26","v":0},{"$f":"'Приложение 1 (На печать 1)'!F26","v":0},{"$f":"'Приложение 1 (На печать 1)'!G26","v":0},{"$f":"'Приложение 1 (На печать 1)'!H26","v":0},{"$f":"'Приложение 1 (На печать 1)'!I26","v":0},{"$f":"'Приложение 1 (На печать 1)'!J26","v":0},{"$f":"'Приложение 1 (На печать 1)'!K26","v":0},{"$f":"'Приложение 1 (На печать 1)'!L26","v":0},{"$f":"'Приложение 1 (На печать 1)'!M26","v":0},{"$f":"'Приложение 1 (На печать 1)'!N26","v":0},0]
["1.3.Оплата труда производственного персонала ","Х",{"$f":"SUM(R18:T18)","v":0},{"$f":"SUM(U18:W18)","v":0},{"$f":"SUM(X18:Z18)","v":0},{"$f":"SUM(AA18:AC18)","v":0},{"$f":"SUM(B18:F18)","v":0},{"$nulls":9},{"$f":"'Приложение 1 (На печать 1)'!B27","v":"Х"},{"$f":"'Приложение 1 (На печать 1)'!C27","v":0},{"$f":"'Приложение 1 (На печать 1)'!D27","v":0},{"$f":"'Приложение 1 (На печать 1)'!E27","v":0},{"$f":"'Приложение 1 (На печать 1)'!F27","v":0},{"$f":"'Приложение 1 (На печать 1)'!G27","v":0},{"$f":"'Приложение 1 (На печать 1)'!H27","v":0},{"$f":"'Приложение 1 (На печать 1)'!I27","v":0},{"$f":"'Приложение 1 (На печать 1)'!J27","v":0},{"$f":"'Приложение 1 (На печать 1)'!K27","v":0},{"$f":"'Приложение 1 (На печать 1)'!L27","v":0},{"$f":"'Приложение 1 (На печать 1)'!M27","v":0},{"$f":"'Приложение 1 (На печать 1)'!N27","v":0},0]
["Итого прямые затраты:",{"$f":"SUM(B16:B18)","v":0},0,0,0,0,0,{"$nulls":9},{"$f":"SUM(Q16:Q18)","v":0},{"$f":"SUM(R16:R18)","v":0},0,0,0,0,0,0,0,0,0,0,0,0]
["2. ПРОИЗВОДСТВЕННЫЕ ЗАТРАТЫ",{"$nulls":28},0]
["2.1.Обучение производственного персонала",0,{"$f":"SUM('Приложение 1 (На печать 1)'!C30:E30)","v":0},{"$f":"SUM(U21:W21)","v":0},{"$f":"SUM(X21:Z21)","v":0},{"$f":"SUM(AA21:AC21)","v":0},{"$f":"SUM(B21:F21)","v":0},{"$nulls":9},{"$f":"'Приложение 1 (На печать 1)'!B30","v":0},{"$f":"'Приложение 1 (На печать 1)'!C30","v":0},{"$f":"'Приложение 1 (На печать 1)'!D30","v":0},{"$f":"'Приложение 1 (На печать 1)'!E30","v":0},{"$f":"'Приложение 1 (На печать 1)'!F30","v":0},{"$f":"'Приложение 1 (На печать 1)'!G30","v":0},{"$f":"'Приложение 1 (На печать 1)'!H30","v":0},{"$f":"'Приложение 1 (На печать 1)'!I30","v":0},{"$f":"'Приложение 1 (На печать 1)'!J30","v":0},{"$f":"'Приложение 1 (На печать 1)'!K30","v":0},{"$f":"'Приложение 1 (На печать 1)'!L30","v":0},{"$f":"'Приложение 1 (На печать 1)'!M30","v":0},{"$f":"'Приложение 1 (На печать 1)'!N30","v":0},0]
["2.2.Аренда производственных площадей",0,{"$f":"SUM('Приложение 1 (На печать 1)'!C31:E31)","v":0},{"$f":"SUM(U22:W22)","v":0},{"$f":"SUM(X22:Z22)","v":0},{"$f":"SUM(AA22:AC22)","v":0},{"$f":"SUM(B22:F22)","v":0},{"$nulls":9},{"$f":"'Приложение 1 (На печать 1)'!B31","v":0},{"$f":"'Приложение 1 (На печать 1)'!C31","v":0},{"$f":"'Приложение 1 (На печать 1)'!D31","v":0},{"$f":"'Приложение 1 (На печать 1)'!E31","v":0},{"$f":"'Приложение 1 (На печать 1)'!F31","v":0},{"$f":"'Приложение 1 (На печать 1)'!G31","v":0},{"$f":"'Приложение 1 (На печать 1)'!H31","v":0},{"$f":"'Приложение 1 (На печать 1)'!I31","v":0},{"$f":"'Приложение 1 (На печать 1)'!J31","v":0},{"$f":"'Приложение 1 (На печать 1)'!K31","v":0},{"$f":"'Приложение 1 (На печать 1)'!L31","v":0},{"$f":"'Приложение 1 (На печать 1)'!M31","v":0},{"$f":"'Приложение 1 (На печать 1)'!N31","v":0},0]
["2.3.Коммунальные платежи по производственным помещениям ",0,{"$f":"SUM('Приложение 1 (На печать 1)'!C32:E32)","v":0},{"$f":"SUM(U23:W23)","v":0},{"$f":"SUM(X23:Z23)","v":0},{"$f":"SUM(AA23:AC23)","v":0},{"$f":"SUM(B23:F23)","v":0},{"$nulls":9},{"$f":"'Приложение 1 (На печать 1)'!B32","v":0},{"$f":"'Приложение 1 (На печать 1)'!C32","v":0},{"$f":"'Приложение 1 (На печать 1)'!D32","v":0},{"$f":"'Приложение 1 (На печать 1)'!E32","v":0},{"$f":"'Приложение 1 (На печать 1)'!F32","v":0},{"$f":"'Приложение 1 (На печать 1)'!G32","v":0},{"$f":"'Приложение 1 (На печать 1)'!H32","v":0},{"$f":"'Приложение 1 (На печать 1)'!I32","v":0},{"$f":"'Приложение 1 (На печать 1)'!J32","v":0},{"$f":"'Приложение 1 (На печать 1)'!K32","v":0},{"$f":"'Приложение 1 (На печать 1)'!L32","v":0},{"$f":"'Приложение 1 (На печать 1)'!M32","v":0},{"$f":"'Приложение 1 (На печать 1)'!N32","v":0},0]
["2.4.Транспортные расходы для производства",0,{"$nulls":14},{"$f":"'Приложение 1 (На печать 1)'!B33","v":0},{"$f":"'Приложение 1 (На печать 1)'!C33","v":0},{"$f":"'Приложение 1 (На печать 1)'!D33","v":0},{"$f":"'Приложение 1 (На печать 1)'!E33","v":0},{"$f":"'Приложение 1 (На печать 1)'!F33","v":0},{"$f":"'Приложение 1 (На печать 1)'!G33","v":0},{"$f":"'Приложение 1 (На печать 1)'!H33","v":0},{"$f":"'Приложение 1 (На печать 1)'!I33","v":0},{"$f":"'Приложение 1 (На печать 1)'!J33","v":0},{"$f":"'Приложение 1 (На печать 1)'!K33","v":0},{"$f":"'Приложение 1 (На печать 1)'!L33","v":0},{"$f":"'Приложение 1 (На печать 1)'!M33","v":0},{"$f":"'Приложение 1 (На печать 1)'!N33","v":0},0]
["Итого производственные затраты:",{"$f":"SUM(B21:B24)","v":0},0,0,0,0,0,{"$nulls":9},{"$f":"SUM(Q21:Q24)","v":0},{"$f":"SUM(R21:R24)","v":0},0,0,0,0,0,0,0,0,0,0,0,0]
["3. АДМИНИСТРАТИВНЫЕ ЗАТРАТЫ",{"$nulls":28},0]
["3.1.Оплата труда административного персонала ","Х",{"$f":"SUM('Приложение 1 (На печать 1)'!C36:E36)","v":0},{"$f":"SUM(U27:W27)","v":0},{"$f":"SUM(X27:Z27)","v":0},{"$f":"SUM(AA27:AC27)","v":0},{"$f":"SUM(B27:F27)","v":0},{"$nulls":9},{"$f":"'Приложение 1 (На печать 1)'!B36","v":"Х"},{"$f":"'Приложение 1 (На печать 1)'!C36","v":0},{"$f":"'Приложение 1 (На печать 1)'!D36","v":0},{"$f":"'Приложение 1 (На печать 1)'!E36","v":0},{"$f":"'Приложение 1 (На печать 1)'!F36","v":0},{"$f":"'Приложение 1 (На печать 1)'!G36","v":0},{"$f":"'Приложение 1 (На печать 1)'!H36","v":0},{"$f":"'Приложение 1 (На печать 1)'!I36","v":0},{"$f":"'Приложение 1 (На печать 1)'!J36","v":0},{"$f":"'Приложение 1 (На печать 1)'!K36","v":0},{"$f":"'Приложение 1 (На печать 1)'!L36","v":0},{"$f":"'Приложение 1 (На печать 1)'!M36","v":0},{"$f":"'Приложение 1 (На печать 1)'!N36","v":0},0]
["3.2.Аренда офисных помещений",0,{"$f":"SUM('Приложение 1 (На печать 1)'!C37:E37)","v":0},0,0,0,0,{"$nulls":9},{"$f":"'Приложение 1 (На печать 1)'!B37","v":0},{"$f":"'Приложение 1 (На печать 1)'!C37","v":0},{"$f":"'Приложение 1 (На печать 1)'!D37","v":0},{"$f":"'Приложение 1 (На печать 1)'!E37","v":0},{"$f":"'Приложение 1 (На печать 1)'!F37","v":0},{"$f":"'Приложение 1 (На печать 1)'!G37","v":0},{"$f":"'Приложение 1 (На печать 1)'!H37","v":0},{"$f":"'Приложение 1 (На печать 1)'!I37","v":0},{"$f":"'Приложение 1 (На печать 1)'!J37","v":0},{"$f":"'Приложение 1 (На печать 1)'!K37","v":0},{"$f":"'Приложение 1 (На печать 1)'!L37","v":0},{"$f":"'Приложение 1 (На печать 1)'!M37","v":0},{"$f":"'Приложение 1 (На печать 1)'!N37","v":0},0]
["3.3.Коммунальные платежи по офисным помещениям ",0,{"$f":"SUM('Приложение 1 (На печать 1)'!C38:E38)","v":0},0,0,0,0,{"$nulls":9},{"$f":"'Приложение 1 (На печать 1)'!B38","v":0},{"$f":"'Приложение 1 (На печать 1)'!C38","v":0},{"$f":"'Приложение 1 (На печать 1)'!D38","v":0},{"$f":"'Приложение 1 (На печать 1)'!E38","v":0},{"$f":"'Приложение 1 (На печать 1)'!F38","v":0},{"$f":"'Приложение 1 (На печать 1)'!G38","v":0},{"$f":"'Приложение 1 (На печать 1)'!H38","v":0},{"$f":"'Приложение 1 (На печать 1)'!I38","v":0},{"$f":"'Приложение 1 (На печать 1)'!J38","v":0},{"$f":"'Приложение 1 (На печать 1)'!K38","v":0},{"$f":"'Приложение 1 (На печать 1)'!L38","v":0},{"$f":"'Приложение 1 (На печать 1)'!M38","v":0},{"$f":"'Приложение 1 (На печать 1)'!N38","v":0},0]
["3.4.Связь, коммуникации (в т.ч. Интернет)",0,{"$f":"SUM('Приложение 1 (На печать 1)'!C39:E39)","v":0},0,0,0,0,{"$nulls":9},{"$f":"'Приложение 1 (На печать 1)'!B39","v":0},{"$f":"'Приложение 1 (На печать 1)'!C39","v":0},{"$f":"'Приложение 1 (На печать 1)'!D39","v":0},{"$f":"'Приложение 1 (На печать 1)'!E39","v":0},{"$f":"'Приложение 1 (На печать 1)'!F39","v":0},{"$f":"'Приложение 1 (На печать 1)'!G39","v":0},{"$f":"'Приложение 1 (На печать 1)'!H39","v":0},{"$f":"'Приложение 1 (На печать 1)'!I39","v":0},{"$f":"'Приложение 1 (На печать 1)'!J39","v":0},{"$f":"'Приложение 1 (На печать 1)'!K39","v":0},{"$f":"'Приложение 1 (На печать 1)'!L39","v":0},{"$f":"'Приложение 1 (На печать 1)'!M39","v":0},{"$f":"'Приложение 1 (На печать 1)'!N39","v":0},0]
["3.5.Канцелярские товары","Х",{"$f":"SUM('Приложение 1 (На печать 1)'!C40:E40)","v":0},0,0,0,0,{"$nulls":9},{"$f":"'Приложение 1 (На печать 1)'!B40","v":"Х"},{"$f":"'Приложение 1 (На печать 1)'!C40","v":0},{"$f":"'Приложение 1 (На печать 1)'!D40","v":0},{"$f":"'Приложение 1 (На печать 1)'!E40","v":0},{"$f":"'Приложение 1 (На печать 1)'!F40","v":0},{"$f":"'Приложение 1 (На печать 1)'!G40","v":0},{"$f":"'Приложение 1 (На печать 1)'!H40","v":0},{"$f":"'Приложение 1 (На печать 1)'!I40","v":0},{"$f":"'Приложение 1 (На печать 1)'!J40","v":0},{"$f":"'Приложение 1 (На печать 1)'!K40","v":0},{"$f":"'Приложение 1 (На печать 1)'!L40","v":0},{"$f":"'Приложение 1 (На печать 1)'!M40","v":0},{"$f":"'Приложение 1 (На печать 1)'!N40","v":0},0]
["3.6.Услуги бухгалтерии (по договору)",0,{"$f":"SUM('Приложение 1 (На печать 1)'!C41:E41)","v":0},0,0,0,0,{"$nulls":9},{"$f":"'Приложение 1 (На печать 1)'!B41","v":0},{"$f":"'Приложение 1 (На печать 1)'!C41","v":0},{"$f":"'Приложение 1 (На печать 1)'!D41","v":0},{"$f":"'Приложение 1 (На печать 1)'!E41","v":0},{"$f":"'Приложение 1 (На печать 1)'!F41","v":0},{"$f":"'Приложение 1 (На печать 1)'!G41","v":0},{"$f":"'Приложение 1 (На печать 1)'!H41","v":0},{"$f":"'Приложение 1 (На печать 1)'!I41","v":0},{"$f":"'Приложение 1 (На печать 1)'!J41","v":0},{"$f":"'Приложение 1 (На печать 1)'!K41","v":0},{"$f":"'Приложение 1 (На печать 1)'!L41","v":0},{"$f":"'Приложение 1 (На печать 1)'!M41","v":0},{"$f":"'Приложение 1 (На печать 1)'!N41","v":0},0]
["3.7.Услуги банка",0,{"$f":"SUM('Приложение 1 (На печать 1)'!C42:E42)","v":0},0,0,0,0,{"$nulls":9},{"$f":"'Приложение 1 (На печать 1)'!B42","v":0},{"$f":"'Приложение 1 (На печать 1)'!C42","v":0},{"$f":"'Приложение 1 (На печать 1)'!D42","v":0},{"$f":"'Приложение 1 (На печать 1)'!E42","v":0},{"$f":"'Приложение 1 (На печать 1)'!F42","v":0},{"$f":"'Приложение 1 (На печать 1)'!G42","v":0},{"$f":"'Приложение 1 (На печать 1)'!H42","v":0},{"$f":"'Приложение 1 (На печать 1)'!I42","v":0},{"$f":"'Приложение 1 (На печать 1)'!J42","v":0},{"$f":"'Приложение 1 (На печать 1)'!K42","v":0},{"$f":"'Приложение 1 (На печать 1)'!L42","v":0},{"$f":"'Приложение 1 (На печать 1)'!M42","v":0},{"$f":"'Приложение 1 (На печать 1)'!N42","v":0},0]
["3.8.Услуги прочих сторонних организаций",0,{"$f":"SUM('Приложение 1 (На печать 1)'!C43:E43)","v":0},0,0,0,0,{"$nulls":9},{"$f":"'Приложение 1 (На печать 1)'!B43","v":0},{"$f":"'Приложение 1 (На печать 1)'!C43","v":0},{"$f":"'Приложение 1 (На печать 1)'!D43","v":0},{"$f":"'Приложение 1 (На печать 1)'!E43","v":0},{"$f":"'Приложение 1 (На печать 1)'!F43","v":0},{"$f":"'Приложение 1 (На печать 1)'!G43","v":0},{"$f":"'Приложение 1 (На печать 1)'!H43","v":0},{"$f":"'Приложение 1 (На печать 1)'!I43","v":0},{"$f":"'Приложение 1 (На печать 1)'!J43","v":0},{"$f":"'Приложение 1 (На печать 1)'!K43","v":0},{"$f":"'Приложение 1 (На печать 1)'!L43","v":0},{"$f":"'Приложение 1 (На печать 1)'!M43","v":0},{"$f":"'Приложение 1 (На печать 1)'!N43","v":0},0]
["3.9.Прочие административные расходы",0,{"$f":"SUM('Приложение 1 (На печать 1)'!C44:E44)","v":0},0,0,0,0,{"$nulls":9},{"$f":"'Приложение 1 (На печать 1)'!B44","v":0},{"$f":"'Приложение 1 (На печать 1)'!C44","v":0},{"$f":"'Приложение 1 (На печать 1)'!D44","v":0},{"$f":"'Приложение 1 (На печать 1)'!E44","v":0},{"$f":"'Приложение 1 (На печать 1)'!F44","v":0},{"$f":"'Приложение 1 (На печать 1)'!G44","v":0},{"$f":"'Приложение 1 (На печать 1)'!H44","v":0},{"$f":"'Приложение 1 (На печать 1)'!I44","v":0},{"$f":"'Приложение 1 (На печать 1)'!J44","v":0},{"$f":"'Приложение 1 (На печать 1)'!K44","v":0},{"$f":"'Приложение 1 (На печать 1)'!L44","v":0},{"$f":"'Приложение 1 (На печать 1)'!M44","v":0},{"$f":"'Приложение 1 (На печать 1)'!N44","v":0},0]
["Итого административные затраты:",{"$f":"SUM(B27:B35)","v":0},0,0,0,0,0,{"$nulls":9},{"$f":"SUM(Q27:Q35)","v":0},{"$f":"SUM(R27:R35)","v":0},0,0,0,0,0,0,0,0,0,0,0,0]
["4.ЗАТРАТЫ НАЧАЛЬНОГО ЭТАПА",{"$nulls":28},0]
["4.1.Регистрация предприятия или ИП",0,{"$f":"SUM('Приложение 1 (На печать 1)'!C48:E48)","v":0},{"$f":"SUM(U38:W38)","v":0},{"$f":"SUM(X38:Z38)","v":0},{"$f":"SUM(AA38:AC38)","v":0},{"$f":"SUM(B38:F38)","v":0},{"$nulls":9},{"$f":"'Приложение 1 (На печать 1)'!B48","v":0},{"$f":"'Приложение 1 (На печать 1)'!C48","v":0},{"$f":"'Приложение 1 (На печать 1)'!D48","v":0},{"$f":"'Приложение 1 (На печать 1)'!E48","v":0},{"$f":"'Приложение 1 (На печать 1)'!F48","v":0},{"$f":"'Приложение 1 (На печать 1)'!G48","v":0},{"$f":"'Приложение 1 (На печать 1)'!H48","v":0},{"$f":"'Приложение 1 (На печать 1)'!I48","v":0},{"$f":"'Приложение 1 (На печать 1)'!J48","v":0},{"$f":"'Приложение 1 (На печать 1)'!K48","v":0},{"$f":"'Приложение 1 (На печать 1)'!L48","v":0},{"$f":"'Приложение 1 (На печать 1)'!M48","v":0},{"$f":"'Приложение 1 (На печать 1)'!N48","v":0},0]
["4.2.Патентование продукции",0,{"$f":"SUM('Приложение 1 (На печать 1)'!C49:E49)","v":0},{"$f":"SUM(U39:W39)","v":0},{"$f":"SUM(X39:Z39)","v":0},{"$f":"SUM(AA39:AC39)","v":0},{"$f":"SUM(B39:F39)","v":0},{"$nulls":9},{"$f":"'Приложение 1 (На печать 1)'!B49","v":0},{"$f":"'Приложение 1 (На печать 1)'!C49","v":0},{"$f":"'Приложение 1 (На печать 1)'!D49","v":0},{"$f":"'Приложение 1 (На печать 1)'!E49","v":0},{"$f":"'Приложение 1 (На печать 1)'!F49","v":0},{"$f":"'Приложение 1 (На печать 1)'!G49","v":0},{"$f":"'Приложение 1 (На печать 1)'!H49","v":0},{"$f":"'Приложение 1 (На печать 1)'!I49","v":0},{"$f":"'Приложение 1 (На печать 1)'!J49","v":0},{"$f":"'Приложение 1 (На печать 1)'!K49","v":0},{"$f":"'Приложение 1 (На печать 1)'!L49","v":0},{"$f":"'Приложение 1 (На печать 1)'!M49","v":0},{"$f":"'Приложение 1 (На печать 1)'!N49","v":0},0]
["4.3.Сертификация продукции / услуги",0,{"$f":"SUM('Приложение 1 (На печать 1)'!C50:E50)","v":0},{"$f":"SUM(U40:W40)","v":0},{"$f":"SUM(X40:Z40)","v":0},{"$f":"SUM(AA40:AC40)","v":0},{"$f":"SUM(B40:F40)","v":0},{"$nulls":9},{"$f":"'Приложение 1 (На печать 1)'!B50","v":0},{"$f":"'Приложение 1 (На печать 1)'!C50","v":0},{"$f":"'Приложение 1 (На печать 1)'!D50","v":0},{"$f":"'Приложение 1 (На печать 1)'!E50","v":0},{"$f":"'Приложение 1 (На печать 1)'!F50","v":0},{"$f":"'Приложение 1 (На печать 1)'!G50","v":0},{"$f":"'Приложение 1 (На печать 1)'!H50","v":0},{"$f":"'Приложение 1 (На печать 1)'!I50","v":0},{"$f":"'Приложение 1 (На печать 1)'!J50","v":0},{"$f":"'Приложение 1 (На печать 1)'!K50","v":0},{"$f":"'Приложение 1 (На печать 1)'!L50","v":0},{"$f":"'Приложение 1 (На печать 1)'!M50","v":0},{"$f":"'Приложение 1 (На печать 1)'!N50","v":0},0]
["4.4.Прочие первоначальные затраты",0,{"$f":"SUM('Приложение 1 (На печать 1)'!C51:E51)","v":0},{"$f":"SUM(U41:W41)","v":0},{"$f":"SUM(X41:Z41)","v":0},{"$f":"SUM(AA41:AC41)","v":0},{"$f":"SUM(B41:F41)","v":0},{"$nulls":9},{"$f":"'Приложение 1 (На печать 1)'!B51","v":0},{"$f":"'Приложение 1 (На печать 1)'!C51","v":0},{"$f":"'Приложение 1 (На печать 1)'!D51","v":0},{"$f":"'Приложение 1 (На печать 1)'!E51","v":0},{"$f":"'Приложение 1 (На печать 1)'!F51","v":0},{"$f":"'Приложение 1 (На печать 1)'!G51","v":0},{"$f":"'Приложение 1 (На печать 1)'!H51","v":0},{"$f":"'Приложение 1 (На печать 1)'!I51","v":0},{"$f":"'Приложение 1 (На печать 1)'!J51","v":0},{"$f":"'Приложение 1 (На печать 1)'!K51","v":0},{"$f":"'Приложение 1 (На печать 1)'!L51","v":0},{"$f":"'Приложение 1 (На печать 1)'!M51","v":0},{"$f":"'Приложение 1 (На печать 1)'!N51","v":0},0]
["Итого затраты начального периода:",{"$f":"SUM(B38:B41)","v":0},0,0,0,0,0,{"$nulls":9},{"$f":"SUM(Q38:Q41)","v":0},{"$f":"SUM(R38:R41)","v":0},0,0,0,0,0,0,0,0,0,0,0,0]
["5.МАРКЕТИНГОВЫЕ ЗАТРАТЫ",{"$nulls":28},0]
["5.1.Затраты на рекламу",0,{"$f":"SUM('Приложение 1 (На печать 1)'!C54:E54)","v":0},{"$f":"SUM(U44:W44)","v":0},{"$f":"SUM(X44:Z44)","v":0},{"$f":"SUM(AA44:AC44)","v":0},{"$f":"SUM(B44:F44)","v":0},{"$nulls":9},{"$f":"'Приложение 1 (На печать 1)'!B54","v":0},{"$f":"'Приложение 1 (На печать 1)'!C54","v":0},{"$f":"'Приложение 1 (На печать 1)'!D54","v":0},{"$f":"'Приложение 1 (На печать 1)'!E54","v":0},{"$f":"'Приложение 1 (На печать 1)'!F54","v":0},{"$f":"'Приложение 1 (На печать 1)'!G54","v":0},{"$f":"'Приложение 1 (На печать 1)'!H54","v":0},{"$f":"'Приложение 1 (На печать 1)'!I54","v":0},{"$f":"'Приложение 1 (На печать 1)'!J54","v":0},{"$f":"'Приложение 1 (На печать 1)'!K54","v":0},{"$f":"'Приложение 1 (На печать 1)'!L54","v":0},{"$f":"'Приложение 1 (На печать 1)'!M54","v":0},{"$f":"'Приложение 1 (На печать 1)'!N54","v":0},0]
["5.2.Затраты на продвижение продукции ",0,{"$f":"SUM('Приложение 1 (На печать 1)'!C55:E55)","v":0},{"$f":"SUM(U45:W45)","v":0},{"$f":"SUM(X45:Z45)","v":0},{"$f":"SUM(AA45:AC45)","v":0},{"$f":"SUM(B45:F45)","v":0},{"$nulls":9},{"$f":"'Приложение 1 (На печать 1)'!B55","v":0},{"$f":"'Приложение 1 (На печать 1)'!C55","v":0},{"$f":"'Приложение 1 (На печать 1)'!D55","v":0},{"$f":"'Приложение 1 (На печать 1)'!E55","v":0},{"$f":"'Приложение 1 (На печать 1)'!F55","v":0},{"$f":"'Приложение 1 (На печать 1)'!G55","v":0},{"$f":"'Приложение 1 (На печать 1)'!H55","v":0},{"$f":"'Приложение 1 (На печать 1)'!I55","v":0},{"$f":"'Приложение 1 (На печать 1)'!J55","v":0},{"$f":"'Приложение 1 (На печать 1)'!K55","v":0},{"$f":"'Приложение 1 (На печать 1)'!L55","v":0},{"$f":"'Приложение 1 (На печать 1)'!M55","v":0},{"$f":"'Приложение 1 (На печать 1)'!N55","v":0},0]
["5.3.Прочие маркетинговые затраты",0,{"$f":"SUM('Приложение 1 (На печать 1)'!C56:E56)","v":0},{"$f":"SUM(U46:W46)","v":0},{"$f":"SUM(X46:Z46)","v":0},{"$f":"SUM(AA46:AC46)","v":0},{"$f":"SUM(B46:F46)","v":0},{"$nulls":9},{"$f":"'Приложение 1 (На печать 1)'!B56","v":0},{"$f":"'Приложение 1 (На печать 1)'!C56","v":0},{"$f":"'Приложение 1 (На печать 1)'!D56","v":0},{"$f":"'Приложение 1 (На печать 1)'!E56","v":0},{"$f":"'Приложение 1 (На печать 1)'!F56","v":0},{"$f":"'Приложение 1 (На печать 1)'!G56","v":0},{"$f":"'Приложение 1 (На печать 1)'!H56","v":0},{"$f":"'Приложение 1 (На печать 1)'!I56","v":0},{"$f":"'Приложение 1 (На печать 1)'!J56","v":0},{"$f":"'Приложение 1 (На печать 1)'!K56","v":0},{"$f":"'Приложение 1 (На печать 1)'!L56","v":0},{"$f":"'Приложение 1 (На печать 1)'!M56","v":0},{"$f":"'Приложение 1 (На печать 1)'!N56","v":0},0]
["Итого маркетинговые затраты:",{"$f":"SUM(B44:B46)","v":0},0,0,0,0,0,{"$nulls":9},{"$f":"SUM(Q44:Q46)","v":0},{"$f":"SUM(R44:R46)","v":0},0,0,0,0,0,0,0,0,0,0,0,0]
["6. НАЛОГИ, УЧИТЫВАЕМЫЕ В РАСХОДАХ",{"$nulls":28},0]
["6.1.Страховые взносы (за работников)","Х",{"$f":"SUM('Приложение 1 (На печать 1)'!C59:E59)","v":0},{"$f":"SUM(U49:W49)","v":0},{"$f":"SUM(X49:Z49)","v":0},{"$f":"SUM(AA49:AC49)","v":0},{"$f":"SUM(B49:F49)","v":0},{"$nulls":9},{"$f":"'Приложение 1 (На печать 1)'!B59","v":"Х"},{"$f":"'Приложение 1 (На печать 1)'!C59","v":0},{"$f":"'Приложение 1 (На печать 1)'!D59","v":0},{"$f":"'Приложение 1 (На печать 1)'!E59","v":0},{"$f":"'Приложение 1 (На печать 1)'!F59","v":0},{"$f":"'Приложение 1 (На печать 1)'!G59","v":0},{"$f":"'Приложение 1 (На печать 1)'!H59","v":0},{"$f":"'Приложение 1 (На печать 1)'!I59","v":0},{"$f":"'Приложение 1 (На печать 1)'!J59","v":0},{"$f":"'Приложение 1 (На печать 1)'!K59","v":0},{"$f":"'Приложение 1 (На печать 1)'!L59","v":0},{"$f":"'Приложение 1 (На печать 1)'!M59","v":0},{"$f":"'Приложение 1 (На печать 1)'!N59","v":0},0]
["6.2.Страховые взносы (за ИП)","Х",{"$f":"SUM('Приложение 1 (На печать 1)'!C60:E60)","v":0},{"$f":"SUM(U50:W50)","v":0},{"$f":"SUM(X50:Z50)","v":0},{"$f":"SUM(AA50:AC50)","v":0},{"$f":"SUM(B50:F50)","v":0},{"$nulls":9},{"$f":"'Приложение 1 (На печать 1)'!B60","v":"Х"},{"$f":"'Приложение 1 (На печать 1)'!C60","v":0},{"$f":"'Приложение 1 (На печать 1)'!D60","v":0},{"$f":"'Приложение 1 (На печать 1)'!E60","v":0},{"$f":"'Приложение 1 (На печать 1)'!F60","v":0},{"$f":"'Приложение 1 (На печать 1)'!G60","v":0},{"$f":"'Приложение 1 (На печать 1)'!H60","v":0},{"$f":"'Приложение 1 (На печать 1)'!I60","v":0},{"$f":"'Приложение 1 (На печать 1)'!J60","v":0},{"$f":"'Приложение 1 (На печать 1)'!K60","v":0},{"$f":"'Приложение 1 (На печать 1)'!L60","v":0},{"$f":"'Приложение 1 (На печать 1)'!M60","v":0},{"$f":"'Приложение 1 (На печать 1)'!N60","v":0},0]
["6.3.Прочие налоги и сборы",0,{"$f":"SUM('Приложение 1 (На печать 1)'!C61:E61)","v":0},{"$f":"SUM(U51:W51)","v":0},{"$f":"SUM(X51:Z51)","v":0},{"$f":"SUM(AA51:AC51)","v":0},{"$f":"SUM(B51:F51)","v":0},{"$nulls":9},{"$f":"'Приложение 1 (На печать 1)'!B61","v":0},{"$f":"'Приложение 1 (На печать 1)'!C61","v":0},{"$f":"'Приложение 1 (На печать 1)'!D61","v":0},{"$f":"'Приложение 1 (На печать 1)'!E61","v":0},{"$f":"'Приложение 1 (На печать 1)'!F61","v":0},{"$f":"'Приложение 1 (На печать 1)'!G61","v":0},{"$f":"'Приложение 1 (На печать 1)'!H61","v":0},{"$f":"'Приложение 1 (На печать 1)'!I61","v":0},{"$f":"'Приложение 1 (На печать 1)'!J61","v":0},{"$f":"'Приложение 1 (На печать 1)'!K61","v":0},{"$f":"'Приложение 1 (На печать 1)'!L61","v":0},{"$f":"'Приложение 1 (На печать 1)'!M61","v":0},{"$f":"'Приложение 1 (На печать 1)'!N61","v":0},0]
["Итого налоги, учитываемые в расходах",{"$f":"SUM(B49:B51)","v":0},0,0,0,0,0,{"$nulls":9},{"$f":"SUM(Q49:Q51)","v":0},{"$f":"SUM(R49:R51)","v":0},0,0,0,0,0,0,0,0,0,0,0,0]
["7.ПРОЧИЕ ВЫПЛАТЫ (В Т.Ч. ПРОЦЕНТЫ)",0,{"$nulls":4},{"$f":"SUM(B53:F53)","v":0},{"$nulls":9},{"$f":"'Приложение 1 (На печать 1)'!B63","v":0},{"$f":"'Приложение 1 (На печать 1)'!C63","v":0},{"$f":"'Приложение 1 (На печать 1)'!D63","v":0},{"$f":"'Приложение 1 (На печать 1)'!E63","v":0},{"$f":"'Приложение 1 (На печать 1)'!F63","v":0},{"$f":"'Приложение 1 (На печать 1)'!G63","v":0},{"$f":"'Приложение 1 (На печать 1)'!H63","v":0},{"$f":"'Приложение 1 (На печать 1)'!I63","v":0},{"$f":"'Приложение 1 (На печать 1)'!J63","v":0},{"$f":"'Приложение 1 (На печать 1)'!K63","v":0},{"$f":"'Приложение 1 (На печать 1)'!L63","v":0},{"$f":"'Приложение 1 (На печать 1)'!M63","v":0},{"$f":"'Приложение 1 (На печать 1)'!N63","v":0},0]
["8.КАПИТАЛЬНЫЕ ВЛОЖЕНИЯ ПО ПРОЕКТУ",{"$nulls":28},0]
["8.1.Приобретение оборудования",0,{"$f":"SUM('Приложение 1 (На печать 1)'!C65:E65)","v":0},{"$f":"SUM(U55:W55)","v":0},{"$f":"SUM(X55:Z55)","v":0},{"$f":"SUM(AA55:AC55)","v":0},{"$f":"SUM(B55:F55)","v":0},{"$nulls":9},{"$f":"'Приложение 1 (На печать 1)'!B65","v":0},{"$f":"'Приложение 1 (На печать 1)'!C65","v":0},{"$f":"'Приложение 1 (На печать 1)'!D65","v":0},{"$f":"'Приложение 1 (На печать 1)'!E65","v":0},{"$f":"'Приложение 1 (На печать 1)'!F65","v":0},{"$f":"'Приложение 1 (На печать 1)'!G65","v":0},{"$f":"'Приложение 1 (На печать 1)'!H65","v":0},{"$f":"'Приложение 1 (На печать 1)'!I65","v":0},{"$f":"'Приложение 1 (На печать 1)'!J65","v":0},{"$f":"'Приложение 1 (На печать 1)'!K65","v":0},{"$f":"'Приложение 1 (На печать 1)'!L65","v":0},{"$f":"'Приложение 1 (На печать 1)'!M65","v":0},{"$f":"'Приложение 1 (На печать 1)'!N65","v":0},0]
["8.2.Приобретение транспортных средств",0,{"$f":"SUM('Приложение 1 (На печать 1)'!C66:E66)","v":0},{"$f":"SUM(U56:W56)","v":0},{"$f":"SUM(X56:Z56)","v":0},{"$f":"SUM(AA56:AC56)","v":0},{"$f":"SUM(B56:F56)","v":0},{"$nulls":9},{"$f":"'Приложение 1 (На печать 1)'!B66","v":0},{"$f":"'Приложение 1 (На печать 1)'!C66","v":0},{"$f":"'Приложение 1 (На печать 1)'!D66","v":0},{"$f":"'Приложение 1 (На печать 1)'!E66","v":0},{"$f":"'Приложение 1 (На печать 1)'!F66","v":0},{"$f":"'Приложение 1 (На печать 1)'!G66","v":0},{"$f":"'Приложение 1 (На печать 1)'!H66","v":0},{"$f":"'Приложение 1 (На печать 1)'!I66","v":0},{"$f":"'Приложение 1 (На печать 1)'!J66","v":0},{"$f":"'Приложение 1 (На печать 1)'!K66","v":0},{"$f":"'Приложение 1 (На печать 1)'!L66","v":0},{"$f":"'Приложение 1 (На печать 1)'!M66","v":0},{"$f":"'Приложение 1 (На печать 1)'!N66","v":0},0]
["8.3.Проведение строительных, ремонтных, монтажных работ",0,{"$f":"SUM('Приложение 1 (На печать 1)'!C67:E67)","v":0},{"$f":"SUM(U57:W57)","v":0},{"$f":"SUM(X57:Z57)","v":0},{"$f":"SUM(AA57:AC57)","v":0},{"$f":"SUM(B57:F57)","v":0},{"$nulls":9},{"$f":"'Приложение 1 (На печать 1)'!B67","v":0},{"$f":"'Приложение 1 (На печать 1)'!C67","v":0},{"$f":"'Приложение 1 (На печать 1)'!D67","v":0},{"$f":"'Приложение 1 (На печать 1)'!E67","v":0},{"$f":"'Приложение 1 (На печать 1)'!F67","v":0},{"$f":"'Приложение 1 (На печать 1)'!G67","v":0},{"$f":"'Приложение 1 (На печать 1)'!H67","v":0},{"$f":"'Приложение 1 (На печать 1)'!I67","v":0},{"$f":"'Приложение 1 (На печать 1)'!J67","v":0},{"$f":"'Приложение 1 (На печать 1)'!K67","v":0},{"$f":"'Приложение 1 (На печать 1)'!L67","v":0},{"$f":"'Приложение 1 (На печать 1)'!M67","v":0},{"$f":"'Приложение 1 (На печать 1)'!N67","v":0},0]
["8.4.Телефонная линия / Интернет",0,{"$f":"SUM('Приложение 1 (На печать 1)'!C68:E68)","v":0},{"$f":"SUM(U58:W58)","v":0},{"$f":"SUM(X58:Z58)","v":0},{"$f":"SUM(AA58:AC58)","v":0},{"$f":"SUM(B58:F58)","v":0},{"$nulls":9},{"$f":"'Приложение 1 (На печать 1)'!B68","v":0},{"$f":"'Приложение 1 (На печать 1)'!C68","v":0},{"$f":"'Приложение 1 (На печать 1)'!D68","v":0},{"$f":"'Приложение 1 (На печать 1)'!E68","v":0},{"$f":"'Приложение 1 (На печать 1)'!F68","v":0},{"$f":"'Приложение 1 (На печать 1)'!G68","v":0},{"$f":"'Приложение 1 (На печать 1)'!H68","v":0},{"$f":"'Приложение 1 (На печать 1)'!I68","v":0},{"$f":"'Приложение 1 (На печать 1)'!J68","v":0},{"$f":"'Приложение 1 (На печать 1)'!K68","v":0},{"$f":"'Приложение 1 (На печать 1)'!L68","v":0},{"$f":"'Приложение 1 (На печать 1)'!M68","v":0},{"$f":"'Приложение 1 (На печать 1)'!N68","v":0},0]
["Итого капитальные вложения:",{"$f":"SUM(B55:B58)","v":0},0,0,0,0,0,{"$nulls":9},{"$f":"SUM(Q55:Q58)","v":0},{"$f":"SUM(R55:R58)","v":0},0,0,0,0,0,0,0,0,0,0,0,0]
["Всего расходов (В): ",{"$f":"B19+B25+B36+B42+B47+B52+B53+B59","v":0},0,0,0,0,0,{"$nulls":9},{"$f":"Q19+Q25+Q36+Q42+Q47+Q52+Q53+Q59","v":0},0,0,0,0,0,0,0,0,0,0,0,0,0]
["Валовая прибыль (Г):",{"$f":"B8-B60","v":500},0,0,0,0,500,{"$nulls":9},{"$f":"Q8-Q60","v":0},0,0,0,0,0,0,0,0,0,0,0,0,0]
["9.НАЛОГИ, НЕ УЧИТЫВАЕМЫЕ В РАСХОДАХ",{"$nulls":28},0]
["9.1.Единый налог (УСНО), 6%","Х",{"$f":"SUM('Приложение 1 (На печать 1)'!C74:E74)","v":0},{"$f":"SUM(U63:W63)","v":0},{"$f":"SUM(X63:Z63)","v":0},{"$f":"SUM(AA63:AC63)","v":0},{"$f":"SUM(B63:F63)","v":0},{"$nulls":9},{"$f":"'Приложение 1 (На печать 1)'!B74","v":"Х"},{"$f":"'Приложение 1 (На печать 1)'!C74","v":0},{"$f":"'Приложение 1 (На печать 1)'!D74","v":0},{"$f":"'Приложение 1 (На печать 1)'!E74","v":0},{"$f":"'Приложение 1 (На печать 1)'!F74","v":0},{"$f":"'Приложение 1 (На печать 1)'!G74","v":0},{"$f":"'Приложение 1 (На печать 1)'!H74","v":0},{"$f":"'Приложение 1 (На печать 1)'!I74","v":0},{"$f":"'Приложение 1 (На печать 1)'!J74","v":0},{"$f":"'Приложение 1 (На печать 1)'!K74","v":0},{"$f":"'Приложение 1 (На печать 1)'!L74","v":0},{"$f":"'Приложение 1 (На печать 1)'!M74","v":0},{"$f":"'Приложение 1 (На печать 1)'!N74","v":0},0]
["9.2.Единый налог (УСНО), 15%",{"$f":"Q64","v":"Х"},{"$f":"SUM('Приложение 1 (На печать 1)'!C75:E75)","v":0},0,0,0,0,{"$nulls":9},{"$f":"'Приложение 1 (На печать 1)'!B75","v":"Х"},{"$f":"'Приложение 1 (На печать 1)'!C75","v":0},{"$f":"'Приложение 1 (На печать 1)'!D75","v":0},{"$f":"'Приложение 1 (На печать 1)'!E75","v":0},{"$f":"'Приложение 1 (На печать 1)'!F75","v":0},{"$f":"'Приложение 1 (На печать 1)'!G75","v":0},{"$f":"'Приложение 1 (На печать 1)'!H75","v":0},{"$f":"'Приложение 1 (На печать 1)'!I75","v":0},{"$f":"'Приложение 1 (На печать 1)'!J75","v":0},{"$f":"'Приложение 1 (На печать 1)'!K75","v":0},{"$f":"'Приложение 1 (На печать 1)'!L75","v":0},{"$f":"'Приложение 1 (На печать 1)'!M75","v":0},{"$f":"'Приложение 1 (На печать 1)'!N75","v":0},{"$f":"SUM(Q64:AC64)","v":0}]
["9.3.ЕНВД","Х",{"$f":"SUM('Приложение 1 (На печать 1)'!C76:E76)","v":0},0,0,0,0,{"$nulls":9},{"$f":"'Приложение 1 (На печать 1)'!B76","v":"Х"},{"$f":"'Приложение 1 (На печать 1)'!C76","v":0},{"$f":"'Приложение 1 (На печать 1)'!D76","v":0},{"$f":"'Приложение 1 (На печать 1)'!E76","v":0},{"$f":"'Приложение 1 (На печать 1)'!F76","v":0},{"$f":"'Приложение 1 (На печать 1)'!G76","v":0},{"$f":"'Приложение 1 (На печать 1)'!H76","v":0},{"$f":"'Приложение 1 (На печать 1)'!I76","v":0},{"$f":"'Приложение 1 (На печать 1)'!J76","v":0},{"$f":"'Приложение 1 (На печать 1)'!K76","v":0},{"$f":"'Приложение 1 (На печать 1)'!L76","v":0},{"$f":"'Приложение 1 (На печать 1)'!M76","v":0},{"$f":"'Приложение 1 (На печать 1)'!N76","v":0},0]
["9.4.НДФЛ","Х",{"$f":"SUM('Приложение 1 (На печать 1)'!C77:E77)","v":0},0,0,0,0,{"$nulls":9},{"$f":"'Приложение 1 (На печать 1)'!B77","v":"Х"},{"$f":"'Приложение 1 (На печать 1)'!C77","v":0},{"$f":"'Приложение 1 (На печать 1)'!D77","v":0},{"$f":"'Приложение 1 (На печать 1)'!E77","v":0},{"$f":"'Приложение 1 (На печать 1)'!F77","v":0},{"$f":"'Приложение 1 (На печать 1)'!G77","v":0},{"$f":"'Приложение 1 (На печать 1)'!H77","v":0},{"$f":"'Приложение 1 (На печать 1)'!I77","v":0},{"$f":"'Приложение 1 (На печать 1)'!J77","v":0},{"$f":"'Приложение 1 (На печать 1)'!K77","v":0},{"$f":"'Приложение 1 (На печать 1)'!L77","v":0},{"$f":"'Приложение 1 (На печать 1)'!M77","v":0},{"$f":"'Приложение 1 (На печать 1)'!N77","v":0},0]
["9.4.УСНО на основании патента",0,{"$f":"SUM('Приложение 1 (На печать 1)'!C78:E78)","v":0},0,0,0,0,{"$nulls":9},{"$f":"'Приложение 1 (На печать 1)'!B78","v":0},{"$f":"'Приложение 1 (На печать 1)'!C78","v":0},{"$f":"'Приложение 1 (На печать 1)'!D78","v":0},{"$f":"'Приложение 1 (На печать 1)'!E78","v":0},{"$f":"'Приложение 1 (На печать 1)'!F78","v":0},{"$f":"'Приложение 1 (На печать 1)'!G78","v":0},{"$f":"'Приложение 1 (На печать 1)'!H78","v":0},{"$f":"'Приложение 1 (На печать 1)'!I78","v":0},{"$f":"'Приложение 1 (На печать 1)'!J78","v":0},{"$f":"'Приложение 1 (На печать 1)'!K78","v":0},{"$f":"'Приложение 1 (На печать 1)'!L78","v":0},{"$f":"'Приложение 1 (На печать 1)'!M78","v":0},{"$f":"'Приложение 1 (На печать 1)'!N78","v":0},0]
["9.5.Прочие налоги и сборы","Х",{"$f":"SUM('Приложение 1 (На печать 1)'!C79:E79)","v":0},0,0,0,0,{"$nulls":9},{"$f":"'Приложение 1 (На печать 1)'!B79","v":"Х"},{"$f":"'Приложение 1 (На печать 1)'!C79","v":0},{"$f":"'Приложение 1 (На печать 1)'!D79","v":0},{"$f":"'Приложение 1 (На печать 1)'!E79","v":0},{"$f":"'Приложение 1 (На печать 1)'!F79","v":0},{"$f":"'Приложение 1 (На печать 1)'!G79","v":0},{"$f":"'Приложение 1 (На печать 1)'!H79","v":0},{"$f":"'Приложение 1 (На печать 1)'!I79","v":0},{"$f":"'Приложение 1 (На печать 1)'!J79","v":0},{"$f":"'Приложение 1 (На печать 1)'!K79","v":0},{"$f":"'Приложение 1 (На печать 1)'!L79","v":0},{"$f":"'Приложение 1 (На печать 1)'!M79","v":0},{"$f":"'Приложение 1 (На печать 1)'!N79","v":0},0]
["Итого налоги, не учитываемые в расходах",{"$f":"SUM(B63:B68)","v":0},0,0,0,0,0,{"$nulls":9},{"$f":"SUM(Q63:Q68)","v":0},{"$f":"SUM(R63:R68)","v":0},0,0,0,0,0,0,0,0,0,0,0,0]
["10. Погашение кредита (ссуды)",0,{"$f":"SUM('Приложение 1 (На печать 1)'!C81:E81)","v":0},{"$f":"SUM(U70:W70)","v":0},{"$f":"SUM(X70:Z70)","v":0},{"$f":"SUM(AA70:AC70)","v":0},{"$f":"SUM(B70:F70)","v":0},{"$nulls":9},{"$f":"'Приложение 1 (На печать 1)'!B81","v":0},{"$f":"'Приложение 1 (На печать 1)'!C81","v":0},{"$f":"'Приложение 1 (На печать 1)'!D81","v":0},{"$f":"'Приложение 1 (На печать 1)'!E81","v":0},{"$f":"'Приложение 1 (На печать 1)'!F81","v":0},{"$f":"'Приложение 1 (На печать 1)'!G81","v":0},{"$f":"'Приложение 1 (На печать 1)'!H81","v":0},{"$f":"'Приложение 1 (На печать 1)'!I81","v":0},{"$f":"'Приложение 1 (На печать 1)'!J81","v":0},{"$f":"'Приложение 1 (На печать 1)'!K81","v":0},{"$f":"'Приложение 1 (На печать 1)'!L81","v":0},{"$f":"'Приложение 1 (На печать 1)'!M81","v":0},{"$f":"'Приложение 1 (На печать 1)'!N81","v":0},0]
[]
["Чистая прибыль",{"$f":"B61-B69","v":500},{"$f":"C61-C69","v":0},{"$f":"D61-D69","v":0},{"$f":"E61-E69","v":0},{"$f":"F61-F69","v":0},{"$f":"SUM(B72:F72)","v":500},{"$nulls":9},{"$f":"Q61-Q69","v":0},0,0,0,0,0,0,0,0,0,0,0,0,{"$f":"SUM(Q72:AC72)","v":0}]
["Чистая прибыль (убытки) нарастающим итогом ",{"$f":"B72","v":500},{"$f":"C72+B73","v":500},{"$f":"D72+C73","v":500},{"$f":"E72+D73","v":500},{"$f":"F72+E73","v":500},{"$nulls":10},{"$f":"Q72","v":0},{"$f":"R72+Q73","v":0},0,0,0,0,0,0,0,0,0,0,0]
["Всего приход средств",{"$f":"B8+B13","v":500},{"$f":"C8+C13","v":0},{"$f":"D8+D13","v":0},{"$f":"E8+E13","v":0},{"$f":"F8+F13","v":0},{"$f":"SUM(B74:F74)","v":500},{"$nulls":9},{"$f":"Q8+Q13","v":0},0,0,0,0,0,0,0,0,0,0,0,0,{"$f":"SUM(Q74:AC74)","v":0}]
["Всего расход средств",{"$f":"B60+B69+B70","v":0},{"$f":"C60+C69+C70","v":0},{"$f":"D60+D69+D70","v":0},{"$f":"E60+E69+E70","v":0},{"$f":"F60+F69+F70","v":0},{"$f":"SUM(B75:F75)","v":0},{"$nulls":9},{"$f":"Q60+Q69+Q70","v":0},0,0,0,0,0,0,0,0,0,0,0,0,{"$f":"SUM(Q75:AC75)","v":0}]
["Изменение в балансе денежных средств (денежный поток)",{"$f":"B74-B75","v":500},{"$f":"C74-C75","v":0},{"$f":"D74-D75","v":0},{"$f":"E74-E75","v":0},{"$f":"F74-F75","v":0},{"$f":"SUM(B76:F76)","v":500},{"$nulls":9},{"$f":"Q74-Q75","v":0},{"$f":"R74-R75","v":0},0,0,0,0,0,0,0,0,0,0,0,{"$f":"SUM(Q76:AC76)","v":0}]
["Изменение в балансе денежных средств (накопленный денежный поток)",{"$f":"B76","v":500},{"$f":"B77+C76","v":500},{"$f":"C77+D76","v":500},{"$f":"D77+E76","v":500},{"$f":"E77+F76","v":500},{"$nulls":10},{"$f":"Q76","v":0},{"$f":"Q77+R76","v":0},0,0,0,0,0,{"$f":"X76","v":0},0,0,0,0,0]
["Период окупаемости вложений",{"$f":"IF(B77>'Приложение 2 (На печать 2)'!B6,B2,0)","v":0},{"$f":"IF(B78>0,B78,IF(C77>'Приложение 2 (На печать 2)'!$C$6,C2,0))","v":1},{"$f":"IF(C78>0,C78,IF(D77>'Приложение 2 (На печать 2)'!$C$6,D2,0))","v":1},{"$f":"IF(D78>0,D78,IF(E77>'Приложение 2 (На печать 2)'!$C$6,E2,0))","v":1},{"$f":"IF(E78>0,E78,IF(F77>'Приложение 2 (На печать 2)'!$C$6,F2,0))","v":1},{"$f":"IF(F78>0,F78,IF(G77>'Приложение 2 (На печать 2)'!$C$6,G2,0))","v":1},{"$nulls":9},0,{"$f":"IF(Q78>0,Q78,IF(R77>'Приложение 2 (На печать 2)'!$C$6,R2,0))","v":0},0,0,0,0,0,0,0,0,0,0,0]

{"sheet":"Вставить таблицы по тексту","index":15,"n_rows":301,"n_cols":9,"rows_kept":301,"merged":[[1,1,1,3],[2,0,2,5],[3,1,3,5],[4,1,4,5],[5,1,5,5],[6,1,6,5],[7,1,7,5],[8,1,8,5],[9,1,9,5],[10,1,10,5],[11,1,11,5],[12,1,12,5],[13,1,13,5],[14,1,14,5],[17,0,18,0],[17,1,18,1],[17,2,18,2],[17,3,17,6],[17,7,18,7],[19,0,19,1],[28,0,30,0],[28,1,30,4],[28,5,28,6],[28,7,30,7],[29,5,29,6],[31,1,31,4],[32,1,32,4],[33,1,33,4],[34,1,34,4],[35,1,35,4],[36,1,36,4],[37,1,37,4],[38,1,38,4],[39,1,39,4],[40,1,40,4],[41,1,41,4],[42,1,42,4],[43,1,43,4],[44,1,44,4],[45,1,45,4],[46,1,46,4],[47,1,47,4],[48,1,48,4],[49,1,49,4],[50,1,50,4],[53,0,54,0],[53,1,54,1],[53,2,54,2],[53,3,53,6],[53,7,54,7],[55,0,55,2],[56,0,58,0],[56,1,58,1],[59,0,61,0],[59,1,61,1],[62,0,64,0],[62,1,64,1],[65,0,67,0],[65,1,67,1],[68,0,70,0],[68,1,70,1],[71,0,73,0],[71,1,73,1],[74,0,76,0],[74,1,76,1],[77,0,79,0],[77,1,79,1],[80,0,82,0],[80,1,82,1],[83,0,85,0],[83,1,85,1],[86,0,88,0],[86,1,88,1],[89,0,91,0],[89,1,91,1],[92,0,94,0],[92,1,94,1],[95,0,97,0],[95,1,97,1],[98,0,100,0],[98,1,100,1],[103,0,104,0],[103,1,104,1],[103,2,104,2],[103,7,104,7],[105,0,105,1],[106,0,106,1],[110,0,110,1],[116,0,117,0],[116,1,117,3],[116,4,117,4],[116,5,116,6],[116,7,117,7],[118,0,118,6],[119,1,119,3],[120,1,120,3],[121,1,121,3],[122,1,122,3],[123,1,123,3],[124,1,124,3],[125,1,125,3],[126,1,126,3],[127,1,127,3],[128,1,128,3],[129,1,129,3],[130,1,130,3],[131,1,131,3],[132,1,132,3],[133,1,133,3],[134,1,134,3],[135,1,135,3],[136,1,136,3],[137,1,137,3],[138,1,138,3],[139,1,139,3],[140,1,140,3],[141,1,141,3],[142,1,142,3],[143,1,143,3],[146,0,147,0],[146,1,147,1],[146,2,147,2],[146,3,146,6],[148,0,148,1],[155,0,156,0],[155,1,156,1],[155,2,156,2],[155,3,156,3],[155,4,155,7],[155,8,156,8],[157,0,157,2],[158,0,160,0],[158,1,160,1],[161,0,163,0],[161,1,163,1],[164,0,166,0],[164,1,166,1],[167,0,169,0],[167,1,169,1],[170,0,172,0],[170,1,172,1],[173,0,175,0],[173,1,175,1],[176,0,178,0],[176,1,178,1],[179,0,181,0],[179,1,181,1],[182,0,184,0],[182,1,184,1],[185,0,187,0],[185,1,187,1],[188,0,190,0],[188,1,190,1],[191,0,193,0],[191,1,193,1],[194,0,196,0],[194,1,196,1],[197,0,199,0],[197,1,199,1],[200,0,202,0],[200,1,202,1],[205,0,206,0],[205,1,206,1],[205,2,206,2],[205,3,205,6],[205,7,206,7],[207,0,207,1],[225,0,226,0],[225,1,226,1],[225,2,226,2],[225,3,225,6],[225,7,226,7],[227,0,227,2],[228,1,228,2],[229,0,230,0],[229,1,230,1],[231,0,232,0],[231,1,232,1],[233,0,234,0],[233,1,234,1],[235,0,236,0],[235,1,236,1],[238,0,239,0],[238,1,239,1],[240,0,241,0],[240,1,241,1],[242,0,243,0],[242,1,243,1],[244,0,245,0],[244,1,245,1],[246,0,246,2],[247,0,247,2],[250,1,250,5],[251,0,251,5],[252,1,252,5],[253,1,253,5],[254,1,254,5],[255,1,255,5],[256,1,256,5],[257,1,257,5],[260,0,261,0],[260,1,261,4],[260,5,261,5],[260,6,261,6],[260,7,261,7],[262,0,262,4],[263,1,263,4],[264,1,264,4],[265,1,265,4],[266,1,266,4],[267,1,267,4],[268,1,268,4],[269,1,269,4],[270,1,270,4],[271,1,271,4],[272,1,272,4],[273,1,273,4],[274,1,274,4],[275,1,275,4],[276,1,276,4],[277,1,277,4],[278,1,278,4],[279,1,279,4],[280,1,280,4],[281,1,281,4],[282,1,282,4],[283,1,283,4],[284,1,284,4],[285,1,285,4],[288,0,289,0],[288,1,289,2],[288,3,288,6],[288,7,289,7],[290,0,290,2],[291,1,291,2]]}
[]
[null,"2.4. Основные финансовые показатели проекта: "]
["Наименование",{"$nulls":5},"ед.изм.",{"$f":"'Приложение 2 (На печать 2)'!C5","v":"Значение"}]
[null,"Общая стоимость проекта",{"$nulls":4},"руб.",{"$f":"'Приложение 2 (На печать 2)'!C6","v":0}]
[1,{"$f":"'Приложение 2 (На печать 2)'!A7","v":"  Собственные средства"},{"$nulls":4},{"$f":"'Приложение 2 (На печать 2)'!B7","v":"руб."},{"$f":"'Приложение 2 (На печать 2)'!C7","v":0}]
[2,{"$f":"'Приложение 2 (На печать 2)'!A8","v":"  Заемные средства (кредиты)"},{"$nulls":4},{"$f":"'Приложение 2 (На печать 2)'!B8","v":"руб."},{"$f":"'Приложение 2 (На печать 2)'!C8","v":0}]
[3,{"$f":"'Приложение 2 (На печать 2)'!A9","v":"  Государственные субсидии (МРПиП МО)"},{"$nulls":4},{"$f":"'Приложение 2 (На печать 2)'!B9","v":"руб."},{"$f":"'Приложение 2 (На печать 2)'!C9","v":0}]
[4,{"$f":"'Приложение 2 (На печать 2)'!A10","v":"  Государственные субсидии (ГСЗН)"},{"$nulls":4},{"$f":"'Приложение 2 (На печать 2)'!B10","v":"руб."},{"$f":"'Приложение 2 (На печать 2)'!C10","v":0}]
[5,{"$f":"'Приложение 2 (На печать 2)'!A11","v":"  Субвенция (ГСЗН)"},{"$nulls":4},{"$f":"'Приложение 2 (На печать 2)'!B11","v":"руб."},{"$f":"'Приложение 2 (На печать 2)'!C11","v":0}]
[6,{"$f":"'Приложение 2 (На печать 2)'!A12","v":"  Прочие источники финансирования"},{"$nulls":4},{"$f":"'Приложение 2 (На печать 2)'!B12","v":"руб."},{"$f":"'Приложение 2 (На печать 2)'!C12","v":0}]
[7,{"$f":"'Приложение 2 (На печать 2)'!A14","v":"Чистая прибыль (за первый год проекта)"},{"$nulls":4},{"$f":"'Приложение 2 (На печать 2)'!B14","v":"руб."},{"$f":"'Приложение 2 (На печать 2)'!C14","v":0}]
[8,{"$f":"'Приложение 2 (На печать 2)'!A15","v":"Суммарный денежный поток (за первый год проекта)"},{"$nulls":4},{"$f":"'Приложение 2 (На печать 2)'!B15","v":"руб."},{"$f":"'Приложение 2 (На печать 2)'!C15","v":0}]
[9,{"$f":"'Приложение 2 (На печать 2)'!A17","v":"Рентабельность продаж"},{"$nulls":4},{"$f":"'Приложение 2 (На печать 2)'!B17","v":"%"},{"$f":"'Приложение 2 (На печать 2)'!C17","v":"-"}]
[10,{"$f":"'Приложение 2 (На печать 2)'!A19","v":"Рентабельность инвестиций (ROI)"},{"$nulls":4},{"$f":"'Приложение 2 (На печать 2)'!B19","v":"%"},{"$f":"'Приложение 2 (На печать 2)'!C19","v":"-"}]
[11,{"$f":"'Приложение 2 (На печать 2)'!A21","v":"Период окупаемости общих вложений"},{"$nulls":4},{"$f":"'Приложение 2 (На печать 2)'!B21","v":"мес."},{"$f":"'Приложение 2 (На печать 2)'!C21","v":0}]
[]
[null,"4.4. План рекламных мероприятий:"]
["№ п/п","Наименование","\"0\" период","Первый год (по кварталам), руб.",{"$nulls":3},"ИТОГО, руб."]
[{"$nulls":3},"1 период","2 период","3 период","4 период"]
["Всего:",null,{"$f":"SUM(C21:C25)","v":0},{"$f":"SUM(D21:D25)","v":0},{"$f":"SUM(E21:E25)","v":0},{"$f":"SUM(F21:F25)","v":0},{"$f":"SUM(G21:G25)","v":0},{"$f":"SUM(H21:H26)","v":0}]
[1,{"$f":"'4.4. Реклама'!B6","v":"Пресса"},{"$f":"'4.4. Реклама'!C6","v":0},{"$f":"SUM('4.4. Реклама'!D6:F6)","v":0},{"$f":"SUM('4.4. Реклама'!G6:I6)","v":0},{"$f":"SUM('4.4. Реклама'!J6:L6)","v":0},{"$f":"SUM('4.4. Реклама'!M6:O6)","v":0},{"$f":"SUM(D21:G21)","v":0}]
[2,{"$f":"'4.4. Реклама'!B7","v":"Печатная продукция"},{"$f":"'4.4. Реклама'!C7","v":0},{"$f":"SUM('4.4. Реклама'!D7:F7)","v":0},{"$f":"SUM('4.4. Реклама'!G7:I7)","v":0},{"$f":"SUM('4.4. Реклама'!J7:L7)","v":0},{"$f":"SUM('4.4. Реклама'!M7:O7)","v":0},0]
[3,{"$f":"'4.4. Реклама'!B8","v":"ТВ"},{"$f":"'4.4. Реклама'!C8","v":0},{"$f":"SUM('4.4. Реклама'!D8:F8)","v":0},{"$f":"SUM('4.4. Реклама'!G8:I8)","v":0},{"$f":"SUM('4.4. Реклама'!J8:L8)","v":0},{"$f":"SUM('4.4. Реклама'!M8:O8)","v":0},0]
[4,{"$f":"'4.4. Реклама'!B9","v":"Радио"},{"$f":"'4.4. Реклама'!C9","v":0},{"$f":"SUM('4.4. Реклама'!D9:F9)","v":0},{"$f":"SUM('4.4. Реклама'!G9:I9)","v":0},{"$f":"SUM('4.4. Реклама'!J9:L9)","v":0},{"$f":"SUM('4.4. Реклама'!M9:O9)","v":0},0]
[5,{"$f":"'4.4. Реклама'!B10","v":"Создание интернет-сайта"},{"$f":"'4.4. Реклама'!C10","v":0},{"$f":"SUM('4.4. Реклама'!D10:F10)","v":0},{"$f":"SUM('4.4. Реклама'!G10:I10)","v":0},{"$f":"SUM('4.4. Реклама'!J10:L10)","v":0},{"$f":"SUM('4.4. Реклама'!M10:O10)","v":0},0]
[6,{"$f":"'4.4. Реклама'!B11","v":0},{"$f":"'4.4. Реклама'!C11","v":0},{"$f":"SUM('4.4. Реклама'!D11:F11)","v":0},{"$f":"SUM('4.4. Реклама'!G11:I11)","v":0},{"$f":"SUM('4.4. Реклама'!J11:L11)","v":0},{"$f":"SUM('4.4. Реклама'!M11:O11)","v":0},0]
[]
[null,"4.5. Ценообразование:"]
["№ п/п","Продукт (услуга)",{"$nulls":3},"Планируемая цена (руб.)",null,"Средняя цена, руб."]
[{"$nulls":5},"Диапазон цен"]
[{"$nulls":5},"Мин.","Макс."]
[1,{"$f":"'4.5. Цена'!B6","v":0},{"$nulls":3},{"$f":"'4.5. Цена'!C6","v":0},{"$f":"'4.5. Цена'!D6","v":0},{"$f":"IF(SUM(F32:G32)=0,0,AVERAGE(F32:G32))","v":0}]
[2,{"$f":"'4.5. Цена'!B7","v":0},{"$nulls":3},{"$f":"'4.5. Цена'!C7","v":0},{"$f":"'4.5. Цена'!D7","v":0},{"$f":"IF(SUM(F33:G33)=0,0,AVERAGE(F33:G33))","v":0}]
[3,{"$f":"'4.5. Цена'!B8","v":0},{"$nulls":3},{"$f":"'4.5. Цена'!C8","v":0},{"$f":"'4.5. Цена'!D8","v":0},0]
[4,{"$f":"'4.5. Цена'!B9","v":0},{"$nulls":3},{"$f":"'4.5. Цена'!C9","v":0},{"$f":"'4.5. Цена'!D9","v":0},0]
[5,{"$f":"'4.5. Цена'!B10","v":0},{"$nulls":3},{"$f":"'4.5. Цена'!C10","v":0},{"$f":"'4.5. Цена'!D10","v":0},0]
[6,{"$f":"'4.5. Цена'!B11","v":0},{"$nulls":3},{"$f":"'4.5. Цена'!C11","v":0},{"$f":"'4.5. Цена'!D11","v":0},0]
[7,{"$f":"'4.5. Цена'!B12","v":0},{"$nulls":3},{"$f":"'4.5. Цена'!C12","v":0},{"$f":"'4.5. Цена'!D12","v":0},0]
[8,{"$f":"'4.5. Цена'!B13","v":0},{"$nulls":3},{"$f":"'4.5. Цена'!C13","v":0},{"$f":"'4.5. Цена'!D13","v":0},0]
[9,{"$f":"'4.5. Цена'!B14","v":0},{"$nulls":3},{"$f":"'4.5. Цена'!C14","v":0},{"$f":"'4.5. Цена'!D14","v":0},0]
[10,{"$f":"'4.5. Цена'!B15","v":0},{"$nulls":3},{"$f":"'4.5. Цена'!C15","v":0},{"$f":"'4.5. Цена'!D15","v":0},0]
[11,{"$f":"'4.5. Цена'!B16","v":0},{"$nulls":3},{"$f":"'4.5. Цена'!C16","v":0},{"$f":"'4.5. Цена'!D16","v":0},0]
[12,{"$f":"'4.5. Цена'!B17","v":0},{"$nulls":3},{"$f":"'4.5. Цена'!C17","v":0},{"$f":"'4.5. Цена'!D17","v":0},0]
[13,{"$f":"'4.5. Цена'!B18","v":0},{"$nulls":3},{"$f":"'4.5. Цена'!C18","v":0},{"$f":"'4.5. Цена'!D18","v":0},0]
[14,{"$f":"'4.5. Цена'!B19","v":0},{"$nulls":3},{"$f":"'4.5. Цена'!C19","v":0},{"$f":"'4.5. Цена'!D19","v":0},0]
[15,{"$f":"'4.5. Цена'!B20","v":0},{"$nulls":3},{"$f":"'4.5. Цена'!C20","v":0},{"$f":"'4.5. Цена'!D20","v":0},0]
[16,{"$f":"'4.5. Цена'!B21","v":0},{"$nulls":3},{"$f":"'4.5. Цена'!C21","v":0},{"$f":"'4.5. Цена'!D21","v":0},0]
[17,{"$f":"'4.5. Цена'!B22","v":0},{"$nulls":3},{"$f":"'4.5. Цена'!C22","v":0},{"$f":"'4.5. Цена'!D22","v":0},0]
[18,{"$f":"'4.5. Цена'!B23","v":0},{"$nulls":3},{"$f":"'4.5. Цена'!C23","v":0},{"$f":"'4.5. Цена'!D23","v":0},0]
[19,{"$f":"'4.5. Цена'!B24","v":0},{"$nulls":3},{"$f":"'4.5. Цена'!C24","v":0},{"$f":"'4.5. Цена'!D24","v":0},0]
[20,{"$f":"'4.5. Цена'!B25","v":0},{"$nulls":3},{"$f":"'4.5. Цена'!C25","v":0},{"$f":"'4.5. Цена'!D25","v":0},0]
[]
[null,"4.6. План сбыта:"]
["№ п/п","Наименование","Еден. изм.","Первый год (по кварталам) руб.",{"$nulls":3},"ИТОГО, руб."]
[{"$nulls":3},{"$f":"D19","v":"1 период"},{"$f":"E19","v":"2 период"},{"$f":"F19","v":"3 период"},{"$f":"G19","v":"4 период"}]
["Всего:",null,null,{"$f":"SUM(D59,D62,D65,D68,D71,D74,D77,D80,D83,D86,D89,D92,D95,D98,D101)","v":0},{"$f":"SUM(E59,E62,E65,E68,E71,E74,E77,E80,E83,E86,E89,E92,E95,E98,E101)","v":0},{"$f":"SUM(F59,F62,F65,F68,F71,F74,F77,F80,F83,F86,F89,F92,F95,F98,F101)","v":0},{"$f":"SUM(G59,G62,G65,G68,G71,G74,G77,G80,G83,G86,G89,G92,G95,G98,G101)","v":0},{"$f":"SUM(D56:G56)","v":0}]
[1," ","Кол-во",{"$f":"SUM('4.6. План сбыта'!D7:F7)","v":0},{"$f":"SUM('4.6. План сбыта'!G7:I7)","v":0},{"$f":"SUM('4.6. План сбыта'!J7:L7)","v":0},{"$f":"SUM('4.6. План сбыта'!M7:O7)","v":0},{"$f":"SUM(D57:G57)","v":0}]
[null,null,"Цена, руб.",{"$f":"'4.6. План сбыта'!D8","v":0},{"$f":"D58","v":0},{"$f":"E58","v":0},{"$f":"F58","v":0},{"$f":"G58","v":0}]
[null,null,"Сумма",{"$f":"D58*D57","v":0},{"$f":"E58*E57","v":0},{"$f":"F58*F57","v":0},{"$f":"G58*G57","v":0},{"$f":"H58*H57","v":0}]
[2,{"$f":"'4.5. Цена'!B7","v":0},"Кол-во",{"$f":"SUM('4.6. План сбыта'!D10:F10)","v":0},{"$f":"SUM('4.6. План сбыта'!G10:I10)","v":0},{"$f":"SUM('4.6. План сбыта'!J10:L10)","v":0},{"$f":"SUM('4.6. План сбыта'!M10:O10)","v":0},{"$f":"SUM(D60:G60)","v":0}]
[null,null,"Цена, руб.",{"$f":"'4.6. План сбыта'!D11","v":0},{"$f":"D61","v":0},{"$f":"E61","v":0},{"$f":"F61","v":0},{"$f":"G61","v":0}]
[null,null,"Сумма",{"$f":"D61*D60","v":0},{"$f":"E61*E60","v":0},{"$f":"F61*F60","v":0},{"$f":"G61*G60","v":0},{"$f":"H61*H60","v":0}]
[3,{"$f":"'4.5. Цена'!B8","v":0},"Кол-во",{"$f":"SUM('4.6. План сбыта'!D13:F13)","v":0},{"$f":"SUM('4.6. План сбыта'!G13:I13)","v":0},{"$f":"SUM('4.6. План сбыта'!J13:L13)","v":0},{"$f":"SUM('4.6. План сбыта'!M13:O13)","v":0},{"$f":"SUM(D63:G63)","v":0}]
[null,null,"Цена, руб.",{"$f":"'4.6. План сбыта'!D14","v":0},{"$f":"D64","v":0},{"$f":"E64","v":0},{"$f":"F64","v":0},{"$f":"G64","v":0}]
[null,null,"Сумма",{"$f":"D64*D63","v":0},{"$f":"E64*E63","v":0},{"$f":"F64*F63","v":0},{"$f":"G64*G63","v":0},{"$f":"H64*H63","v":0}]
[4,{"$f":"'4.5. Цена'!B9","v":0},"Кол-во",{"$f":"SUM('4.6. План сбыта'!D16:F16)","v":0},{"$f":"SUM('4.6. План сбыта'!G16:I16)","v":0},{"$f":"SUM('4.6. План сбыта'!J16:L16)","v":0},{"$f":"SUM('4.6. План сбыта'!M16:O16)","v":0},{"$f":"SUM(D66:G66)","v":0}]
[null,null,"Цена, руб.",{"$f":"'4.6. План сбыта'!D17","v":0},{"$f":"D67","v":0},{"$f":"E67","v":0},{"$f":"F67","v":0},{"$f":"G67","v":0}]
[null,null,"Сумма",{"$f":"D67*D66","v":0},{"$f":"E67*E66","v":0},{"$f":"F67*F66","v":0},{"$f":"G67*G66","v":0},{"$f":"H67*H66","v":0}]
[5,{"$f":"'4.5. Цена'!B10","v":0},"Кол-во",{"$f":"SUM('4.6. План сбыта'!D19:F19)","v":0},{"$f":"SUM('4.6. План сбыта'!G19:I19)","v":0},{"$f":"SUM('4.6. План сбыта'!J19:L19)","v":0},{"$f":"SUM('4.6. План сбыта'!M19:O19)","v":0},{"$f":"SUM(D69:G69)","v":0}]
[null,null,"Цена, руб.",{"$f":"'4.6. План сбыта'!D20","v":0},{"$f":"D70","v":0},{"$f":"E70","v":0},{"$f":"F70","v":0},{"$f":"G70","v":0}]
[null,null,"Сумма",{"$f":"D70*D69","v":0},{"$f":"E70*E69","v":0},{"$f":"F70*F69","v":0},{"$f":"G70*G69","v":0},{"$f":"H70*H69","v":0}]
[6,{"$f":"'4.5. Цена'!B11","v":0},"Кол-во",{"$f":"SUM('4.6. План сбыта'!D22:F22)","v":0},{"$f":"SUM('4.6. План сбыта'!G22:I22)","v":0},{"$f":"SUM('4.6. План сбыта'!J22:L22)","v":0},{"$f":"SUM('4.6. План сбыта'!M22:O22)","v":0},{"$f":"SUM(D72:G72)","v":0}]
[null,null,"Цена, руб.",{"$f":"'4.6. План сбыта'!D23","v":0},{"$f":"D73","v":0},{"$f":"E73","v":0},{"$f":"F73","v":0},{"$f":"G73","v":0}]
[null,null,"Сумма",{"$f":"D73*D72","v":0},{"$f":"E73*E72","v":0},{"$f":"F73*F72","v":0},{"$f":"G73*G72","v":0},{"$f":"H73*H72","v":0}]
[7,{"$f":"'4.5. Цена'!B12","v":0},"Кол-во",{"$f":"SUM('4.6. План сбыта'!D25:F25)","v":0},{"$f":"SUM('4.6. План сбыта'!G25:I25)","v":0},{"$f":"SUM('4.6. План сбыта'!J25:L25)","v":0},{"$f":"SUM('4.6. План сбыта'!M25:O25)","v":0},{"$f":"SUM(D75:G75)","v":0}]
[null,null,"Цена, руб.",{"$f":"'4.6. План сбыта'!D26","v":0},{"$f":"D76","v":0},{"$f":"E76","v":0},{"$f":"F76","v":0},{"$f":"G76","v":0}]
[null,null,"Сумма",{"$f":"D76*D75","v":0},{"$f":"E76*E75","v":0},{"$f":"F76*F75","v":0},{"$f":"G76*G75","v":0},{"$f":"H76*H75","v":0}]
[8,{"$f":"'4.5. Цена'!B13","v":0},"Кол-во",{"$f":"SUM('4.6. План сбыта'!D28:F28)","v":0},{"$f":"SUM('4.6. План сбыта'!G28:I28)","v":0},{"$f":"SUM('4.6. План сбыта'!J28:L28)","v":0},{"$f":"SUM('4.6. План сбыта'!M28:O28)","v":0},{"$f":"SUM(D78:G78)","v":0}]
[null,null,"Цена, руб.",{"$f":"'4.6. План сбыта'!D29","v":0},{"$f":"D79","v":0},{"$f":"E79","v":0},{"$f":"F79","v":0},{"$f":"G79","v":0}]
[null,null,"Сумма",{"$f":"D79*D78","v":0},{"$f":"E79*E78","v":0},{"$f":"F79*F78","v":0},{"$f":"G79*G78","v":0},{"$f":"H79*H78","v":0}]
[9,{"$f":"'4.5. Цена'!B14","v":0},"Кол-во",{"$f":"SUM('4.6. План сбыта'!D31:F31)","v":0},{"$f":"SUM('4.6. План сбыта'!G31:I31)","v":0},{"$f":"SUM('4.6. План сбыта'!J31:L31)","v":0},{"$f":"SUM('4.6. План сбыта'!M31:O31)","v":0},{"$f":"SUM(D81:G81)","v":0}]
[null,null,"Цена, руб.",{"$f":"'4.6. План сбыта'!D32","v":0},{"$f":"D82","v":0},{"$f":"E82","v":0},{"$f":"F82","v":0},{"$f":"G82","v":0}]
[null,null,"Сумма",{"$f":"D82*D81","v":0},{"$f":"E82*E81","v":0},{"$f":"F82*F81","v":0},{"$f":"G82*G81","v":0},{"$f":"H82*H81","v":0}]
[10,{"$f":"'4.5. Цена'!B15","v":0},"Кол-во",{"$f":"SUM('4.6. План сбыта'!D34:F34)","v":0},{"$f":"SUM('4.6. План сбыта'!G34:I34)","v":0},{"$f":"SUM('4.6. План сбыта'!J34:L34)","v":0},{"$f":"SUM('4.6. План сбыта'!M34:O34)","v":0},{"$f":"SUM(D84:G84)","v":0}]
[null,null,"Цена, руб.",{"$f":"'4.6. План сбыта'!D35","v":0},{"$f":"D85","v":0},{"$f":"E85","v":0},{"$f":"F85","v":0},{"$f":"G85","v":0}]
[null,null,"Сумма",{"$f":"D85*D84","v":0},{"$f":"E85*E84","v":0},{"$f":"F85*F84","v":0},{"$f":"G85*G84","v":0},{"$f":"H85*H84","v":0}]
[11,{"$f":"'4.5. Цена'!B16","v":0},"Кол-во",{"$f":"SUM('4.6. План сбыта'!D37:F37)","v":0},{"$f":"SUM('4.6. План сбыта'!G37:I37)","v":0},{"$f":"SUM('4.6. План сбыта'!J37:L37)","v":0},{"$f":"SUM('4.6. План сбыта'!M37:O37)","v":0},{"$f":"SUM(D87:G87)","v":0}]
[null,null,"Цена, руб.",{"$f":"'4.6. План сбыта'!D38","v":0},{"$f":"D88","v":0},{"$f":"E88","v":0},{"$f":"F88","v":0},{"$f":"G88","v":0}]
[null,null,"Сумма",{"$f":"D88*D87","v":0},{"$f":"E88*E87","v":0},{"$f":"F88*F87","v":0},{"$f":"G88*G87","v":0},{"$f":"H88*H87","v":0}]
[12,{"$f":"'4.5. Цена'!B17","v":0},"Кол-во",{"$f":"SUM('4.6. План сбыта'!D40:F40)","v":0},{"$f":"SUM('4.6. План сбыта'!G40:I40)","v":0},{"$f":"SUM('4.6. План сбыта'!J40:L40)","v":0},{"$f":"SUM('4.6. План сбыта'!M40:O40)","v":0},{"$f":"SUM(D90:G90)","v":0}]
[null,null,"Цена, руб.",{"$f":"'4.6. План сбыта'!D41","v":0},{"$f":"D91","v":0},{"$f":"E91","v":0},{"$f":"F91","v":0},{"$f":"G91","v":0}]
[null,null,"Сумма",{"$f":"D91*D90","v":0},{"$f":"E91*E90","v":0},{"$f":"F91*F90","v":0},{"$f":"G91*G90","v":0},{"$f":"H91*H90","v":0}]
[13,{"$f":"'4.5. Цена'!B18","v":0},"Кол-во",{"$f":"SUM('4.6. План сбыта'!D43:F43)","v":0},{"$f":"SUM('4.6. План сбыта'!G43:I43)","v":0},{"$f":"SUM('4.6. План сбыта'!J43:L43)","v":0},{"$f":"SUM('4.6. План сбыта'!M43:O43)","v":0},{"$f":"SUM(D93:G93)","v":0}]
[null,null,"Цена, руб.",{"$f":"'4.6. План сбыта'!D44","v":0},{"$f":"D94","v":0},{"$f":"E94","v":0},{"$f":"F94","v":0},{"$f":"G94","v":0}]
[null,null,"Сумма",{"$f":"D94*D93","v":0},{"$f":"E94*E93","v":0},{"$f":"F94*F93","v":0},{"$f":"G94*G93","v":0},{"$f":"H94*H93","v":0}]
[14,{"$f":"'4.5. Цена'!B19","v":0},"Кол-во",{"$f":"SUM('4.6. План сбыта'!D46:F46)","v":0},{"$f":"SUM('4.6. План сбыта'!G46:I46)","v":0},{"$f":"SUM('4.6. План сбыта'!J46:L46)","v":0},{"$f":"SUM('4.6. План сбыта'!M46:O46)","v":0},{"$f":"SUM(D96:G96)","v":0}]
[null,null,"Цена, руб.",{"$f":"'4.6. План сбыта'!D47","v":0},{"$f":"D97","v":0},{"$f":"E97","v":0},{"$f":"F97","v":0},{"$f":"G97","v":0}]
[null,null,"Сумма",{"$f":"D97*D96","v":0},{"$f":"E97*E96","v":0},{"$f":"F97*F96","v":0},{"$f":"G97*G96","v":0},{"$f":"H97*H96","v":0}]
[15,{"$f":"'4.5. Цена'!B20","v":0},"Кол-во",{"$f":"SUM('4.6. План сбыта'!D49:F49)","v":0},{"$f":"SUM('4.6. План сбыта'!G49:I49)","v":0},{"$f":"SUM('4.6. План сбыта'!J49:L49)","v":0},{"$f":"SUM('4.6. План сбыта'!M49:O49)","v":0},{"$f":"SUM(D99:G99)","v":0}]
[null,null,"Цена, руб.",{"$f":"'4.6. План сбыта'!D50","v":0},{"$f":"D100","v":0},{"$f":"E100","v":0},{"$f":"F100","v":0},{"$f":"G100","v":0}]
[null,null,"Сумма",{"$f":"D100*D99","v":0},{"$f":"E100*E99","v":0},{"$f":"F100*F99","v":0},{"$f":"G100*G99","v":0},{"$f":"H100*H99","v":0}]
[]
[null,"5.2. Производственные площади и помещения:"]
["№ п/п","Наименование",{"$f":"C18","v":"\"0\" период"},"Первый год (по кварталам) руб.",{"$nulls":3},"ИТОГО, руб."]
[{"$nulls":3},{"$f":"D19","v":"1 период"},{"$f":"E19","v":"2 период"},{"$f":"F19","v":"3 период"},{"$f":"G19","v":"4 период"}]
["Всего:",null,{"$f":"C107+C111","v":0},{"$f":"D107+D111","v":0},{"$f":"E107+E111","v":0},{"$f":"F107+F111","v":0},{"$f":"G107+G111","v":0},{"$f":"SUM(C106:G106)","v":0}]
["Производственные (в т.ч. торговые)  помещения",null,{"$f":"SUM(C108:C110)","v":0},{"$f":"SUM(D108:D110)","v":0},{"$f":"SUM(E108:E110)","v":0},{"$f":"SUM(F108:F110)","v":0},{"$f":"SUM(G108:G110)","v":0},{"$f":"SUM(C107:G107)","v":0}]
["1.","Аренда",{"$f":"'5.2. Помещения'!C7","v":0},{"$f":"SUM('5.2. Помещения'!D7:F7)","v":0},{"$f":"SUM('5.2. Помещения'!G7:I7)","v":0},{"$f":"SUM('5.2. Помещения'!J7:L7)","v":0},{"$f":"SUM('5.2. Помещения'!M7:O7)","v":0},0]
["2.","Ремонт",{"$f":"'5.2. Помещения'!C8","v":0},{"$f":"SUM('5.2. Помещения'!D8:F8)","v":0},{"$f":"SUM('5.2. Помещения'!G8:I8)","v":0},{"$f":"SUM('5.2. Помещения'!J8:L8)","v":0},{"$f":"SUM('5.2. Помещения'!M8:O8)","v":0},0]
["3.","Коммунальные платежи",{"$f":"'5.2. Помещения'!C9","v":0},{"$f":"SUM('5.2. Помещения'!D9:F9)","v":0},{"$f":"SUM('5.2. Помещения'!G9:I9)","v":0},{"$f":"SUM('5.2. Помещения'!J9:L9)","v":0},{"$f":"SUM('5.2. Помещения'!M9:O9)","v":0},0]
["Офисные помещения",null,{"$f":"SUM(C112:C114)","v":0},{"$f":"SUM(D112:D114)","v":0},{"$f":"SUM(E112:E114)","v":0},{"$f":"SUM(F112:F114)","v":0},{"$f":"SUM(G112:G114)","v":0},0]
["4.","Аренда",{"$f":"'5.2. Помещения'!C11","v":0},{"$f":"SUM('5.2. Помещения'!D11:F11)","v":0},{"$f":"SUM('5.2. Помещения'!G11:I11)","v":0},{"$f":"SUM('5.2. Помещения'!J11:L11)","v":0},{"$f":"SUM('5.2. Помещения'!M11:O11)","v":0},0]
["5.","Ремонт",{"$f":"'5.2. Помещения'!C12","v":0},{"$f":"SUM('5.2. Помещения'!D12:F12)","v":0},{"$f":"SUM('5.2. Помещения'!G12:I12)","v":0},{"$f":"SUM('5.2. Помещения'!J12:L12)","v":0},{"$f":"SUM('5.2. Помещения'!M12:O12)","v":0},0]
["6.","Коммунальные платежи",{"$f":"'5.2. Помещения'!C13","v":0},{"$f":"SUM('5.2. Помещения'!D13:F13)","v":0},{"$f":"SUM('5.2. Помещения'!G13:I13)","v":0},{"$f":"SUM('5.2. Помещения'!J13:L13)","v":0},{"$f":"SUM('5.2. Помещения'!M13:O13)","v":0},0]
[]
[null,"5.3. Капитальные вложения (оборудование):"]
["№ п/п","Наименование, характеристика",null,null,"Цена,  руб.","Количество (ед.)",null,"Стоимость, руб. "]
[{"$nulls":5},"имеется","требуется "]
["Всего:",{"$nulls":6},{"$f":"SUM(H120:H144)","v":0}]
[1,{"$f":"'5.3. Оборудование'!B6","v":0},null,null,{"$f":"'5.3. Оборудование'!C6","v":0},{"$f":"'5.3. Оборудование'!D6","v":0},{"$f":"'5.3. Оборудование'!E6","v":0},{"$f":"E120*G120","v":0}]
[2,{"$f":"'5.3. Оборудование'!B7","v":0},null,null,{"$f":"'5.3. Оборудование'!C7","v":0},{"$f":"'5.3. Оборудование'!D7","v":0},{"$f":"'5.3. Оборудование'!E7","v":0},0]
[3,{"$f":"'5.3. Оборудование'!B8","v":0},null,null,{"$f":"'5.3. Оборудование'!C8","v":0},{"$f":"'5.3. Оборудование'!D8","v":0},{"$f":"'5.3. Оборудование'!E8","v":0},0]
[4,{"$f":"'5.3. Оборудование'!B9","v":0},null,null,{"$f":"'5.3. Оборудование'!C9","v":0},{"$f":"'5.3. Оборудование'!D9","v":0},{"$f":"'5.3. Оборудование'!E9","v":0},0]
[5,{"$f":"'5.3. Оборудование'!B10","v":0},null,null,{"$f":"'5.3. Оборудование'!C10","v":0},{"$f":"'5.3. Оборудование'!D10","v":0},{"$f":"'5.3. Оборудование'!E10","v":0},0]
[6,{"$f":"'5.3. Оборудование'!B11","v":0},null,null,{"$f":"'5.3. Оборудование'!C11","v":0},{"$f":"'5.3. Оборудование'!D11","v":0},{"$f":"'5.3. Оборудование'!E11","v":0},0]
[7,{"$f":"'5.3. Оборудование'!B12","v":0},null,null,{"$f":"'5.3. Оборудование'!C12","v":0},{"$f":"'5.3. Оборудование'!D12","v":0},{"$f":"'5.3. Оборудование'!E12","v":0},0]
[8,{"$f":"'5.3. Оборудование'!B13","v":0},null,null,{"$f":"'5.3. Оборудование'!C13","v":0},{"$f":"'5.3. Оборудование'!D13","v":0},{"$f":"'5.3. Оборудование'!E13","v":0},0]
[9,{"$f":"'5.3. Оборудование'!B14","v":0},null,null,{"$f":"'5.3. Оборудование'!C14","v":0},{"$f":"'5.3. Оборудование'!D14","v":0},{"$f":"'5.3. Оборудование'!E14","v":0},0]
[10,{"$f":"'5.3. Оборудование'!B15","v":0},null,null,{"$f":"'5.3. Оборудование'!C15","v":0},{"$f":"'5.3. Оборудование'!D15","v":0},{"$f":"'5.3. Оборудование'!E15","v":0},0]
[11,{"$f":"'5.3. Оборудование'!B16","v":0},null,null,{"$f":"'5.3. Оборудование'!C16","v":0},{"$f":"'5.3. Оборудование'!D16","v":0},{"$f":"'5.3. Оборудование'!E16","v":0},0]
[12,{"$f":"'5.3. Оборудование'!B17","v":0},null,null,{"$f":"'5.3. Оборудование'!C17","v":0},{"$f":"'5.3. Оборудование'!D17","v":0},{"$f":"'5.3. Оборудование'!E17","v":0},0]
[13,{"$f":"'5.3. Оборудование'!B18","v":0},null,null,{"$f":"'5.3. Оборудование'!C18","v":0},{"$f":"'5.3. Оборудование'!D18","v":0},{"$f":"'5.3. Оборудование'!E18","v":0},0]
[14,{"$f":"'5.3. Оборудование'!B19","v":0},null,null,{"$f":"'5.3. Оборудование'!C19","v":0},{"$f":"'5.3. Оборудование'!D19","v":0},{"$f":"'5.3. Оборудование'!E19","v":0},0]
[15,{"$f":"'5.3. Оборудование'!B20","v":0},null,null,{"$f":"'5.3. Оборудование'!C20","v":0},{"$f":"'5.3. Оборудование'!D20","v":0},{"$f":"'5.3. Оборудование'!E20","v":0},0]
[16,{"$f":"'5.3. Оборудование'!B21","v":0},null,null,{"$f":"'5.3. Оборудование'!C21","v":0},{"$f":"'5.3. Оборудование'!D21","v":0},{"$f":"'5.3. Оборудование'!E21","v":0},0]
[17,{"$f":"'5.3. Оборудование'!B22","v":0},null,null,{"$f":"'5.3. Оборудование'!C22","v":0},{"$f":"'5.3. Оборудование'!D22","v":0},{"$f":"'5.3. Оборудование'!E22","v":0},0]
[18,{"$f":"'5.3. Оборудование'!B23","v":0},null,null,{"$f":"'5.3. Оборудование'!C23","v":0},{"$f":"'5.3. Оборудование'!D23","v":0},{"$f":"'5.3. Оборудование'!E23","v":0},{"$f":"E137*G137","v":0}]
[19,{"$f":"'5.3. Оборудование'!B24","v":0},null,null,{"$f":"'5.3. Оборудование'!C24","v":0},{"$f":"'5.3. Оборудование'!D24","v":0},{"$f":"'5.3. Оборудование'!E24","v":0},0]
[20,{"$f":"'5.3. Оборудование'!B25","v":0},null,null,{"$f":"'5.3. Оборудование'!C25","v":0},{"$f":"'5.3. Оборудование'!D25","v":0},{"$f":"'5.3. Оборудование'!E25","v":0},0]
[21,{"$f":"'5.3. Оборудование'!B26","v":0},null,null,{"$f":"'5.3. Оборудование'!C26","v":0},{"$f":"'5.3. Оборудование'!D26","v":0},{"$f":"'5.3. Оборудование'!E26","v":0},0]
[22,{"$f":"'5.3. Оборудование'!B27","v":0},null,null,{"$f":"'5.3. Оборудование'!C27","v":0},{"$f":"'5.3. Оборудование'!D27","v":0},{"$f":"'5.3. Оборудование'!E27","v":0},0]
[23,{"$f":"'5.3. Оборудование'!B28","v":0},null,null,{"$f":"'5.3. Оборудование'!C28","v":0},{"$f":"'5.3. Оборудование'!D28","v":0},{"$f":"'5.3. Оборудование'!E28","v":0},0]
[24,{"$f":"'5.3. Оборудование'!B29","v":0},null,null,{"$f":"'5.3. Оборудование'!C29","v":0},{"$f":"'5.3. Оборудование'!D29","v":0},{"$f":"'5.3. Оборудование'!E29","v":0},0]
[25,{"$f":"'5.3. Оборудование'!B30","v":0},{"$nulls":5},0]
[]
[null,"Статьи капитальных вложений в проект:"]
["№ п/п","Наименование",{"$f":"C18","v":"\"0\" период"},"Первый год (по кварталам) руб.",{"$nulls":3},"Итого, "]
[{"$nulls":3},"1 период","2 период","3 период","4 период","руб."]
["Всего:",null,{"$f":"SUM(C150:C153)","v":0},0,0,0,0,0]
["1.","Приобретение оборудования",{"$f":"Поквартально!B55","v":0},{"$f":"Поквартально!C55","v":0},{"$f":"Поквартально!D55","v":0},{"$f":"Поквартально!E55","v":0},{"$f":"Поквартально!F55","v":0},{"$f":"SUM(C150:G150)","v":0}]
["2.","Приобретение транспортных средств",{"$f":"Поквартально!B56","v":0},{"$f":"Поквартально!C56","v":0},{"$f":"Поквартально!D56","v":0},{"$f":"Поквартально!E56","v":0},{"$f":"Поквартально!F56","v":0},{"$f":"SUM(C151:G151)","v":0}]
["3.","Проведение строительных, ремонтных  работ",{"$f":"Поквартально!B57","v":0},{"$f":"Поквартально!C57","v":0},{"$f":"Поквартально!D57","v":0},{"$f":"Поквартально!E57","v":0},{"$f":"Поквартально!F57","v":0},{"$f":"SUM(C152:G152)","v":0}]
["4.","Телефонная линия / Интернет",{"$f":"Поквартально!B58","v":0},{"$f":"Поквартально!C58","v":0},{"$f":"Поквартально!D58","v":0},{"$f":"Поквартально!E58","v":0},{"$f":"Поквартально!F58","v":0},{"$f":"SUM(C153:G153)","v":0}]
[]
[null,"5.4.1. Прямые затраты - сырье и материалы:"]
["№ п/п","Наименование","Един. изм.",{"$f":"C18","v":"\"0\" период"},"Первый год (по кварталам), руб.",{"$nulls":3},"ИТОГО, руб."]
[{"$nulls":4},{"$f":"D19","v":"1 период"},{"$f":"E19","v":"2 период"},{"$f":"F19","v":"3 период"},{"$f":"G19","v":"4 период"}]
["Всего:",null,null,{"$f":"SUM(D161,D164,D167,D170,D173,D176,D179,D182,D185,D188,D191,D194,D197,D200,D203)","v":0},0,0,0,0,0]
[1,{"$f":"T('5.4.1. Сырье и материалы'!B6:B8)","v":""},{"$f":"'5.4.1. Сырье и материалы'!C6","v":"Кол-во"},{"$f":"'5.4.1. Сырье и материалы'!D6","v":0},{"$f":"SUM('5.4.1. Сырье и материалы'!E6:G6)","v":0},{"$f":"SUM('5.4.1. Сырье и материалы'!H6:J6)","v":0},{"$f":"SUM('5.4.1. Сырье и материалы'!K6:M6)","v":0},{"$f":"SUM('5.4.1. Сырье и материалы'!N6:P6)","v":0},{"$f":"SUM(D159:H159)","v":0}]
[null,null,"Цена, руб.",{"$f":"'5.4.1. Сырье и материалы'!D7","v":0},{"$f":"'5.4.1. Сырье и материалы'!D7","v":0},{"$f":"E160","v":0},{"$f":"F160","v":0},{"$f":"G160","v":0},{"$f":"H160","v":0}]
[null,null,"Сумма",{"$f":"D159*D160","v":0},0,0,0,0,0]
[2,{"$f":"T('5.4.1. Сырье и материалы'!B9:B11)","v":""},"Кол-во",{"$f":"'5.4.1. Сырье и материалы'!D9","v":0},{"$f":"SUM('5.4.1. Сырье и материалы'!E9:G9)","v":0},{"$f":"SUM('5.4.1. Сырье и материалы'!H9:J9)","v":0},{"$f":"SUM('5.4.1. Сырье и материалы'!K9:M9)","v":0},{"$f":"SUM('5.4.1. Сырье и материалы'!N9:P9)","v":0},{"$f":"SUM(D162:H162)","v":0}]
[null,null,"Цена, руб.",{"$f":"'5.4.1. Сырье и материалы'!D10","v":0},{"$f":"'5.4.1. Сырье и материалы'!D10","v":0},{"$f":"E163","v":0},{"$f":"F163","v":0},{"$f":"G163","v":0},{"$f":"H163","v":0}]
[null,null,"Сумма",{"$f":"D162*D163","v":0},0,0,0,0,0]
[3,{"$f":"T('5.4.1. Сырье и материалы'!B12:B14)","v":""},"Кол-во",{"$f":"'5.4.1. Сырье и материалы'!D12","v":0},{"$f":"SUM('5.4.1. Сырье и материалы'!E12:G12)","v":0},{"$f":"SUM('5.4.1. Сырье и материалы'!H12:J12)","v":0},{"$f":"SUM('5.4.1. Сырье и материалы'!K12:M12)","v":0},{"$f":"SUM('5.4.1. Сырье и материалы'!N12:P12)","v":0},{"$f":"SUM(D165:H165)","v":0}]
[null,null,"Цена, руб.",{"$f":"'5.4.1. Сырье и материалы'!D13","v":0},{"$f":"'5.4.1. Сырье и материалы'!D13","v":0},{"$f":"E166","v":0},{"$f":"F166","v":0},{"$f":"G166","v":0},{"$f":"H166","v":0}]
[null,null,"Сумма",{"$f":"D165*D166","v":0},0,0,0,0,0]
[4,{"$f":"T('5.4.1. Сырье и материалы'!B15:B17)","v":""},"Кол-во",{"$f":"'5.4.1. Сырье и материалы'!D15","v":0},{"$f":"SUM('5.4.1. Сырье и материалы'!E15:G15)","v":0},{"$f":"SUM('5.4.1. Сырье и материалы'!H15:J15)","v":0},{"$f":"SUM('5.4.1. Сырье и материалы'!K15:M15)","v":0},{"$f":"SUM('5.4.1. Сырье и материалы'!N15:P15)","v":0},{"$f":"SUM(D168:H168)","v":0}]
[null,null,"Цена, руб.",{"$f":"'5.4.1. Сырье и материалы'!D16","v":0},{"$f":"'5.4.1. Сырье и материалы'!D16","v":0},{"$f":"E169","v":0},{"$f":"F169","v":0},{"$f":"G169","v":0},{"$f":"H169","v":0}]
[null,null,"Сумма",{"$f":"D168*D169","v":0},0,0,0,0,0]
[5,{"$f":"T('5.4.1. Сырье и материалы'!B18:B20)","v":""},"Кол-во",{"$f":"'5.4.1. Сырье и материалы'!D18","v":0},{"$f":"SUM('5.4.1. Сырье и материалы'!E18:G18)","v":0},{"$f":"SUM('5.4.1. Сырье и материалы'!H18:J18)","v":0},{"$f":"SUM('5.4.1. Сырье и материалы'!K18:M18)","v":0},{"$f":"SUM('5.4.1. Сырье и материалы'!N18:P18)","v":0},{"$f":"SUM(D171:H171)","v":0}]
[null,null,"Цена, руб.",{"$f":"'5.4.1. Сырье и материалы'!D19","v":0},{"$f":"'5.4.1. Сырье и материалы'!D19","v":0},{"$f":"E172","v":0},{"$f":"F172","v":0},{"$f":"G172","v":0},{"$f":"H172","v":0}]
[null,null,"Сумма",{"$f":"D171*D172","v":0},0,0,0,0,0]
[6,{"$f":"T('5.4.1. Сырье и материалы'!B21:B23)","v":""},"Кол-во",{"$f":"'5.4.1. Сырье и материалы'!D21","v":0},{"$f":"SUM('5.4.1. Сырье и материалы'!E21:G21)","v":0},{"$f":"SUM('5.4.1. Сырье и материалы'!H21:J21)","v":0},{"$f":"SUM('5.4.1. Сырье и материалы'!K21:M21)","v":0},{"$f":"SUM('5.4.1. Сырье и материалы'!N21:P21)","v":0},{"$f":"SUM(D174:H174)","v":0}]
[null,null,"Цена, руб.",{"$f":"'5.4.1. Сырье и материалы'!D22","v":0},{"$f":"'5.4.1. Сырье и материалы'!D22","v":0},{"$f":"E175","v":0},{"$f":"F175","v":0},{"$f":"G175","v":0},{"$f":"H175","v":0}]
[null,null,"Сумма",{"$f":"D174*D175","v":0},0,0,0,0,0]
[7,{"$f":"T('5.4.1. Сырье и материалы'!B24:B26)","v":""},"Кол-во",{"$f":"'5.4.1. Сырье и материалы'!D24","v":0},{"$f":"SUM('5.4.1. Сырье и материалы'!E24:G24)","v":0},{"$f":"SUM('5.4.1. Сырье и материалы'!H24:J24)","v":0},{"$f":"SUM('5.4.1. Сырье и материалы'!K24:M24)","v":0},{"$f":"SUM('5.4.1. Сырье и материалы'!N24:P24)","v":0},{"$f":"SUM(D177:H177)","v":0}]
[null,null,"Цена, руб.",{"$f":"'5.4.1. Сырье и материалы'!D25","v":0},{"$f":"'5.4.1. Сырье и материалы'!D25","v":0},{"$f":"E178","v":0},{"$f":"F178","v":0},{"$f":"G178","v":0},{"$f":"H178","v":0}]
[null,null,"Сумма",{"$f":"D177*D178","v":0},0,0,0,0,0]
[8,{"$f":"T('5.4.1. Сырье и материалы'!B27:B29)","v":""},"Кол-во",{"$f":"'5.4.1. Сырье и материалы'!D27","v":0},{"$f":"SUM('5.4.1. Сырье и материалы'!E27:G27)","v":0},{"$f":"SUM('5.4.1. Сырье и материалы'!H27:J27)","v":0},{"$f":"SUM('5.4.1. Сырье и материалы'!K27:M27)","v":0},{"$f":"SUM('5.4.1. Сырье и материалы'!N27:P27)","v":0},{"$f":"SUM(D180:H180)","v":0}]
[null,null,"Цена, руб.",{"$f":"'5.4.1. Сырье и материалы'!D28","v":0},{"$f":"'5.4.1. Сырье и материалы'!D28","v":0},{"$f":"E181","v":0},{"$f":"F181","v":0},{"$f":"G181","v":0},{"$f":"H181","v":0}]
[null,null,"Сумма",{"$f":"D180*D181","v":0},0,0,0,0,0]
[9,{"$f":"T('5.4.1. Сырье и материалы'!B30:B32)","v":""},"Кол-во",{"$f":"'5.4.1. Сырье и материалы'!D30","v":0},{"$f":"SUM('5.4.1. Сырье и материалы'!E30:G30)","v":0},{"$f":"SUM('5.4.1. Сырье и материалы'!H30:J30)","v":0},{"$f":"SUM('5.4.1. Сырье и материалы'!K30:M30)","v":0},{"$f":"SUM('5.4.1. Сырье и материалы'!N30:P30)","v":0},{"$f":"SUM(D183:H183)","v":0}]
[null,null,"Цена, руб.",{"$f":"'5.4.1. Сырье и материалы'!D31","v":0},{"$f":"'5.4.1. Сырье и материалы'!D31","v":0},{"$f":"E184","v":0},{"$f":"F184","v":0},{"$f":"G184","v":0},{"$f":"H184","v":0}]
[null,null,"Сумма",{"$f":"D183*D184","v":0},0,0,0,0,0]
[10,{"$f":"T('5.4.1. Сырье и материалы'!B33:B35)","v":""},"Кол-во",{"$f":"'5.4.1. Сырье и материалы'!D33","v":0},{"$f":"SUM('5.4.1. Сырье и материалы'!E33:G33)","v":0},{"$f":"SUM('5.4.1. Сырье и материалы'!H33:J33)","v":0},{"$f":"SUM('5.4.1. Сырье и материалы'!K33:M33)","v":0},{"$f":"SUM('5.4.1. Сырье и материалы'!N33:P33)","v":0},{"$f":"SUM(D186:H186)","v":0}]
[null,null,"Цена, руб.",{"$f":"'5.4.1. Сырье и материалы'!D34","v":0},{"$f":"'5.4.1. Сырье и материалы'!D34","v":0},{"$f":"E187","v":0},{"$f":"F187","v":0},{"$f":"G187","v":0},{"$f":"H187","v":0}]
[null,null,"Сумма",{"$f":"D186*D187","v":0},0,0,0,0,0]
[11,{"$f":"T('5.4.1. Сырье и материалы'!B36:B38)","v":""},"Кол-во",{"$f":"'5.4.1. Сырье и материалы'!D36","v":0},{"$f":"SUM('5.4.1. Сырье и материалы'!E36:G36)","v":0},{"$f":"SUM('5.4.1. Сырье и материалы'!H36:J36)","v":0},{"$f":"SUM('5.4.1. Сырье и материалы'!K36:M36)","v":0},{"$f":"SUM('5.4.1. Сырье и материалы'!N36:P36)","v":0},{"$f":"SUM(D189:H189)","v":0}]
[null,null,"Цена, руб.",{"$f":"'5.4.1. Сырье и материалы'!D37","v":0},{"$f":"'5.4.1. Сырье и материалы'!D37","v":0},{"$f":"E190","v":0},{"$f":"F190","v":0},{"$f":"G190","v":0},{"$f":"H190","v":0}]
[null,null,"Сумма",{"$f":"D189*D190","v":0},0,0,0,0,0]
[12,{"$f":"T('5.4.1. Сырье и материалы'!B39:B41)","v":""},"Кол-во",{"$f":"'5.4.1. Сырье и материалы'!D39","v":0},{"$f":"SUM('5.4.1. Сырье и материалы'!E39:G39)","v":0},{"$f":"SUM('5.4.1. Сырье и материалы'!H39:J39)","v":0},{"$f":"SUM('5.4.1. Сырье и материалы'!K39:M39)","v":0},{"$f":"SUM('5.4.1. Сырье и материалы'!N39:P39)","v":0},{"$f":"SUM(D192:H192)","v":0}]
[null,null,"Цена, руб.",{"$f":"'5.4.1. Сырье и материалы'!D40","v":0},{"$f":"'5.4.1. Сырье и материалы'!D40","v":0},{"$f":"E193","v":0},{"$f":"F193","v":0},{"$f":"G193","v":0},{"$f":"H193","v":0}]
[null,null,"Сумма",{"$f":"D192*D193","v":0},0,0,0,0,0]
[13,{"$f":"T('5.4.1. Сырье и материалы'!B42:B44)","v":""},"Кол-во",{"$f":"'5.4.1. Сырье и материалы'!D42","v":0},{"$f":"SUM('5.4.1. Сырье и материалы'!E42:G42)","v":0},{"$f":"SUM('5.4.1. Сырье и материалы'!H42:J42)","v":0},{"$f":"SUM('5.4.1. Сырье и материалы'!K42:M42)","v":0},{"$f":"SUM('5.4.1. Сырье и материалы'!N42:P42)","v":0},{"$f":"SUM(D195:H195)","v":0}]
[null,null,"Цена, руб.",{"$f":"'5.4.1. Сырье и материалы'!D43","v":0},{"$f":"'5.4.1. Сырье и материалы'!D43","v":0},{"$f":"E196","v":0},{"$f":"F196","v":0},{"$f":"G196","v":0},{"$f":"H196","v":0}]
[null,null,"Сумма",{"$f":"D195*D196","v":0},0,0,0,0,0]
[14,{"$f":"T('5.4.1. Сырье и материалы'!B45:B47)","v":""},"Кол-во",{"$f":"'5.4.1. Сырье и материалы'!D45","v":0},{"$f":"SUM('5.4.1. Сырье и материалы'!E45:G45)","v":0},{"$f":"SUM('5.4.1. Сырье и материалы'!H45:J45)","v":0},{"$f":"SUM('5.4.1. Сырье и материалы'!K45:M45)","v":0},{"$f":"SUM('5.4.1. Сырье и материалы'!N45:P45)","v":0},{"$f":"SUM(D198:H198)","v":0}]
[null,null,"Цена, руб.",{"$f":"'5.4.1. Сырье и материалы'!D46","v":0},{"$f":"'5.4.1. Сырье и материалы'!D46","v":0},{"$f":"E199","v":0},{"$f":"F199","v":0},{"$f":"G199","v":0},{"$f":"H199","v":0}]
[null,null,"Сумма",{"$f":"D198*D199","v":0},0,0,0,0,0]
[15,{"$f":"T('5.4.1. Сырье и материалы'!B48:B50)","v":""},"Кол-во",{"$f":"'5.4.1. Сырье и материалы'!D48","v":0},{"$f":"SUM('5.4.1. Сырье и материалы'!E48:G48)","v":0},{"$f":"SUM('5.4.1. Сырье и материалы'!H48:J48)","v":0},{"$f":"SUM('5.4.1. Сырье и материалы'!K48:M48)","v":0},{"$f":"SUM('5.4.1. Сырье и материалы'!N48:P48)","v":0},{"$f":"SUM(D201:H201)","v":0}]
[null,null,"Цена, руб.",{"$f":"'5.4.1. Сырье и материалы'!D49","v":0},{"$f":"'5.4.1. Сырье и материалы'!D49","v":0},{"$f":"E202","v":0},{"$f":"F202","v":0},{"$f":"G202","v":0},{"$f":"H202","v":0}]
[null,null,"Сумма",{"$f":"D201*D202","v":0},0,0,0,0,0]
[]
[null,"5.4.2. Накладные (косвенные) затраты:"]
["№  п/п","Наименование",{"$f":"C18","v":"\"0\" период"},"Первый год (по кварталам) руб. ",{"$nulls":3},"ИТОГО, руб."]
[{"$nulls":3},{"$f":"$D$19","v":"1 период"},{"$f":"$E$19","v":"2 период"},{"$f":"$F$19","v":"3 период"},{"$f":"$G$19","v":"4 период"}]
["Всего:",null,{"$f":"C209+C214","v":0},{"$f":"D209+D214","v":0},{"$f":"E209+E214","v":0},{"$f":"F209+F214","v":0},{"$f":"G209+G214","v":0},{"$f":"SUBTOTAL(9,D208:G208)","v":0}]
[null,"Производственные затраты, всего",{"$f":"SUM(C210:C213)","v":0},{"$f":"SUM(D210:D213)","v":0},{"$f":"SUM(E210:E213)","v":0},{"$f":"SUM(F210:F213)","v":0},{"$f":"SUM(G210:G213)","v":0},{"$f":"SUM(C209:G209)","v":0}]
["1.","Обучение производственного персонала",{"$f":"'5.4.2. Накладные  затраты'!C7","v":0},{"$f":"SUM('5.4.2. Накладные  затраты'!D7:F7)","v":0},{"$f":"SUM('5.4.2. Накладные  затраты'!G7:I7)","v":0},{"$f":"SUM('5.4.2. Накладные  затраты'!J7:L7)","v":0},{"$f":"SUM('5.4.2. Накладные  затраты'!M7:O7)","v":0},0]
["2.","Транспортные расходы для производства",{"$f":"'5.4.2. Накладные  затраты'!C8","v":0},{"$f":"SUM('5.4.2. Накладные  затраты'!D8:F8)","v":0},{"$f":"SUM('5.4.2. Накладные  затраты'!G8:I8)","v":0},{"$f":"SUM('5.4.2. Накладные  затраты'!J8:L8)","v":0},{"$f":"SUM('5.4.2. Накладные  затраты'!M8:O8)","v":0},0]
["3.","Аренда производственных площадей",{"$f":"'5.4.2. Накладные  затраты'!C9","v":0},{"$f":"SUM('5.4.2. Накладные  затраты'!D9:F9)","v":0},{"$f":"SUM('5.4.2. Накладные  затраты'!G9:I9)","v":0},{"$f":"SUM('5.4.2. Накладные  затраты'!J9:L9)","v":0},{"$f":"SUM('5.4.2. Накладные  затраты'!M9:O9)","v":0},0]
["4.","Коммунальные платежи по производственным помещениям ",{"$f":"'5.4.2. Накладные  затраты'!C10","v":0},{"$f":"SUM('5.4.2. Накладные  затраты'!D10:F10)","v":0},{"$f":"SUM('5.4.2. Накладные  затраты'!G10:I10)","v":0},{"$f":"SUM('5.4.2. Накладные  затраты'!J10:L10)","v":0},{"$f":"SUM('5.4.2. Накладные  затраты'!M10:O10)","v":0},0]
[null,"Административные затраты, всего",{"$f":"SUM(C215:C223)","v":0},{"$f":"SUM(D215:D223)","v":0},{"$f":"SUM(E215:E223)","v":0},{"$f":"SUM(F215:F223)","v":0},{"$f":"SUM(G215:G223)","v":0},0]
[1,"З/п административного персонала",{"$f":"'5.4.2. Накладные  затраты'!C16","v":"Х"},{"$f":"SUM('5.4.2. Накладные  затраты'!D16:F16)","v":0},{"$f":"SUM('5.4.2. Накладные  затраты'!H16:J16)","v":0},{"$f":"SUM('5.4.2. Накладные  затраты'!J16:L16)","v":0},{"$f":"SUM('5.4.2. Накладные  затраты'!M16:O16)","v":0},{"$f":"SUM(C215:G215)","v":0}]
[2,"Аренда офисных помещений",{"$f":"'5.4.2. Накладные  затраты'!C17","v":0},{"$f":"SUM('5.4.2. Накладные  затраты'!D17:F17)","v":0},{"$f":"SUM('5.4.2. Накладные  затраты'!H17:J17)","v":0},{"$f":"SUM('5.4.2. Накладные  затраты'!J17:L17)","v":0},{"$f":"SUM('5.4.2. Накладные  затраты'!M17:O17)","v":0},0]
[3,"Коммунальные платежи по офисным помещениям",{"$f":"'5.4.2. Накладные  затраты'!C18","v":0},{"$f":"SUM('5.4.2. Накладные  затраты'!D18:F18)","v":0},{"$f":"SUM('5.4.2. Накладные  затраты'!H18:J18)","v":0},{"$f":"SUM('5.4.2. Накладные  затраты'!J18:L18)","v":0},{"$f":"SUM('5.4.2. Накладные  затраты'!M18:O18)","v":0},0]
[4,"Связь и коммуникации",{"$f":"'5.4.2. Накладные  затраты'!C19","v":0},{"$f":"SUM('5.4.2. Накладные  затраты'!D19:F19)","v":0},{"$f":"SUM('5.4.2. Накладные  затраты'!H19:J19)","v":0},{"$f":"SUM('5.4.2. Накладные  затраты'!J19:L19)","v":0},{"$f":"SUM('5.4.2. Накладные  затраты'!M19:O19)","v":0},0]
[5,"Канцелярские товары",{"$f":"'5.4.2. Накладные  затраты'!C20","v":"Х"},{"$f":"SUM('5.4.2. Накладные  затраты'!D20:F20)","v":0},{"$f":"SUM('5.4.2. Накладные  затраты'!H20:J20)","v":0},{"$f":"SUM('5.4.2. Накладные  затраты'!J20:L20)","v":0},{"$f":"SUM('5.4.2. Накладные  затраты'!M20:O20)","v":0},0]
[6,"Услуги бухгалтерии",{"$f":"'5.4.2. Накладные  затраты'!C21","v":0},{"$f":"SUM('5.4.2. Накладные  затраты'!D21:F21)","v":0},{"$f":"SUM('5.4.2. Накладные  затраты'!H21:J21)","v":0},{"$f":"SUM('5.4.2. Накладные  затраты'!J21:L21)","v":0},{"$f":"SUM('5.4.2. Накладные  затраты'!M21:O21)","v":0},0]
[7,"Услуги банка",{"$f":"'5.4.2. Накладные  затраты'!C22","v":0},{"$f":"SUM('5.4.2. Накладные  затраты'!D22:F22)","v":0},{"$f":"SUM('5.4.2. Накладные  затраты'!H22:J22)","v":0},{"$f":"SUM('5.4.2. Накладные  затраты'!J22:L22)","v":0},{"$f":"SUM('5.4.2. Накладные  затраты'!M22:O22)","v":0},0]
[8,"Услуги прочих сторонних организаций",{"$f":"'5.4.2. Накладные  затраты'!C23","v":0},{"$f":"SUM('5.4.2. Накладные  затраты'!D23:F23)","v":0},{"$f":"SUM('5.4.2. Накладные  затраты'!H23:J23)","v":0},{"$f":"SUM('5.4.2. Накладные  затраты'!J23:L23)","v":0},{"$f":"SUM('5.4.2. Накладные  затраты'!M23:O23)","v":0},0]
[9,"Прочие административные расходы",{"$f":"'5.4.2. Накладные  затраты'!C24","v":0},{"$f":"SUM('5.4.2. Накладные  затраты'!D24:F24)","v":0},{"$f":"SUM('5.4.2. Накладные  затраты'!H24:J24)","v":0},{"$f":"SUM('5.4.2. Накладные  затраты'!J24:L24)","v":0},{"$f":"SUM('5.4.2. Накладные  затраты'!M24:O24)","v":0},0]
[]
[null,"Затраты на оплату труда:"]
["№ п/п","Наименование должности","Показатели","Первый год (по кварталам), руб.",{"$nulls":3},"ИТОГО, руб."]
[{"$nulls":3},{"$f":"D19","v":"1 период"},{"$f":"E19","v":"2 период"},{"$f":"F19","v":"3 период"},{"$f":"G19","v":"4 период"}]
["Итого по персоналу (п. 1 + п.2):",null,null,{"$f":"D229+D238","v":0},{"$f":"E229+E238","v":0},{"$f":"F229+F238","v":0},{"$f":"G229+G238","v":0},{"$f":"H229+H238","v":0}]
[1,"Административный персонал",null,{"$f":"SUM('6.1. Персонал'!D5:F5)","v":0},{"$f":"SUM('6.1. Персонал'!G5:I5)","v":0},{"$f":"SUM('6.1. Персонал'!J5:L5)","v":0},{"$f":"SUM('6.1. Персонал'!M5:O5)","v":0},{"$f":"SUM(D229:G229)","v":0}]
[1,{"$f":"T('6.1. Персонал'!B9:B10)","v":""},"Количество",{"$f":"SUM('6.1. Персонал'!D9:F9)/3","v":0},{"$f":"SUM('6.1. Персонал'!G9:I9)/3","v":0},{"$f":"SUM('6.1. Персонал'!J9:L9)/3","v":0},{"$f":"SUM('6.1. Персонал'!M9:O9)/3","v":0}]
[null,null,"Размер з/п",{"$f":"SUM('6.1. Персонал'!D10:F10)/3","v":0},{"$f":"SUM('6.1. Персонал'!G10:I10)/3","v":0},{"$f":"SUM('6.1. Персонал'!J10:L10)/3","v":0},{"$f":"SUM('6.1. Персонал'!M10:O10)/3","v":0}]
[2,{"$f":"T('6.1. Персонал'!B11:B12)","v":""},"Количество",{"$f":"SUM('6.1. Персонал'!D11:F11)/3","v":0},{"$f":"SUM('6.1. Персонал'!G11:I11)/3","v":0},{"$f":"SUM('6.1. Персонал'!J11:L11)/3","v":0},{"$f":"SUM('6.1. Персонал'!M11:O11)/3","v":0}]
[null,null,"Размер з/п",{"$f":"SUM('6.1. Персонал'!D12:F12)/3","v":0},{"$f":"SUM('6.1. Персонал'!G12:I12)/3","v":0},{"$f":"SUM('6.1. Персонал'!J12:L12)/3","v":0},{"$f":"SUM('6.1. Персонал'!M12:O12)/3","v":0}]
[3,{"$f":"T('6.1. Персонал'!B13:B14)","v":""},"Количество",{"$f":"SUM('6.1. Персонал'!D13:F13)/3","v":0},{"$f":"SUM('6.1. Персонал'!G13:I13)/3","v":0},{"$f":"SUM('6.1. Персонал'!J13:L13)/3","v":0},{"$f":"SUM('6.1. Персонал'!M13:O13)/3","v":0}]
[null,null,"Размер з/п",{"$f":"SUM('6.1. Персонал'!D14:F14)/3","v":0},{"$f":"SUM('6.1. Персонал'!G14:I14)/3","v":0},{"$f":"SUM('6.1. Персонал'!J14:L14)/3","v":0},{"$f":"SUM('6.1. Персонал'!M14:O14)/3","v":0}]
[4,{"$f":"T('6.1. Персонал'!B15:B16)","v":""},"Количество",{"$f":"SUM('6.1. Персонал'!D15:F15)/3","v":0},{"$f":"SUM('6.1. Персонал'!G15:I15)/3","v":0},{"$f":"SUM('6.1. Персонал'!J15:L15)/3","v":0},{"$f":"SUM('6.1. Персонал'!M15:O15)/3","v":0}]
[null,null,"Размер з/п",{"$f":"SUM('6.1. Персонал'!D16:F16)/3","v":0},{"$f":"SUM('6.1. Персонал'!G16:I16)/3","v":0},{"$f":"SUM('6.1. Персонал'!J16:L16)/3","v":0},{"$f":"SUM('6.1. Персонал'!M16:O16)/3","v":0}]
[2,"Производственный (в т.ч. торговый) персонал",null,{"$f":"SUM('6.1. Персонал'!D6:F6)","v":0},{"$f":"SUM('6.1. Персонал'!G6:I6)","v":0},{"$f":"SUM('6.1. Персонал'!J6:L6)","v":0},{"$f":"SUM('6.1. Персонал'!M6:O6)","v":0},{"$f":"SUM(D238:G238)","v":0}]
[1,{"$f":"T('6.1. Персонал'!B19:B20)","v":""},"Количество",{"$f":"SUM('6.1. Персонал'!D19:F19)/3","v":0},{"$f":"SUM('6.1. Персонал'!G19:I19)/3","v":0},{"$f":"SUM('6.1. Персонал'!J19:L19)/3","v":0},{"$f":"SUM('6.1. Персонал'!M19:O19)/3","v":0}]
[null,null,"Размер з/п",{"$f":"SUM('6.1. Персонал'!D20:F20)/3","v":0},{"$f":"SUM('6.1. Персонал'!G20:I20)/3","v":0},{"$f":"SUM('6.1. Персонал'!J20:L20)/3","v":0},{"$f":"SUM('6.1. Персонал'!M20:O20)/3","v":0}]
[2,{"$f":"T('6.1. Персонал'!B21:B22)","v":""},"Количество",{"$f":"SUM('6.1. Персонал'!D21:F21)/3","v":0},{"$f":"SUM('6.1. Персонал'!G21:I21)/3","v":0},{"$f":"SUM('6.1. Персонал'!J21:L21)/3","v":0},{"$f":"SUM('6.1. Персонал'!M21:O21)/3","v":0}]
[null,null,"Размер з/п",{"$f":"SUM('6.1. Персонал'!D22:F22)/3","v":0},{"$f":"SUM('6.1. Персонал'!G22:I22)/3","v":0},{"$f":"SUM('6.1. Персонал'!J22:L22)/3","v":0},{"$f":"SUM('6.1. Персонал'!M22:O22)/3","v":0}]
[3,{"$f":"T('6.1. Персонал'!B23:B24)","v":""},"Количество",{"$f":"SUM('6.1. Персонал'!D23:F23)/3","v":0},{"$f":"SUM('6.1. Персонал'!G23:I23)/3","v":0},{"$f":"SUM('6.1. Персонал'!J23:L23)/3","v":0},{"$f":"SUM('6.1. Персонал'!M23:O23)/3","v":0}]
[null,null,"Размер з/п",{"$f":"SUM('6.1. Персонал'!D24:F24)/3","v":0},{"$f":"SUM('6.1. Персонал'!G24:I24)/3","v":0},{"$f":"SUM('6.1. Персонал'!J24:L24)/3","v":0},{"$f":"SUM('6.1. Персонал'!M24:O24)/3","v":0}]
[4,{"$f":"T('6.1. Персонал'!B25:B26)","v":""},"Количество",{"$f":"SUM('6.1. Персонал'!D25:F25)/3","v":0},{"$f":"SUM('6.1. Персонал'!G25:I25)/3","v":0},{"$f":"SUM('6.1. Персонал'!J25:L25)/3","v":0},{"$f":"SUM('6.1. Персонал'!M25:O25)/3","v":0}]
[null,null,"Размер з/п",{"$f":"SUM('6.1. Персонал'!D26:F26)/3","v":0},{"$f":"SUM('6.1. Персонал'!G26:I26)/3","v":0},{"$f":"SUM('6.1. Персонал'!J26:L26)/3","v":0},{"$f":"SUM('6.1. Персонал'!M26:O26)/3","v":0}]
["Социальные взносы  (п. 3. * ставку соц.выплат)",null,null,{"$f":"D228*Исходные!$B$23","v":0},{"$f":"E228*Исходные!$B$23","v":0},{"$f":"F228*Исходные!$B$23","v":0},{"$f":"G228*Исходные!$B$23","v":0},{"$f":"SUM(D247:G247)","v":0}]
["Итого фонд оплаты труда (п.3 + п.4.)",null,null,{"$f":"D228+D247","v":0},{"$f":"E228+E247","v":0},{"$f":"F228+F247","v":0},{"$f":"G228+G247","v":0},{"$f":"SUM(D248:G248)","v":0}]
[]
[null,"7.1. Структура капитала:"]
["№ п/п","Наименование источника",{"$nulls":4},"Сумма,  руб.","Удельный вес %"]
["Всего:",{"$nulls":5},{"$f":"SUM(G253:G258)","v":0},{"$f":"G252/$G$252","v":{"$error":"#DIV/0!"}}]
[1,{"$f":"B5","v":"  Собственные средства"},{"$nulls":4},{"$f":"H5","v":0},{"$f":"G253/$G$252","v":{"$error":"#DIV/0!"}}]
[2,"  Заемные средства (кредиты)",{"$nulls":4},0,{"$error":"#DIV/0!"}]
[3,"  Государственные субсидии (МРПиП МО)",{"$nulls":4},0,{"$error":"#DIV/0!"}]
[4,"  Государственные субсидии (ГСЗН)",{"$nulls":4},0,{"$error":"#DIV/0!"}]
[5,"  Субвенция (ГСЗН)",{"$nulls":4},0,{"$error":"#DIV/0!"}]
[6,"  Прочие источники финансирования",{"$nulls":4},0,{"$error":"#DIV/0!"}]
[]
[null,"7.2. Смета затрат по источникам финансирования подготовительного (инвестиционного) «0» периода:"]
["№ п/п","Направления",{"$nulls":3},"ИТОГО, руб.","Средства субсидии","Собственные средства"]
[]
["Всего:",{"$nulls":4},{"$f":"SUM(F264:F286)","v":0},{"$f":"SUM(G264:G286)","v":0},{"$f":"SUM(H264:H286)","v":0}]
["1.1.","Сырье, материалы",{"$nulls":3},{"$f":"'Приложение 1 (На печать 1)'!B25","v":0},0,{"$f":"F264","v":0}]
["1.2.","Комплектующие",{"$nulls":3},{"$f":"'Приложение 1 (На печать 1)'!B26","v":0},0,{"$f":"F265","v":0}]
["2.1.","Обучение производственного персонала",{"$nulls":3},{"$f":"'Приложение 1 (На печать 1)'!B30","v":0},0,0]
["2.4.","Транспортные расходы для производства",{"$nulls":3},{"$f":"'Приложение 1 (На печать 1)'!B33","v":0},0,0]
["3.2.","Аренда офисных помещений",{"$nulls":3},{"$f":"'Приложение 1 (На печать 1)'!B37","v":0},0,0]
["3.3.","Коммунальные платежи по офисным помещениям ",{"$nulls":3},{"$f":"'Приложение 1 (На печать 1)'!B38","v":0},0,0]
["3.4.","Связь, коммуникации (в т.ч. Интернет)",{"$nulls":3},{"$f":"'Приложение 1 (На печать 1)'!B39","v":0},0,0]
["3.6.","Услуги бухгалтерии (по договору)",{"$nulls":3},{"$f":"'Приложение 1 (На печать 1)'!B41","v":0},0,0]
["3.7.","Услуги банка",{"$nulls":3},{"$f":"'Приложение 1 (На печать 1)'!B42","v":0},0,0]
["3.8.","Услуги прочих сторонних организаций",{"$nulls":3},{"$f":"'Приложение 1 (На печать 1)'!B43","v":0},0,0]
["3.9.","Прочие административные расходы",{"$nulls":3},{"$f":"'Приложение 1 (На печать 1)'!B44","v":0},0,0]
["4.1.","Регистрация предприятия или ИП",{"$nulls":3},{"$f":"'Приложение 1 (На печать 1)'!B48","v":0},0,0]
["4.2.","Патентование продукции",{"$nulls":3},{"$f":"'Приложение 1 (На печать 1)'!B49","v":0},0,0]
["4.3.","Сертификация продукции / услуги",{"$nulls":3},{"$f":"'Приложение 1 (На печать 1)'!B50","v":0},0,0]
["4.4.","Прочие первоначальные затраты",{"$nulls":3},{"$f":"'Приложение 1 (На печать 1)'!B51","v":0},0,0]
["5.1.","Затраты на рекламу",{"$nulls":3},{"$f":"'Приложение 1 (На печать 1)'!B54","v":0},0,0]
["5.2.","Затраты на продвижение продукции ",{"$nulls":3},{"$f":"'Приложение 1 (На печать 1)'!B55","v":0},0,0]
["5.3.","Прочие маркетинговые затраты",{"$nulls":3},{"$f":"'Приложение 1 (На печать 1)'!B56","v":0},0,0]
["8.1.","Приобретение оборудования",{"$nulls":3},{"$f":"'Приложение 1 (На печать 1)'!B65","v":0},{"$f":"'Приложение 1 (На печать 1)'!B11+'Приложение 1 (На печать 1)'!B12","v":0},{"$f":"F282-G282","v":0}]
["8.2.","Приобретение транспортных средств",{"$nulls":3},{"$f":"'Приложение 1 (На печать 1)'!B66","v":0},0,0]
["8.3.","Проведение строительных, ремонтных, монтажных рабо",{"$nulls":3},{"$f":"'Приложение 1 (На печать 1)'!B67","v":0},0,{"$f":"F284-G284","v":0}]
["8.4.","Телефонная линия / Интернет",{"$nulls":3},{"$f":"'Приложение 1 (На печать 1)'!B68","v":0},0,0]
["9.4.","УСНО на основании патента",{"$nulls":3},{"$f":"'Приложение 1 (На печать 1)'!B78","v":0},0,0]
[]
[null,"Налоги"]
["№  п/п","Наименование",null,"Первый год (по кварталам) руб. ",{"$nulls":3},"ИТОГО, руб."]
[{"$nulls":3},{"$f":"$D$19","v":"1 период"},{"$f":"$E$19","v":"2 период"},{"$f":"$F$19","v":"3 период"},{"$f":"$G$19","v":"4 период"}]
["Всего:",null,null,{"$f":"D292+D297","v":0},{"$f":"E292+E297","v":0},{"$f":"F292+F297","v":0},{"$f":"G292+G297","v":0},{"$f":"SUBTOTAL(9,D291:G291)","v":0}]
[null,"Производственные затраты, всего",null,{"$f":"SUM(D293:D296)","v":0},{"$f":"SUM(E293:E296)","v":0},{"$f":"SUM(F293:F296)","v":0},{"$f":"SUM(G293:G296)","v":0},{"$f":"SUM(C292:G292)","v":0}]
[1,"Единый налог (УСНО), 6%",null,{"$f":"Поквартально!C63","v":0},{"$f":"Поквартально!D63","v":0},{"$f":"Поквартально!E63","v":0},{"$f":"Поквартально!F63","v":0},0]
[2,"Единый налог (УСНО), 15%",null,{"$f":"Поквартально!C64","v":0},{"$f":"Поквартально!D64","v":0},{"$f":"Поквартально!E64","v":0},{"$f":"Поквартально!F64","v":0},0]
[3,"ЕНВД",null,{"$f":"Поквартально!C65","v":0},{"$f":"Поквартально!D65","v":0},{"$f":"Поквартально!E65","v":0},{"$f":"Поквартально!F65","v":0},0]
[4,"НДФЛ",null,{"$f":"Поквартально!C66","v":0},{"$f":"Поквартально!D66","v":0},{"$f":"Поквартально!E66","v":0},{"$f":"Поквартально!F66","v":0},0]
[5,"УСНО на основании патента",null,{"$f":"Поквартально!C67","v":0},{"$f":"Поквартально!D67","v":0},{"$f":"Поквартально!E67","v":0},{"$f":"Поквартально!F67","v":0},0]
[6,"Прочие налоги и сборы",null,{"$f":"Поквартально!C68","v":0},{"$f":"Поквартально!D68","v":0},{"$f":"Поквартально!E68","v":0},{"$f":"Поквартально!F68","v":0},0]
[7,"Страховые взносы (за работников)",null,{"$f":"Поквартально!C49","v":0},{"$f":"Поквартально!D49","v":0},{"$f":"Поквартально!E49","v":0},{"$f":"Поквартально!F49","v":0},0]
[8,"Страховые взносы (за ИП)",null,{"$f":"Поквартально!C50","v":0},{"$f":"Поквартально!D50","v":0},{"$f":"Поквартально!E50","v":0},{"$f":"Поквартально!F50","v":0},0]
[9,"Прочие налоги и сборы",null,{"$f":"Поквартально!C51","v":0},{"$f":"Поквартально!D51","v":0},{"$f":"Поквартально!E51","v":0},{"$f":"Поквартально!F51","v":0},0]

{"sheet":"Лист1","index":16,"n_rows":8,"n_cols":6,"rows_kept":8}
[]
[]
[null,null,"Налоги"]
[null,1,"ЕНВД"]
[null,null,"кафе","30 м",{"$f":"1000*90*1.372*0.3","v":37044}]
[null,null,"гостиница","200 м"]
[null,null,"сауна",null,{"$f":"7500*1.5*1.372*0.05","v":771.7500000000001}]
[null,null,"прачечная",null,{"$f":"7500*1.5*1.372*0.17","v":2623.9500000000003},{"$f":"E8*15%","v":393.59250000000003}]